Convert-MRC v4.03 Perl 5 v5.16.3 x86_64-linux-ld

Status
Pass
From
Andreas J. König (ANDK)
Dist
Convert-MRC v4.03
Platform
Perl 5 v5.16.3 x86_64-linux-ld
Date
2017-12-06 06:02:14
ID
01e8b0f6-da4b-11e7-90ff-1ca98e94d71a
This distribution has been tested as part of the CPAN Testers
project, supporting the Perl programming language.  See
http://wiki.cpantesters.org/ for more information or email
questions to cpan-testers-discuss@perl.org


--
Dear BYU TRG,

This is a computer-generated report for Convert-MRC-4.03
on perl 5.16.3, created by CPAN-Reporter-1.2018.

Thank you for uploading your work to CPAN.  Congratulations!
All tests were successful.

Sections of this report:

    * Tester comments
    * Program output
    * Prerequisites
    * Environment and other context

------------------------------
TESTER COMMENTS
------------------------------

Additional comments from tester:

this report is from an automated smoke testing program
and was not reviewed by a human for accuracy

------------------------------
PROGRAM OUTPUT
------------------------------

Output from '/usr/bin/make test':

PERL_DL_NONLAZY=1 "/home/sand/src/perl/repoperls/installed-perls/host/k93msid/v5.16.3/2d7c/bin/perl" "-MExtUtils::Command::MM" "-MTest::Harness" "-e" "undef *Test::Harness::Switches; test_harness(0, 'blib/lib', 'blib/arch')" t/*.t
t/0-use.t ..................... ok
t/00-compile.t ................ ok
# I"m in Tiny.pm right now
# 
# open: Not enough arguments for open at (eval 95) line 1, at EOF
# 
# Generated by Dist::Zilla::Plugin::ReportVersions::Tiny v1.08
# perl: 5.016003 (wanted 5.008) on linux from /home/sand/src/perl/repoperls/installed-perls/host/k93msid/v5.16.3/2d7c/bin/perl
# 
# Carp                                          => 1.38       (want any version)
# Data::Dumper                                  => 2.161      (want any version)
# Data::Section::Simple                         => 0.07       (want any version)
# English                                       => 1.05       (want any version)
# Exporter                                      => 5.72       (want any version)
# File::Find                                    => 1.20       (want any version)
# File::Slurp                                   => 9999.19    (want any version)
# File::Spec::Functions                         => 3.62       (want any version)
# File::Temp                                    => 0.2304     (want any version)
# File::Touch                                   => 0.11       (want any version)
# FindBin                                       => 1.51       (want any version)
# Log::Message::Simple                          => 0.08       (want any version)
# Module::Build                                 => 0.4224     (want 0.3601) 
# Pod::Coverage::TrustPod                       => 0.100003   (want any version)
# Test::Base                                    => 0.88       (want any version)
# Test::Base::Filter                            => <undef>    (want any version)
# Test::CPAN::Meta                              => 0.25       (want any version)
# Test::LongString                              => 0.17       (want any version)
# Test::More                                    => 1.302118   (want 0.96)   
# Test::Pod                                     => 1.51       (want 1.41)   
# Test::Pod::Coverage                           => 1.10       (want 1.08)   
# Test::XML                                     => 0.08       (want any version)
# autodie                                       => 2.29       (want any version)
# base                                          => 2.18       (want any version)
# open                                          => died during require. (want any version)
# strict                                        => 1.07       (want any version)
# version                                       => 0.9918     (want 0.9901) 
# warnings                                      => 1.13       (want any version)
# 
# Thanks for using my code.  I hope it works for you.
# If not, please try and include this output in the bug report.
# That will help me reproduce the issue and solve your problem.
# 
t/000-report-versions-tiny.t .. ok
t/01-correct_example.t ........ ok
See log -- processing could not be completed.
 at t/TestMRCConverter.pm line 39.
The input MRC is missing a line beginning with =MRCTermTable. You must include such a line to switch on the TBX converter -- all preceding material is ignored. at t/TestMRCConverter.pm line 39.
See log -- processing could not be completed.
 at t/TestMRCConverter.pm line 39.
See log -- processing could not be completed.
 at t/TestMRCConverter.pm line 39.
See log -- processing could not be completed.
 at t/TestMRCConverter.pm line 39.
t/02-errors.t ................. ok
t/03-batch.t .................. ok
t/04-values.t ................. ok
t/05-script.t ................. ok
All tests successful.
Files=8, Tests=98,  6 wallclock secs ( 0.04 usr  0.05 sys +  1.60 cusr  0.33 csys =  2.02 CPU)
Result: PASS

------------------------------
PREREQUISITES
------------------------------

Prerequisite modules loaded:

requires:

    Module                Need   Have    
    --------------------- ------ --------
    base                  0      2.18    
    Carp                  0      1.38    
    Data::Dumper          0      2.161   
    English               0      1.05    
    Exporter              0      5.72    
    Log::Message::Simple  0      0.08    
    open                  0      1.10    
    strict                0      1.07    
    warnings              0      1.13    

build_requires:

    Module                Need   Have    
    --------------------- ------ --------
    autodie               0      2.29    
    Data::Section::Simple 0      0.07    
    File::Find            0      1.20    
    File::Slurp           0      9999.19 
    File::Spec::Functions 0      3.62    
    File::Temp            0      0.2304  
    File::Touch           0      0.11    
    FindBin               0      1.51    
    Module::Build         0.3601 0.4224  
    Test::Base            0      0.88    
    Test::Base::Filter    0      0       
    Test::LongString      0      0.17    
    Test::More            0.96   1.302118
    Test::XML             0      0.08    

configure_requires:

    Module                Need   Have    
    --------------------- ------ --------
    Module::Build         0.3601 0.4224  


------------------------------
ENVIRONMENT AND OTHER CONTEXT
------------------------------

Environment variables:

    AUTOMATED_TESTING = 1
    LANG = en_US.UTF-8
    PATH = /home/sand/bin:/usr/local/bin:/usr/bin:/bin:/usr/games:/usr/local/perl/bin:/usr/X11/bin:/sbin:/usr/sbin
    PERL5LIB = 
    PERL5OPT = 
    PERL5_CPANPLUS_IS_RUNNING = 16455
    PERL5_CPAN_IS_RUNNING = 16455
    PERL5_CPAN_IS_RUNNING_IN_RECURSION = 8141,16455
    PERL_CANARY_STABILITY_NOPROMPT = 1
    PERL_MM_USE_DEFAULT = 1
    PERL_USE_UNSAFE_INC = 1
    SHELL = /usr/bin/zsh
    TERM = screen

Perl special variables (and OS-specific diagnostics, for MSWin32):

    $^X = /home/sand/src/perl/repoperls/installed-perls/host/k93msid/v5.16.3/2d7c/bin/perl
    $UID/$EUID = 1005 / 1005
    $GID = 1005 1005
    $EGID = 1005 1005

Perl module toolchain versions installed:

    Module              Have    
    ------------------- --------
    CPAN                2.19    
    CPAN::Meta          2.150010
    Cwd                 3.62    
    ExtUtils::CBuilder  0.280229
    ExtUtils::Command   7.30    
    ExtUtils::Install   2.06    
    ExtUtils::MakeMaker 7.30    
    ExtUtils::Manifest  1.70    
    ExtUtils::ParseXS   3.35    
    File::Spec          3.62    
    JSON                2.97000 
    JSON::PP            2.96    
    Module::Build       0.4224  
    Module::Signature   0.81    
    Parse::CPAN::Meta   2.150010
    Test::Harness       3.39    
    Test::More          1.302118
    YAML                1.24    
    YAML::Syck          1.30    
    version             0.9918  


--

Summary of my perl5 (revision 5 version 16 subversion 3) configuration:
  Derived from: fd04d42d38f4751b981eb6e9213ee1ab8ef11ea6
  Platform:
    osname=linux, osvers=4.12.0-2-amd64, archname=x86_64-linux-ld
    uname='linux k93msid 4.12.0-2-amd64 #1 smp debian 4.12.13-1 (2017-09-19) x86_64 gnulinux '
    config_args='-Dprefix=/home/sand/src/perl/repoperls/installed-perls/host/k93msid/v5.16.3/2d7c -Dmyhostname=k93msid -Dinstallusrbinperl=n -Uversiononly -Dusedevel -des -Ui_db -Dlibswanted=cl pthread socket inet nsl gdbm dbm malloc dl ld sun m crypt sec util c cposix posix ucb BSD gdbm_compat -Uuseithreads -Duselongdouble -DDEBUGGING=-g'
    hint=recommended, useposix=true, d_sigaction=define
    useithreads=undef, usemultiplicity=undef
    useperlio=define, d_sfio=undef, uselargefiles=define, usesocks=undef
    use64bitint=define, use64bitall=define, uselongdouble=define
    usemymalloc=n, bincompat5005=undef
  Compiler:
    cc='cc', ccflags ='-fno-strict-aliasing -pipe -fstack-protector -I/usr/local/include -D_LARGEFILE_SOURCE -D_FILE_OFFSET_BITS=64',
    optimize='-O2 -g',
    cppflags='-fno-strict-aliasing -pipe -fstack-protector -I/usr/local/include'
    ccversion='', gccversion='7.2.0', gccosandvers=''
    intsize=4, longsize=8, ptrsize=8, doublesize=8, byteorder=12345678
    d_longlong=define, longlongsize=8, d_longdbl=define, longdblsize=16
    ivtype='long', ivsize=8, nvtype='long double', nvsize=16, Off_t='off_t', lseeksize=8
    alignbytes=16, prototype=define
  Linker and Libraries:
    ld='cc', ldflags =' -fstack-protector -L/usr/local/lib'
    libpth=/usr/local/lib /lib/x86_64-linux-gnu /lib/../lib /usr/lib/x86_64-linux-gnu /usr/lib/../lib /lib /usr/lib
    libs=-lpthread -lnsl -ldl -lm -lcrypt -lutil -lc
    perllibs=-lpthread -lnsl -ldl -lm -lcrypt -lutil -lc
    libc=libc-2.24.so, so=so, useshrplib=false, libperl=libperl.a
    gnulibc_version='2.24'
  Dynamic Linking:
    dlsrc=dl_dlopen.xs, dlext=so, d_dlsymun=undef, ccdlflags='-Wl,-E'
    cccdlflags='-fPIC', lddlflags='-shared -O2 -g -L/usr/local/lib -fstack-protector'


Characteristics of this binary (from libperl): 
  Compile-time options: HAS_TIMES PERLIO_LAYERS PERL_DONT_CREATE_GVSV
                        PERL_MALLOC_WRAP PERL_PRESERVE_IVUV PERL_USE_DEVEL
                        USE_64_BIT_ALL USE_64_BIT_INT USE_LARGE_FILES
                        USE_LOCALE USE_LOCALE_COLLATE USE_LOCALE_CTYPE
                        USE_LOCALE_NUMERIC USE_LONG_DOUBLE USE_PERLIO
                        USE_PERL_ATOF
  Locally applied patches:
	uncommitted-changes
  Built under linux
  Compiled at Oct  3 2017 14:05:36
  %ENV:
    PERL5LIB=""
    PERL5OPT=""
    PERL5_CPANPLUS_IS_RUNNING="16455"
    PERL5_CPAN_IS_RUNNING="16455"
    PERL5_CPAN_IS_RUNNING_IN_RECURSION="8141,16455"
    PERL_CANARY_STABILITY_NOPROMPT="1"
    PERL_MM_USE_DEFAULT="1"
    PERL_USE_UNSAFE_INC="1"
  @INC:
    /home/sand/src/perl/repoperls/installed-perls/host/k93msid/v5.16.3/2d7c/lib/site_perl/5.16.3/x86_64-linux-ld
    /home/sand/src/perl/repoperls/installed-perls/host/k93msid/v5.16.3/2d7c/lib/site_perl/5.16.3
    /home/sand/src/perl/repoperls/installed-perls/host/k93msid/v5.16.3/2d7c/lib/5.16.3/x86_64-linux-ld
    /home/sand/src/perl/repoperls/installed-perls/host/k93msid/v5.16.3/2d7c/lib/5.16.3
    .