CatalystX-SimpleLogin v0.21 Perl 5 v5.35.8 x86_64-linux

Status
Pass
From
Carlos Guevara
Dist
CatalystX-SimpleLogin v0.21
Platform
Perl 5 v5.35.8 x86_64-linux
Date
2022-01-10 23:42:44
ID
01e33a16-726f-11ec-af0b-09a93d6e88b3
This distribution has been tested as part of the CPAN Testers
project, supporting the Perl programming language.  See
http://wiki.cpantesters.org/ for more information or email
questions to cpan-testers-discuss@perl.org


--
Dear Alexander Hartmaier,

This is a computer-generated report for CatalystX-SimpleLogin-0.21
on perl 5.35.8, created by CPAN-Reporter-1.2018.

Thank you for uploading your work to CPAN.  Congratulations!
All tests were successful.

Sections of this report:

    * Tester comments
    * Program output
    * Prerequisites
    * Environment and other context

------------------------------
TESTER COMMENTS
------------------------------

Additional comments from tester:

this report is from an automated smoke testing program
and was not reviewed by a human for accuracy

------------------------------
PROGRAM OUTPUT
------------------------------

Output from '/usr/bin/make test':

PERL_DL_NONLAZY=1 "/home/cpan/bin/perl-blead/bin/perl5.35.8" "-MExtUtils::Command::MM" "-MTest::Harness" "-e" "undef *Test::Harness::Switches; test_harness(0, 'inc', 'blib/lib', 'blib/arch')" t/*.t
t/00-load.t ........................... ok
[warn] Attempted to use view 'TestApp::View::HTML', but does not exist
t/01-live-test.t ...................... ok
[warn] Attempted to use view 'TestAppRedirect::View::HTML', but does not exist
t/02-redirect-test.t .................. ok
t/03-login-form.t ..................... ok
[warn] Attempted to use view 'TestAppRedirect::View::HTML', but does not exist
t/04-test-role-apply-order.t .......... ok
[warn] Attempted to use view 'TestAppRedirect::View::HTML', but does not exist
t/05-login-redirect-custom-message.t .. ok
[warn] Attempted to use view 'TestAppRenderTT::View::HTML', but does not exist
t/06-rendertt.t ....................... ok
t/07-openid-live.t .................... skipped: OpenID dependencies not installed
t/08-dbic-mappedfields.t .............. skipped: Test needs JSON::Any >= 1.23, MooseX::Types::JSON >= 0.02 (see DBIx::Class::Optional::Dependencies for details)
[warn] Attempted to use view 'TestAppClearSession::View::HTML', but does not exist
t/09-clearsession.t ................... ok
[warn] Attempted to use view 'TestAppFormArgs::View::HTML', but does not exist
t/10-form-args.t ...................... ok
[warn] Attempted to use view 'TestApp::View::HTML', but does not exist
t/chained_parts.t ..................... ok
All tests successful.
Files=12, Tests=100, 22 wallclock secs ( 0.07 usr  0.03 sys + 18.29 cusr  3.23 csys = 21.62 CPU)
Result: PASS

------------------------------
PREREQUISITES
------------------------------

Prerequisite modules loaded:

requires:

    Module                                   Need    Have    
    ---------------------------------------- ------- --------
    Catalyst::Action::RenderView             0       0.16    
    Catalyst::Action::REST                   0.74    1.21    
    Catalyst::ActionRole::ACL                0       0.07    
    Catalyst::Plugin::Authentication         0       0.10023 
    Catalyst::Plugin::Session                0.35    0.41    
    Catalyst::Plugin::Session::State::Cookie 0       0.18    
    Catalyst::Runtime                        5.80013 5.90128 
    Catalyst::View::TT                       0       0.45    
    CatalystX::Component::Traits             0.13    0.19    
    CatalystX::InjectComponent               0       0.025   
    Class::Load                              0.20    0.25    
    File::Temp                               0       0.2311  
    HTML::FormHandler                        0.28001 0.40068 
    HTTP::Request::Common                    0       6.36    
    Moose                                    0       2.2201  
    MooseX::MethodAttributes                 0.18    0.32    
    MooseX::RelatedClassRoles                0.004   0.004   
    MooseX::Types                            0       0.50    
    MooseX::Types::Common                    0       0.001014
    namespace::autoclean                     0       0.29    
    SQL::Translator                          0       1.62    
    Test::Exception                          0       0.43    
    Test::More                               0.94    1.302188
    Try::Tiny                                0.24    0.31    

build_requires:

    Module                                   Need    Have    
    ---------------------------------------- ------- --------
    Catalyst::Action::RenderView             0       0.16    
    Catalyst::ActionRole::ACL                0       0.07    
    Catalyst::Plugin::Session::State::Cookie 0       0.18    
    CatalystX::InjectComponent               0       0.025   
    Class::Load                              0.20    0.25    
    ExtUtils::MakeMaker                      6.36    7.64    
    File::Temp                               0       0.2311  
    HTTP::Request::Common                    0       6.36    
    SQL::Translator                          0       1.62    
    Test::Exception                          0       0.43    
    Test::More                               0.94    1.302188

configure_requires:

    Module                                   Need    Have    
    ---------------------------------------- ------- --------
    ExtUtils::MakeMaker                      6.36    7.64    


------------------------------
ENVIRONMENT AND OTHER CONTEXT
------------------------------

Environment variables:

    AUTOMATED_TESTING = 1
    DATE_MANIP_TEST_DM5 = 1
    LANG = en_US.UTF-8
    LC_ALL = C
    NONINTERACTIVE_TESTING = 1
    PATH = /home/cpan/bin/perl-blead/bin:/home/cpan/bin:/home/cpan/bin:/usr/local/bin:/usr/bin:/usr/local/sbin:/usr/sbin
    PERL5LIB = 
    PERL5OPT = 
    PERL5_CPANPLUS_IS_RUNNING = 187971
    PERL5_CPAN_IS_RUNNING = 187971
    PERL_MM_USE_DEFAULT = 1
    PERL_USE_UNSAFE_INC = 1
    PERL_VERSION = blead
    SHELL = /bin/bash
    TERM = screen
    TMPDIR = /home/cpan/tmp

Perl special variables (and OS-specific diagnostics, for MSWin32):

    $^X = /home/cpan/bin/perl-blead/bin/perl5.35.8
    $UID/$EUID = 1001 / 1001
    $GID = 1001 1001
    $EGID = 1001 1001

Perl module toolchain versions installed:

    Module              Have    
    ------------------- --------
    CPAN                2.29    
    CPAN::Meta          2.150010
    Cwd                 3.83    
    ExtUtils::CBuilder  0.280236
    ExtUtils::Command   7.64    
    ExtUtils::Install   2.20    
    ExtUtils::MakeMaker 7.64    
    ExtUtils::Manifest  1.73    
    ExtUtils::ParseXS   3.44    
    File::Spec          3.83    
    JSON                4.04    
    JSON::PP            4.07    
    Module::Build       0.4231  
    Module::Signature   n/a     
    Parse::CPAN::Meta   2.150010
    Test::Harness       3.43    
    Test::More          1.302188
    YAML                1.30    
    YAML::Syck          1.34    
    version             0.9929  


--

Summary of my perl5 (revision 5 version 35 subversion 8) configuration:
  Commit id: be28068dd2d6bae59706012a474d0020630861c7
  Platform:
    osname=linux
    osvers=5.15.12-200.fc35.x86_64
    archname=x86_64-linux
    uname='linux cjg-fedora35 5.15.12-200.fc35.x86_64 #1 smp wed dec 29 15:03:38 utc 2021 x86_64 x86_64 x86_64 gnulinux '
    config_args='-des -Dprefix=~/bin/perl-blead -Dscriptdir=~/bin/perl-blead/bin -Dusedevel -Duse64bitall'
    hint=recommended
    useposix=true
    d_sigaction=define
    useithreads=undef
    usemultiplicity=undef
    use64bitint=define
    use64bitall=define
    uselongdouble=undef
    usemymalloc=n
    default_inc_excludes_dot=define
  Compiler:
    cc='cc'
    ccflags ='-fwrapv -fno-strict-aliasing -pipe -fstack-protector-strong -I/usr/local/include -D_LARGEFILE_SOURCE -D_FILE_OFFSET_BITS=64 -D_FORTIFY_SOURCE=2'
    optimize='-O2'
    cppflags='-fwrapv -fno-strict-aliasing -pipe -fstack-protector-strong -I/usr/local/include'
    ccversion=''
    gccversion='11.2.1 20211203 (Red Hat 11.2.1-7)'
    gccosandvers=''
    intsize=4
    longsize=8
    ptrsize=8
    doublesize=8
    byteorder=12345678
    doublekind=3
    d_longlong=define
    longlongsize=8
    d_longdbl=define
    longdblsize=16
    longdblkind=3
    ivtype='long'
    ivsize=8
    nvtype='double'
    nvsize=8
    Off_t='off_t'
    lseeksize=8
    alignbytes=8
    prototype=define
  Linker and Libraries:
    ld='cc'
    ldflags =' -fstack-protector-strong -L/usr/local/lib'
    libpth=/usr/local/lib /usr/lib /usr/lib64 /usr/local/lib64
    libs=-lpthread -ldb -ldl -lm -lcrypt -lutil -lc
    perllibs=-lpthread -ldl -lm -lcrypt -lutil -lc
    libc=/lib/../lib64/libc.so.6
    so=so
    useshrplib=false
    libperl=libperl.a
    gnulibc_version='2.34'
  Dynamic Linking:
    dlsrc=dl_dlopen.xs
    dlext=so
    d_dlsymun=undef
    ccdlflags='-Wl,-E'
    cccdlflags='-fPIC'
    lddlflags='-shared -O2 -L/usr/local/lib -fstack-protector-strong'


Characteristics of this binary (from libperl): 
  Compile-time options:
    HAS_TIMES
    PERLIO_LAYERS
    PERL_COPY_ON_WRITE
    PERL_DONT_CREATE_GVSV
    PERL_MALLOC_WRAP
    PERL_OP_PARENT
    PERL_PRESERVE_IVUV
    PERL_USE_DEVEL
    USE_64_BIT_ALL
    USE_64_BIT_INT
    USE_LARGE_FILES
    USE_LOCALE
    USE_LOCALE_COLLATE
    USE_LOCALE_CTYPE
    USE_LOCALE_NUMERIC
    USE_LOCALE_TIME
    USE_PERLIO
    USE_PERL_ATOF
  Built under linux
  Compiled at Jan 10 2022 12:42:27
  %ENV:
    PERL5LIB=""
    PERL5OPT=""
    PERL5_CPANPLUS_IS_RUNNING="187971"
    PERL5_CPAN_IS_RUNNING="187971"
    PERL_MM_USE_DEFAULT="1"
    PERL_USE_UNSAFE_INC="1"
    PERL_VERSION="blead"
  @INC:
    /home/cpan/bin/perl-blead/lib/site_perl/5.35.8/x86_64-linux
    /home/cpan/bin/perl-blead/lib/site_perl/5.35.8
    /home/cpan/bin/perl-blead/lib/5.35.8/x86_64-linux
    /home/cpan/bin/perl-blead/lib/5.35.8
    .