Art-World v0.18_14 Perl 5 v5.24.4 x86_64-linux

Status
Pass
From
Slaven Rezić
Dist
Art-World v0.18_14
Platform
Perl 5 v5.24.4 x86_64-linux
Date
2021-03-18T18:44:44
ID
01d5b39a-881a-11eb-91eb-171d1f24ea8f
This distribution has been tested as part of the CPAN Testers
project, supporting the Perl programming language.  See
http://wiki.cpantesters.org/ for more information or email
questions to cpan-testers-discuss@perl.org


--
Dear Sebastien Feugere,

This is a computer-generated report for Art-World-0.18_14
on perl 5.24.4, created by CPAN-Reporter-1.2018.

Thank you for uploading your work to CPAN.  Congratulations!
All tests were successful.

Sections of this report:

    * Tester comments
    * Program output
    * Prerequisites
    * Environment and other context

------------------------------
TESTER COMMENTS
------------------------------

Additional comments from tester:

none provided

------------------------------
PROGRAM OUTPUT
------------------------------

Output from './Build test':

t/00_pod.t ............ ok
t/01_basic.t .......... ok
t/02_abstraction.t .... ok
t/03_agent.t .......... ok
t/04_artist.t ......... ok
t/05_collector.t ...... ok
t/06_public.t ......... ok
t/07_manager.t ........ ok
t/11_artwork.t ........ ok
t/12_place.t .......... ok
# This is a very nice Incentivize Streamline Scale
t/14_exhibition.t ..... ok
t/15_gallery.t ........ ok
# illum qui eum veniam et sint et eius est aut.
# 2020-02-16T08:18:43
# Walshchester
# Red wine, White wine, Peanuts, Candies
t/16_opening.t ........ ok
t/20_crud.t ........... ok
t/30_introspection.t .. ok
t/40_concept.t ........ ok
# Error messages displayed during tests are part of the testing process
You tried to update reputation to a value smaller than zero. Nothing changed. at t/50_fame.t line 42.
# Can't locate object method "aura" via package "Art::World::Artist" at t/50_fame.t line 48.
# Can't locate object method "reputation" via package "Art::World::Artwork" at t/50_fame.t line 93.
t/50_fame.t ........... ok
All tests successful.
Files=17, Tests=206, 53 wallclock secs ( 0.04 usr  0.16 sys + 43.34 cusr  8.10 csys = 51.64 CPU)
Result: PASS

------------------------------
PREREQUISITES
------------------------------

Prerequisite modules loaded:

requires:

    Module               Need        Have    
    -------------------- ----------- --------
    Config::Tiny         == 2.26     2.26    
    Data::Printer        == 1.000004 1.000004
    DBD::SQLite          == 1.66     1.66    
    DBI                  == 1.643    1.643   
    Faker                == 1.04     1.04    
    Math::Round          == 0.07     0.07    
    PadWalker            == 2.5      2.5     
    perl                 v5.20.0     5.024004
    Syntax::Keyword::Try == 0.21     0.21    
    Teng                 == 0.32     0.32    
    Type::Tiny           == 1.012001 1.012001
    Type::Tiny::XS       == 0.022    0.022   
    Types::XSD           == 0.007    0.007   
    Zydeco               == 0.613    0.613   

build_requires:

    Module               Need        Have    
    -------------------- ----------- --------
    DateTimeX::Auto      == 0.009    0.009   
    Path::Tiny           == 0.118    0.118   
    Test::Pod            == 1.52     1.52    

configure_requires:

    Module               Need        Have    
    -------------------- ----------- --------
    Module::Build::Tiny  0.034       0.039   


------------------------------
ENVIRONMENT AND OTHER CONTEXT
------------------------------

Environment variables:

    LANG = en_US.UTF-8
    PATH = /usr/local/bin:/usr/bin:/bin:/usr/local/sbin:/usr/sbin:/sbin:/home/cpansand/bin/linux-gnu:/home/cpansand/bin/sh:/home/cpansand/bin:/usr/games:/home/cpansand/devel:/home/eserte/src/srezic-misc/scripts
    PERL5LIB = /home/cpansand/.cpan/build/2021031817/Types-XSD-0.007-0/blib/arch:/home/cpansand/.cpan/build/2021031817/Types-XSD-0.007-0/blib/lib:/home/cpansand/.cpan/build/2021031817/Types-XSD-Lite-0.006-0/blib/arch:/home/cpansand/.cpan/build/2021031817/Types-XSD-Lite-0.006-0/blib/lib:/home/cpansand/.cpan/build/2021031817/Teng-0.32-0/blib/arch:/home/cpansand/.cpan/build/2021031817/Teng-0.32-0/blib/lib:/home/cpansand/.cpan/build/2021031817/Data-Page-NoTotalEntries-0.02-0/blib/arch:/home/cpansand/.cpan/build/2021031817/Data-Page-NoTotalEntries-0.02-0/blib/lib:/home/cpansand/.cpan/build/2021031817/Path-Tiny-0.118-0/blib/arch:/home/cpansand/.cpan/build/2021031817/Path-Tiny-0.118-0/blib/lib:/home/cpansand/.cpan/build/2021031817/Data-Printer-1.000004-0/blib/arch:/home/cpansand/.cpan/build/2021031817/Data-Printer-1.000004-0/blib/lib
    PERL5OPT = 
    PERL5_CPANPLUS_IS_RUNNING = 32353
    PERL5_CPAN_IS_RUNNING = 32353
    PERL5_CPAN_IS_RUNNING_IN_RECURSION = 28513,32353
    PERLDOC = -MPod::Perldoc::ToTextOverstrike
    PERL_BATCH = yes
    PERL_CANARY_STABILITY_NOPROMPT = 1
    PERL_CPAN_REPORTER_CONFIG = /var/tmp/cpansmoker-1023/2021031817/cpanreporter_000_config.ini
    PERL_EXTUTILS_AUTOINSTALL = --defaultdeps
    PERL_USE_UNSAFE_INC = 1
    SHELL = /usr/bin/zsh
    TERM = screen
    TMPDIR = /var/tmp/cpansmoker-1023/2021031817

Perl special variables (and OS-specific diagnostics, for MSWin32):

    $^X = /opt/perl-5.24.4/bin/perl
    $UID/$EUID = 1023 / 1023
    $GID = 1023 1023
    $EGID = 1023 1023

Perl module toolchain versions installed:

    Module              Have    
    ------------------- --------
    CPAN                2.28    
    CPAN::Meta          2.150010
    Cwd                 3.75    
    ExtUtils::CBuilder  0.280235
    ExtUtils::Command   7.58    
    ExtUtils::Install   2.20    
    ExtUtils::MakeMaker 7.58    
    ExtUtils::Manifest  1.70    
    ExtUtils::ParseXS   3.35    
    File::Spec          3.75    
    JSON                4.03    
    JSON::PP            4.06    
    Module::Build       0.4231  
    Module::Signature   0.87    
    Parse::CPAN::Meta   2.150010
    Test::Harness       3.42    
    Test::More          1.302183
    YAML                1.30    
    YAML::Syck          1.34    
    version             0.9916  


--

Summary of my perl5 (revision 5 version 24 subversion 4) configuration:
   
  Platform:
    osname=linux, osvers=4.4.0-157-generic, archname=x86_64-linux
    uname='linux ubuntu16 4.4.0-157-generic #185-ubuntu smp tue jul 23 09:17:01 utc 2019 x86_64 x86_64 x86_64 gnulinux '
    config_args='-ds -e -Dprefix=/opt/perl-5.24.4 -Dcf_email=srezic@cpan.org'
    hint=recommended, useposix=true, d_sigaction=define
    useithreads=undef, usemultiplicity=undef
    use64bitint=define, use64bitall=define, uselongdouble=undef
    usemymalloc=n, bincompat5005=undef
  Compiler:
    cc='cc', ccflags ='-fwrapv -fno-strict-aliasing -pipe -fstack-protector-strong -I/usr/local/include -D_LARGEFILE_SOURCE -D_FILE_OFFSET_BITS=64',
    optimize='-O2',
    cppflags='-fwrapv -fno-strict-aliasing -pipe -fstack-protector-strong -I/usr/local/include'
    ccversion='', gccversion='5.4.0 20160609', gccosandvers=''
    intsize=4, longsize=8, ptrsize=8, doublesize=8, byteorder=12345678, doublekind=3
    d_longlong=define, longlongsize=8, d_longdbl=define, longdblsize=16, longdblkind=3
    ivtype='long', ivsize=8, nvtype='double', nvsize=8, Off_t='off_t', lseeksize=8
    alignbytes=8, prototype=define
  Linker and Libraries:
    ld='cc', ldflags =' -fstack-protector-strong -L/usr/local/lib'
    libpth=/usr/local/lib /usr/lib/gcc/x86_64-linux-gnu/5/include-fixed /usr/include/x86_64-linux-gnu /usr/lib /lib/x86_64-linux-gnu /lib/../lib /usr/lib/x86_64-linux-gnu /usr/lib/../lib /lib
    libs=-lpthread -lnsl -ldb -ldl -lm -lcrypt -lutil -lc
    perllibs=-lpthread -lnsl -ldl -lm -lcrypt -lutil -lc
    libc=libc-2.23.so, so=so, useshrplib=false, libperl=libperl.a
    gnulibc_version='2.23'
  Dynamic Linking:
    dlsrc=dl_dlopen.xs, dlext=so, d_dlsymun=undef, ccdlflags='-Wl,-E'
    cccdlflags='-fPIC', lddlflags='-shared -O2 -L/usr/local/lib -fstack-protector-strong'


Characteristics of this binary (from libperl): 
  Compile-time options: HAS_TIMES PERLIO_LAYERS PERL_COPY_ON_WRITE
                        PERL_DONT_CREATE_GVSV
                        PERL_HASH_FUNC_ONE_AT_A_TIME_HARD PERL_MALLOC_WRAP
                        PERL_PRESERVE_IVUV USE_64_BIT_ALL USE_64_BIT_INT
                        USE_LARGE_FILES USE_LOCALE USE_LOCALE_COLLATE
                        USE_LOCALE_CTYPE USE_LOCALE_NUMERIC USE_LOCALE_TIME
                        USE_PERLIO USE_PERL_ATOF
  Built under linux
  Compiled at Aug  6 2019 17:24:30
  %ENV:
    PERL5LIB="/home/cpansand/.cpan/build/2021031817/Types-XSD-0.007-0/blib/arch:/home/cpansand/.cpan/build/2021031817/Types-XSD-0.007-0/blib/lib:/home/cpansand/.cpan/build/2021031817/Types-XSD-Lite-0.006-0/blib/arch:/home/cpansand/.cpan/build/2021031817/Types-XSD-Lite-0.006-0/blib/lib:/home/cpansand/.cpan/build/2021031817/Teng-0.32-0/blib/arch:/home/cpansand/.cpan/build/2021031817/Teng-0.32-0/blib/lib:/home/cpansand/.cpan/build/2021031817/Data-Page-NoTotalEntries-0.02-0/blib/arch:/home/cpansand/.cpan/build/2021031817/Data-Page-NoTotalEntries-0.02-0/blib/lib:/home/cpansand/.cpan/build/2021031817/Path-Tiny-0.118-0/blib/arch:/home/cpansand/.cpan/build/2021031817/Path-Tiny-0.118-0/blib/lib:/home/cpansand/.cpan/build/2021031817/Data-Printer-1.000004-0/blib/arch:/home/cpansand/.cpan/build/2021031817/Data-Printer-1.000004-0/blib/lib"
    PERL5OPT=""
    PERL5_CPANPLUS_IS_RUNNING="32353"
    PERL5_CPAN_IS_RUNNING="32353"
    PERL5_CPAN_IS_RUNNING_IN_RECURSION="28513,32353"
    PERLDOC="-MPod::Perldoc::ToTextOverstrike"
    PERL_BATCH="yes"
    PERL_CANARY_STABILITY_NOPROMPT="1"
    PERL_CPAN_REPORTER_CONFIG="/var/tmp/cpansmoker-1023/2021031817/cpanreporter_000_config.ini"
    PERL_EXTUTILS_AUTOINSTALL="--defaultdeps"
    PERL_USE_UNSAFE_INC="1"
  @INC:
    /home/cpansand/.cpan/build/2021031817/Types-XSD-0.007-0/blib/arch
    /home/cpansand/.cpan/build/2021031817/Types-XSD-0.007-0/blib/lib
    /home/cpansand/.cpan/build/2021031817/Types-XSD-Lite-0.006-0/blib/arch
    /home/cpansand/.cpan/build/2021031817/Types-XSD-Lite-0.006-0/blib/lib
    /home/cpansand/.cpan/build/2021031817/Teng-0.32-0/blib/arch
    /home/cpansand/.cpan/build/2021031817/Teng-0.32-0/blib/lib
    /home/cpansand/.cpan/build/2021031817/Data-Page-NoTotalEntries-0.02-0/blib/arch
    /home/cpansand/.cpan/build/2021031817/Data-Page-NoTotalEntries-0.02-0/blib/lib
    /home/cpansand/.cpan/build/2021031817/Path-Tiny-0.118-0/blib/arch
    /home/cpansand/.cpan/build/2021031817/Path-Tiny-0.118-0/blib/lib
    /home/cpansand/.cpan/build/2021031817/Data-Printer-1.000004-0/blib/arch
    /home/cpansand/.cpan/build/2021031817/Data-Printer-1.000004-0/blib/lib
    /opt/perl-5.24.4/lib/site_perl/5.24.4/x86_64-linux
    /opt/perl-5.24.4/lib/site_perl/5.24.4
    /opt/perl-5.24.4/lib/5.24.4/x86_64-linux
    /opt/perl-5.24.4/lib/5.24.4
    .