HTML-FormFu-Model-DBIC v2.00 Perl 5 v5.22.1 RC4 x86_64-linux

Status
Pass
From
Slaven Rezić (SREZIC)
Dist
HTML-FormFu-Model-DBIC v2.00
Platform
Perl 5 v5.22.1 RC4 x86_64-linux
Date
2015-12-09 19:28:21
ID
01ce0a04-9eab-11e5-b7a0-00c8dfbfc7aa
This distribution has been tested as part of the CPAN Testers
project, supporting the Perl programming language.  See
http://wiki.cpantesters.org/ for more information or email
questions to cpan-testers-discuss@perl.org


--
Dear Carl Franks,

This is a computer-generated report for HTML-FormFu-Model-DBIC-2.00
on perl 5.22.1, created by CPAN-Reporter-1.2015.

Thank you for uploading your work to CPAN.  Congratulations!
All tests were successful.

Sections of this report:

    * Tester comments
    * Program output
    * Prerequisites
    * Environment and other context

------------------------------
TESTER COMMENTS
------------------------------

Additional comments from tester:

none provided

------------------------------
PROGRAM OUTPUT
------------------------------

Output from '/usr/bin/make test':

PERL_DL_NONLAZY=1 "/bbbike/perl-5.22.1-RC4/bin/perl" "-MExtUtils::Command::MM" "-MTest::Harness" "-e" "undef *Test::Harness::Switches; test_harness(0, 'blib/lib', 'blib/arch')" t/constraints/*.t t/create/*.t t/default_values/*.t t/options_from_model/*.t t/update/*.t t/x_roundtrip/*.t
t/constraints/dbic_unique.t ................................... ok
t/constraints/dbic_unique_repeatable_id_field.t ............... ok
t/create/basic.t .............................................. ok
t/default_values/basic.t ...................................... ok
t/default_values/basic_nested.t ............................... ok
t/default_values/belongs_to_lookup_table.t .................... ok
t/default_values/belongs_to_lookup_table_combobox.t ........... ok
t/default_values/empty_rows_zero.t ............................ ok
t/default_values/has_many_combobox.t .......................... ok
t/default_values/has_many_repeatable.t ........................ ok
t/default_values/has_many_repeatable_delete_true.t ............ ok
t/default_values/has_many_repeatable_label.t .................. ok
t/default_values/has_many_repeatable_nested.t ................. ok
t/default_values/has_many_repeatable_new.t .................... ok
t/default_values/has_many_select.t ............................ ok
t/default_values/has_one.t .................................... ok
t/default_values/has_one_nested.t ............................. ok
t/default_values/label.t ...................................... ok
t/default_values/many_to_many-has_many.t ...................... ok
t/default_values/many_to_many_checkboxgroup.t ................. ok
t/default_values/many_to_many_repeatable.t .................... ok
t/default_values/many_to_many_repeatable_nested.t ............. ok
t/default_values/many_to_many_repeatable_new.t ................ ok
t/default_values/many_to_many_select.t ........................ ok
t/default_values/many_to_many_select_nested.t ................. ok
t/default_values/methods.t .................................... ok
t/default_values/might_have.t ................................. ok
t/default_values/might_have_missing.t ......................... ok
t/default_values/multi_label.t ................................ ok
t/default_values/nested_name_accessor.t ....................... ok
t/default_values/opt_accessor.t ............................... ok
t/default_values/opt_accessor_nested.t ........................ ok
t/options_from_model/belongs_to.t ............................. ok
t/options_from_model/belongs_to_combobox.t .................... ok
t/options_from_model/belongs_to_config_zero.t ................. ok
t/options_from_model/belongs_to_config_zero_combobox.t ........ ok
t/options_from_model/belongs_to_localize_label.t .............. ok
t/options_from_model/condition_from_stash.t ................... ok
t/options_from_model/condition_from_stash_combobox.t .......... ok
t/options_from_model/condition_from_stash_combobox_complex.t .. ok
t/options_from_model/condition_from_stash_complex.t ........... ok
t/options_from_model/constraint_autoset.t ..................... ok
t/options_from_model/enum_select.t ............................ ok
t/options_from_model/has_many_repeatable_select.t ............. ok
t/options_from_model/many_to_many_select.t .................... ok
t/options_from_model/many_to_many_select_restricted.t ......... ok
t/update/add_valid.t .......................................... ok
t/update/basic_create.t ....................................... ok
t/update/basic_update.t ....................................... ok
t/update/belongs_to.t ......................................... ok
t/update/belongs_to_combobox.t ................................ ok
t/update/belongs_to_create.t .................................. ok
t/update/belongs_to_create_required.t ......................... ok
t/update/belongs_to_lookup_table_combobox.t ................... ok
t/update/belongs_to_select.t .................................. ok
t/update/column_without_field.t ............................... ok
t/update/has_many_repeatable.t ................................ ok
t/update/has_many_repeatable_delete_true.t .................... ok
t/update/has_many_repeatable_many_new.t ....................... ok
t/update/has_many_repeatable_many_new_exceed_max.t ............ ok
t/update/has_many_repeatable_new.t ............................ ok
t/update/has_many_repeatable_new_date.t ....................... ok
t/update/has_many_repeatable_new_dependon.t ................... ok
t/update/has_many_repeatable_new_empty.t ...................... ok
t/update/has_many_repeatable_new_implicit.t ................... ok
t/update/has_many_repeatable_new_required_when.t .............. ok
t/update/has_one.t ............................................ ok
t/update/has_one_create.t ..................................... ok
t/update/has_one_no_id.t ...................................... ok
t/update/has_one_select.t ..................................... ok
t/update/ignore_if_empty.t .................................... ok
t/update/many_to_many-has_many.t .............................. ok
DBIx::Class::ResultSet::search_rs(): search( %condition ) is deprecated, use search( \%condition ) instead at /tmpfs/.cpan-build/2015120918/HTML-FormFu-Model-DBIC-2.00-TmS5Gh/blib/lib/HTML/FormFu/Model/DBIC.pm line 888
t/update/many_to_many_checkboxgroup.t ......................... ok
t/update/many_to_many_checkboxgroup_read_only.t ............... ok
DBIx::Class::ResultSet::search_rs(): search( %condition ) is deprecated, use search( \%condition ) instead at /tmpfs/.cpan-build/2015120918/HTML-FormFu-Model-DBIC-2.00-TmS5Gh/blib/lib/HTML/FormFu/Model/DBIC.pm line 888
t/update/many_to_many_checkboxgroup_restricted.t .............. ok
t/update/many_to_many_checkboxgroup_unselected.t .............. ok
t/update/many_to_many_repeatable.t ............................ ok
t/update/many_to_many_repeatable_new.t ........................ ok
DBIx::Class::ResultSet::search_rs(): search( %condition ) is deprecated, use search( \%condition ) instead at /tmpfs/.cpan-build/2015120918/HTML-FormFu-Model-DBIC-2.00-TmS5Gh/blib/lib/HTML/FormFu/Model/DBIC.pm line 888
t/update/many_to_many_select.t ................................ ok
t/update/many_to_many_select_unselected.t ..................... ok
t/update/methods.t ............................................ ok
t/update/might_have.t ......................................... ok
t/update/might_have_create.t .................................. ok
t/update/might_have_delete_if_empty.t ......................... ok
t/update/nested_create.t ...................................... ok
t/update/nested_create_checkbox.t ............................. ok
t/update/nested_name_accessor.t ............................... ok
t/update/nested_repeatable_write.t ............................ ok
t/update/null_if_empty.t ...................................... ok
t/update/opt_accessor.t ....................................... ok
t/update/opt_accessor_nested.t ................................ ok
t/update/unchecked_not_null_checkbox.t ........................ ok
t/x_roundtrip/checkbox_false2true.t ........................... ok
t/x_roundtrip/checkbox_true2false.t ........................... ok
All tests successful.
Files=94, Tests=607, 119 wallclock secs ( 0.26 usr  0.55 sys + 103.47 cusr 11.88 csys = 116.16 CPU)
Result: PASS

------------------------------
PREREQUISITES
------------------------------

Prerequisite modules loaded:

requires:

    Module                   Need    Have    
    ------------------------ ------- --------
    DBD::SQLite              0       1.48    
    DBIx::Class              0.08108 0.082820
    HTML::FormFu             2.00    2.01    
    List::MoreUtils          0       0.413   
    Storable                 0       2.53_01 
    Task::Weaken             0       1.04    

build_requires:

    Module                   Need    Have    
    ------------------------ ------- --------
    DateTime::Format::SQLite 0       0.11    
    Locale::Maketext         0       1.26    
    SQL::Translator          0.11016 0.11021 
    Test::More               0.99    1.001014

configure_requires:

    Module                   Need    Have    
    ------------------------ ------- --------
    ExtUtils::MakeMaker      6.30    7.10    


------------------------------
ENVIRONMENT AND OTHER CONTEXT
------------------------------

Environment variables:

    LANG = C
    LC_ALL = de_DE.UTF-8
    PATH = /usr/local/bin:/usr/bin:/bin:/usr/local/sbin:/usr/sbin:/sbin:/home/eserte/bin/linux-gnu:/home/eserte/bin/sh:/home/eserte/bin:/usr/games:/home/eserte/devel:/home/eserte/src/srezic-misc/scripts
    PERL5LIB = 
    PERL5OPT = 
    PERL5_CPANPLUS_IS_RUNNING = 25442
    PERL5_CPAN_IS_RUNNING = 25442
    PERL5_CPAN_IS_RUNNING_IN_RECURSION = 22688,25442
    PERLDOC = -MPod::Perldoc::ToTextOverstrike
    PERL_BATCH = yes
    PERL_CANARY_STABILITY_NOPROMPT = 1
    PERL_CPAN_REPORTER_CONFIG = /var/tmp/cpansmoker-1001/2015120918/cpanreporter_001_config.ini
    PERL_EXTUTILS_AUTOINSTALL = --defaultdeps
    PERL_PARALLEL_SMOKER = yes
    SHELL = /bin/zsh
    TERM = screen
    TMPDIR = /var/tmp/cpansmoker-1001/2015120918

Perl special variables (and OS-specific diagnostics, for MSWin32):

    $^X = /bbbike/perl-5.22.1-RC4/bin/perl
    $UID/$EUID = 1001 / 1001
    $GID = 1001 109 1001
    $EGID = 1001 109 1001

Perl module toolchain versions installed:

    Module              Have    
    ------------------- --------
    CPAN                2.11    
    CPAN::Meta          2.150005
    Cwd                 3.60    
    ExtUtils::CBuilder  0.280224
    ExtUtils::Command   7.10    
    ExtUtils::Install   2.04    
    ExtUtils::MakeMaker 7.10    
    ExtUtils::Manifest  1.70    
    ExtUtils::ParseXS   3.28    
    File::Spec          3.60    
    JSON                2.90    
    JSON::PP            2.27300 
    Module::Build       0.4214  
    Module::Signature   n/a     
    Parse::CPAN::Meta   1.4414  
    Test::Harness       3.35    
    Test::More          1.001014
    YAML                1.15    
    YAML::Syck          1.29    
    version             0.9912  


--

Summary of my perl5 (revision 5 version 22 subversion 1) configuration:
   
  Platform:
    osname=linux, osvers=3.2.0-4-amd64, archname=x86_64-linux
    uname='linux eserte 3.2.0-4-amd64 #1 smp debian 3.2.68-1+deb7u6 x86_64 gnulinux '
    config_args='-ds -e -Dprefix=/opt/perl-5.22.1-RC4 -Dcf_email=srezic@cpan.org'
    hint=recommended, useposix=true, d_sigaction=define
    useithreads=undef, usemultiplicity=undef
    use64bitint=define, use64bitall=define, uselongdouble=undef
    usemymalloc=n, bincompat5005=undef
  Compiler:
    cc='cc', ccflags ='-fwrapv -fno-strict-aliasing -pipe -fstack-protector -I/usr/local/include -D_LARGEFILE_SOURCE -D_FILE_OFFSET_BITS=64 -D_FORTIFY_SOURCE=2',
    optimize='-O2',
    cppflags='-fwrapv -fno-strict-aliasing -pipe -fstack-protector -I/usr/local/include'
    ccversion='', gccversion='4.7.2', gccosandvers=''
    intsize=4, longsize=8, ptrsize=8, doublesize=8, byteorder=12345678, doublekind=3
    d_longlong=define, longlongsize=8, d_longdbl=define, longdblsize=16, longdblkind=3
    ivtype='long', ivsize=8, nvtype='double', nvsize=8, Off_t='off_t', lseeksize=8
    alignbytes=8, prototype=define
  Linker and Libraries:
    ld='cc', ldflags =' -fstack-protector -L/usr/local/lib'
    libpth=/usr/local/lib /usr/lib/gcc/x86_64-linux-gnu/4.7/include-fixed /usr/include/x86_64-linux-gnu /usr/lib /lib/x86_64-linux-gnu /lib/../lib /usr/lib/x86_64-linux-gnu /usr/lib/../lib /lib
    libs=-lpthread -lnsl -ldb -ldl -lm -lcrypt -lutil -lc
    perllibs=-lpthread -lnsl -ldl -lm -lcrypt -lutil -lc
    libc=libc-2.13.so, so=so, useshrplib=false, libperl=libperl.a
    gnulibc_version='2.13'
  Dynamic Linking:
    dlsrc=dl_dlopen.xs, dlext=so, d_dlsymun=undef, ccdlflags='-Wl,-E'
    cccdlflags='-fPIC', lddlflags='-shared -O2 -L/usr/local/lib -fstack-protector'


Characteristics of this binary (from libperl): 
  Compile-time options: HAS_TIMES PERLIO_LAYERS PERL_DONT_CREATE_GVSV
                        PERL_HASH_FUNC_ONE_AT_A_TIME_HARD PERL_MALLOC_WRAP
                        PERL_NEW_COPY_ON_WRITE PERL_PRESERVE_IVUV
                        USE_64_BIT_ALL USE_64_BIT_INT USE_LARGE_FILES
                        USE_LOCALE USE_LOCALE_COLLATE USE_LOCALE_CTYPE
                        USE_LOCALE_NUMERIC USE_LOCALE_TIME USE_PERLIO
                        USE_PERL_ATOF
  Locally applied patches:
	RC4
  Built under linux
  Compiled at Dec  8 2015 21:50:38
  %ENV:
    PERL5LIB=""
    PERL5OPT=""
    PERL5_CPANPLUS_IS_RUNNING="25442"
    PERL5_CPAN_IS_RUNNING="25442"
    PERL5_CPAN_IS_RUNNING_IN_RECURSION="22688,25442"
    PERLDOC="-MPod::Perldoc::ToTextOverstrike"
    PERL_BATCH="yes"
    PERL_CANARY_STABILITY_NOPROMPT="1"
    PERL_CPAN_REPORTER_CONFIG="/var/tmp/cpansmoker-1001/2015120918/cpanreporter_001_config.ini"
    PERL_EXTUTILS_AUTOINSTALL="--defaultdeps"
    PERL_PARALLEL_SMOKER="yes"
  @INC:
    /opt/perl-5.22.1-RC4/lib/site_perl/5.22.1/x86_64-linux
    /opt/perl-5.22.1-RC4/lib/site_perl/5.22.1
    /opt/perl-5.22.1-RC4/lib/5.22.1/x86_64-linux
    /opt/perl-5.22.1-RC4/lib/5.22.1
    .