App-Templer v0.9.8 Perl 5 v5.8.5 x86_64-linux
- Status
- Pass
- From
- Andreas J. König (ANDK)
- Dist
-
App-Templer v0.9.8
- Platform
- Perl 5 v5.8.5 x86_64-linux
- Date
- 2014-09-11 06:51:07
- ID
- 01ae2e8c-3980-11e4-9dd5-d0a3cc4edbc1
This distribution has been tested as part of the CPAN Testers
project, supporting the Perl programming language. See
http://wiki.cpantesters.org/ for more information or email
questions to cpan-testers-discuss@perl.org
--
Dear Steve Kemp,
This is a computer-generated report for App-Templer-0.9.8
on perl 5.8.5, created by CPAN-Reporter-1.2011.
Thank you for uploading your work to CPAN. Congratulations!
All tests were successful.
Sections of this report:
* Tester comments
* Program output
* Prerequisites
* Environment and other context
------------------------------
TESTER COMMENTS
------------------------------
Additional comments from tester:
this report is from an automated smoke testing program
and was not reviewed by a human for accuracy
------------------------------
PROGRAM OUTPUT
------------------------------
Output from '/usr/bin/make test':
PERL_DL_NONLAZY=1 "/home/sand/src/perl/repoperls/installed-perls/perl/perl-5.8.5/5da8/bin/perl" "-MExtUtils::Command::MM" "-MTest::Harness" "-e" "undef *Test::Harness::Switches; test_harness(0, 'blib/lib', 'blib/arch')" t/*.t
t/style-no-tabs.t ........................... ok
t/style-no-trailing-whitespace.t ............ ok
t/test-dependencies.t ....................... ok
t/test-pod-syntax.t ......................... ok
t/test-strict.t ............................. ok
t/test-templer-asset-copying.t .............. ok
t/test-templer-page-expansion.t ............. ok
t/test-templer-plugin-factory-formatters.t .. ok
t/test-templer-plugin-factory.t ............. ok
t/test-templer-plugin-filecontents.t ........ ok
t/test-templer-plugin-fileglob.t ............ ok
t/test-templer-plugin-filters.t ............. ok
t/test-templer-plugin-redis.t ............... ok
t/test-templer-plugin-rootpath.t ............ ok
t/test-templer-plugin-shellcommand.t ........ ok
t/test-templer-plugin-timestamp.t ........... ok
t/test-templer-site-new.t ................... ok
t/test-templer-site.t ....................... ok
t/test-templer-synchronization.t ............ ok
All tests successful.
Files=19, Tests=675, 7 wallclock secs ( 0.13 usr 0.01 sys + 3.40 cusr 0.52 csys = 4.06 CPU)
Result: PASS
------------------------------
PREREQUISITES
------------------------------
Prerequisite modules loaded:
requires:
Module Need Have
------------------- ----- --------
Getopt::Long 0 2.42
HTML::Template 0 2.95
Image::Size 0 3.232
Module::Pluggable 0 5.1
perl 5.008 5.008005
Redis 0 1.975
Text::Markdown 0 1.000031
Text::Template 0 1.46
Text::Textile 0 2.13
build_requires:
Module Need Have
------------------- ----- --------
ExtUtils::MakeMaker 0 6.99_11
Test::Exception 0 0.32
Test::More 0 1.001006
Test::NoTabs 0 1.3
Test::Pod 0 1.48
Test::Strict 0 0.23
configure_requires:
Module Need Have
------------------- ----- --------
ExtUtils::MakeMaker 0 6.99_11
------------------------------
ENVIRONMENT AND OTHER CONTEXT
------------------------------
Environment variables:
AUTOMATED_TESTING = 1
LANG = en_US.UTF-8
LANGUAGE = en_US:en
PATH = /usr/lib/ccache:/home/sand/bin:/usr/local/bin:/usr/bin:/bin:/usr/games:/usr/local/perl/bin:/usr/X11/bin:/sbin:/usr/sbin
PERL5LIB =
PERL5OPT =
PERL5_CPANPLUS_IS_RUNNING = 14152
PERL5_CPAN_IS_RUNNING = 14152
PERL_MM_USE_DEFAULT = 1
SHELL = /usr/bin/zsh
TERM = screen
Perl special variables (and OS-specific diagnostics, for MSWin32):
$^X = /home/sand/src/perl/repoperls/installed-perls/perl/perl-5.8.5/5da8/bin/perl
$UID/$EUID = 1005 / 1005
$GID = 1005 1005
$EGID = 1005 1005
Perl module toolchain versions installed:
Module Have
------------------- --------
CPAN 2.05
CPAN::Meta 2.142060
Cwd 3.47
ExtUtils::CBuilder 0.280219
ExtUtils::Command 1.16
ExtUtils::Install 1.54
ExtUtils::MakeMaker 6.99_11
ExtUtils::Manifest 1.66
ExtUtils::ParseXS 3.24
File::Spec 3.47
JSON 2.90
JSON::PP 2.27203
Module::Build 0.4210
Module::Signature n/a
Parse::CPAN::Meta 1.4414
Test::Harness 3.33
Test::More 1.001006
YAML n/a
YAML::Syck 1.27
version 0.9909
--
Summary of my perl5 (revision 5 version 8 subversion 5) configuration:
Platform:
osname=linux, osvers=3.14-2-amd64, archname=x86_64-linux
uname='linux k83 3.14-2-amd64 #1 smp debian 3.14.15-2 (2014-08-09) x86_64 gnulinux '
config_args='-Dprefix=/home/sand/src/perl/repoperls/installed-perls/perl/perl-5.8.5/5da8 -Dmyhostname=k83 -Dinstallusrbinperl=n -Uversiononly -Dusedevel -des -Ui_db -Uuseithreads -Uuselongdouble -DDEBUGGING=-g -Dusedl -Ddlsrc=dl_dlopen.xs -Dlibs=-lnsl -ldb -ldl -lm -lcrypt -lutil -lc -Dlibpth=/usr/lib/x86_64-linux-gnu /usr/local/lib /lib /usr/lib'
hint=recommended, useposix=true, d_sigaction=define
usethreads=undef use5005threads=undef useithreads=undef usemultiplicity=undef
useperlio=define d_sfio=undef uselargefiles=define usesocks=undef
use64bitint=define use64bitall=define uselongdouble=undef
usemymalloc=n, bincompat5005=undef
Compiler:
cc='cc', ccflags ='-fno-strict-aliasing -pipe -I/usr/local/include -D_LARGEFILE_SOURCE -D_FILE_OFFSET_BITS=64',
optimize='-O2',
cppflags='-fno-strict-aliasing -pipe -I/usr/local/include'
ccversion='', gccversion='4.9.1', gccosandvers=''
intsize=4, longsize=8, ptrsize=8, doublesize=8, byteorder=12345678
d_longlong=define, longlongsize=8, d_longdbl=define, longdblsize=16
ivtype='long', ivsize=8, nvtype='double', nvsize=8, Off_t='off_t', lseeksize=8
alignbytes=8, prototype=define
Linker and Libraries:
ld='cc', ldflags =' -L/usr/local/lib'
libpth=/usr/lib/x86_64-linux-gnu /usr/local/lib /lib /usr/lib
libs=-lnsl -ldb -ldl -lm -lcrypt -lutil -lc
perllibs=-lnsl -ldl -lm -lcrypt -lutil -lc
libc=, so=so, useshrplib=false, libperl=libperl.a
gnulibc_version='2.19'
Dynamic Linking:
dlsrc=dl_dlopen.xs, dlext=so, d_dlsymun=undef, ccdlflags='-Wl,-E'
cccdlflags='-fpic', lddlflags='-shared -L/usr/local/lib'
Characteristics of this binary (from libperl):
Compile-time options: USE_64_BIT_INT USE_64_BIT_ALL USE_LARGE_FILES
Locally applied patches:
MAINT23136
Built under linux
Compiled at Aug 23 2014 05:28:41
%ENV:
PERL5LIB=""
PERL5OPT=""
PERL5_CPANPLUS_IS_RUNNING="14152"
PERL5_CPAN_IS_RUNNING="14152"
PERL_MM_USE_DEFAULT="1"
@INC:
/home/sand/src/perl/repoperls/installed-perls/perl/perl-5.8.5/5da8/lib/5.8.5/x86_64-linux
/home/sand/src/perl/repoperls/installed-perls/perl/perl-5.8.5/5da8/lib/5.8.5
/home/sand/src/perl/repoperls/installed-perls/perl/perl-5.8.5/5da8/lib/site_perl/5.8.5/x86_64-linux
/home/sand/src/perl/repoperls/installed-perls/perl/perl-5.8.5/5da8/lib/site_perl/5.8.5
/home/sand/src/perl/repoperls/installed-perls/perl/perl-5.8.5/5da8/lib/site_perl
.