Image-Base-Gtk2 v11 Perl 5 v5.14.4 x86_64-linux
- Status
- Pass
- From
- Andreas J. König (ANDK)
- Dist
-
Image-Base-Gtk2 v11
- Platform
- Perl 5 v5.14.4 x86_64-linux
- Date
- 2013-12-21 18:30:45
- ID
- 01a7b00c-6a6e-11e3-84d5-7aac0c5d3a7d
This distribution has been tested as part of the CPAN Testers
project, supporting the Perl programming language. See
http://wiki.cpantesters.org/ for more information or email
questions to cpan-testers-discuss@perl.org
--
Dear Kevin Ryde,
This is a computer-generated report for Image-Base-Gtk2-11
on perl 5.14.4, created by CPAN-Reporter-1.2010.
Thank you for uploading your work to CPAN. Congratulations!
All tests were successful.
Sections of this report:
* Tester comments
* Program output
* Prerequisites
* Environment and other context
------------------------------
TESTER COMMENTS
------------------------------
Additional comments from tester:
this report is from an automated smoke testing program
and was not reviewed by a human for accuracy
------------------------------
PROGRAM OUTPUT
------------------------------
Output from '/usr/bin/make test':
PERL_DL_NONLAZY=1 /home/sand/src/perl/repoperls/installed-perls/perl/v5.14.4/165a/bin/perl "-MExtUtils::Command::MM" "-MTest::Harness" "-e" "undef *Test::Harness::Switches; test_harness(0, 'blib/lib', 'blib/arch')" t/*.t
Xlib: extension "RANDR" missing on display ":121".
# Image::Base version 1.17
# Perl-Gtk2 version 1.249
# Perl-Glib version 1.303
# Compiled against Glib version 2.36.4.
# Running on Glib version 2.36.4.
# Compiled against Gtk version 2.24.22.
# Running on Gtk version 2.24.22.
# No X11::Protocol for server info
# check_image()
# check_image()
# check_diamond()
t/Drawable.t ....... ok
Xlib: extension "RANDR" missing on display ":121".
t/Image-weaken.t ... skipped: due to Test::Weaken 2.000 not available -- Can't locate Test/Weaken.pm in @INC (@INC contains: t /tmp/loop_over_bdir-20901-0Y4mWu/Image-Base-Gtk2-11-aaHFjC/blib/lib /tmp/loop_over_bdir-20901-0Y4mWu/Image-Base-Gtk2-11-aaHFjC/blib/arch /home/sand/src/perl/repoperls/installed-perls/perl/v5.14.4/165a/lib/site_perl/5.14.4/x86_64-linux /home/sand/src/perl/repoperls/installed-perls/perl/v5.14.4/165a/lib/site_perl/5.14.4 /home/sand/src/perl/repoperls/installed-perls/perl/v5.14.4/165a/lib/5.14.4/x86_64-linux /home/sand/src/perl/repoperls/installed-perls/perl/v5.14.4/165a/lib/5.14.4 .) at (eval 9) line 1.
Xlib: extension "RANDR" missing on display ":121".
# Image::Base version 1.17
# check_image()
t/Image.t .......... ok
t/Pixbuf-weaken.t .. skipped: due to Test::Weaken 2.000 not available -- Can't locate Test/Weaken.pm in @INC (@INC contains: t /tmp/loop_over_bdir-20901-0Y4mWu/Image-Base-Gtk2-11-aaHFjC/blib/lib /tmp/loop_over_bdir-20901-0Y4mWu/Image-Base-Gtk2-11-aaHFjC/blib/arch /home/sand/src/perl/repoperls/installed-perls/perl/v5.14.4/165a/lib/site_perl/5.14.4/x86_64-linux /home/sand/src/perl/repoperls/installed-perls/perl/v5.14.4/165a/lib/site_perl/5.14.4 /home/sand/src/perl/repoperls/installed-perls/perl/v5.14.4/165a/lib/5.14.4/x86_64-linux /home/sand/src/perl/repoperls/installed-perls/perl/v5.14.4/165a/lib/5.14.4 .) at (eval 8) line 1.
# Image::Base version 1.17
# get_option('x_hot') 0
# get_option('y_hot') 1
# check_image()
t/Pixbuf.t ......... ok
Xlib: extension "RANDR" missing on display ":121".
# Image::Base version 1.17
t/Pixmap.t ......... ok
Xlib: extension "RANDR" missing on display ":121".
# Image::Base version 1.17
t/Window.t ......... ok
All tests successful.
Files=7, Tests=8423, 5 wallclock secs ( 0.66 usr 0.06 sys + 2.32 cusr 0.18 csys = 3.22 CPU)
Result: PASS
------------------------------
PREREQUISITES
------------------------------
Prerequisite modules loaded:
requires:
Module Need Have
------------------- ----- --------
Gtk2 0 1.249
Image::Base 1.12 1.17
perl 5.008 5.014004
build_requires:
Module Need Have
------------------- ----- --------
ExtUtils::MakeMaker 0 6.85_02
configure_requires:
Module Need Have
------------------- ----- --------
ExtUtils::MakeMaker 0 6.85_02
------------------------------
ENVIRONMENT AND OTHER CONTEXT
------------------------------
Environment variables:
AUTOMATED_TESTING = 1
LANG = en_US.UTF-8
LANGUAGE = en_US:en
PATH = /usr/lib/ccache:/home/sand/bin:/usr/local/bin:/usr/bin:/bin:/usr/bin/X11:/usr/games:/usr/local/perl/bin:/usr/X11/bin:/sbin:/usr/sbin
PERL5LIB =
PERL5OPT =
PERL5_CPANPLUS_IS_RUNNING = 20902
PERL5_CPAN_IS_RUNNING = 20902
PERL_MM_USE_DEFAULT = 1
SHELL = /usr/bin/zsh
TERM = screen
Perl special variables (and OS-specific diagnostics, for MSWin32):
$^X = /home/sand/src/perl/repoperls/installed-perls/perl/v5.14.4/165a/bin/perl
$UID/$EUID = 1005 / 1005
$GID = 1005 1005
$EGID = 1005 1005
Perl module toolchain versions installed:
Module Have
------------------- --------
CPAN 2.00
CPAN::Meta 2.133380
Cwd 3.40
ExtUtils::CBuilder 0.280212
ExtUtils::Command 1.17
ExtUtils::Install 1.56
ExtUtils::MakeMaker 6.85_02
ExtUtils::Manifest 1.60
ExtUtils::ParseXS 3.22
File::Spec 3.40
JSON 2.90
JSON::PP 2.27203
Module::Build 0.4203
Module::Signature 0.73
Parse::CPAN::Meta 1.4409
Test::Harness 3.30
Test::More 1.001002
YAML 0.88
YAML::Syck 1.27
version 0.9904
--
Summary of my perl5 (revision 5 version 14 subversion 4) configuration:
Commit id: 26c5c13a4ece9084f310610bb17fb2f24c72a73e
Platform:
osname=linux, osvers=3.11-2-amd64, archname=x86_64-linux
uname='linux k83 3.11-2-amd64 #1 smp debian 3.11.10-1 (2013-12-04) x86_64 gnulinux '
config_args='-Dprefix=/home/sand/src/perl/repoperls/installed-perls/perl/v5.14.4/165a -Dmyhostname=k83 -Dinstallusrbinperl=n -Uversiononly -Dusedevel -des -Ui_db -Uuseithreads -Uuselongdouble -DDEBUGGING=-g'
hint=recommended, useposix=true, d_sigaction=define
useithreads=undef, usemultiplicity=undef
useperlio=define, d_sfio=undef, uselargefiles=define, usesocks=undef
use64bitint=define, use64bitall=define, uselongdouble=undef
usemymalloc=n, bincompat5005=undef
Compiler:
cc='cc', ccflags ='-fno-strict-aliasing -pipe -fstack-protector -I/usr/local/include -D_LARGEFILE_SOURCE -D_FILE_OFFSET_BITS=64',
optimize='-O2 -g',
cppflags='-fno-strict-aliasing -pipe -fstack-protector -I/usr/local/include'
ccversion='', gccversion='4.8.2', gccosandvers=''
intsize=4, longsize=8, ptrsize=8, doublesize=8, byteorder=12345678
d_longlong=define, longlongsize=8, d_longdbl=define, longdblsize=16
ivtype='long', ivsize=8, nvtype='double', nvsize=8, Off_t='off_t', lseeksize=8
alignbytes=8, prototype=define
Linker and Libraries:
ld='cc', ldflags =' -fstack-protector -L/usr/local/lib'
libpth=/usr/local/lib /lib/x86_64-linux-gnu /lib/../lib /usr/lib/x86_64-linux-gnu /usr/lib/../lib /lib /usr/lib
libs=-lnsl -lgdbm -ldb -ldl -lm -lcrypt -lutil -lc -lgdbm_compat
perllibs=-lnsl -ldl -lm -lcrypt -lutil -lc
libc=, so=so, useshrplib=false, libperl=libperl.a
gnulibc_version='2.17'
Dynamic Linking:
dlsrc=dl_dlopen.xs, dlext=so, d_dlsymun=undef, ccdlflags='-Wl,-E'
cccdlflags='-fPIC', lddlflags='-shared -O2 -g -L/usr/local/lib -fstack-protector'
Characteristics of this binary (from libperl):
Compile-time options: PERL_DONT_CREATE_GVSV PERL_MALLOC_WRAP
PERL_PRESERVE_IVUV PERL_USE_DEVEL USE_64_BIT_ALL
USE_64_BIT_INT USE_LARGE_FILES USE_PERLIO
USE_PERL_ATOF
Built under linux
Compiled at Dec 12 2013 05:02:49
%ENV:
PERL5LIB=""
PERL5OPT=""
PERL5_CPANPLUS_IS_RUNNING="20902"
PERL5_CPAN_IS_RUNNING="20902"
PERL_MM_USE_DEFAULT="1"
@INC:
/home/sand/src/perl/repoperls/installed-perls/perl/v5.14.4/165a/lib/site_perl/5.14.4/x86_64-linux
/home/sand/src/perl/repoperls/installed-perls/perl/v5.14.4/165a/lib/site_perl/5.14.4
/home/sand/src/perl/repoperls/installed-perls/perl/v5.14.4/165a/lib/5.14.4/x86_64-linux
/home/sand/src/perl/repoperls/installed-perls/perl/v5.14.4/165a/lib/5.14.4
.