RDF-Flow v0.178 Perl 5 v5.15.9 x86_64-linux-thread-multi

Status
Pass
From
Andreas J. König (ANDK)
Dist
RDF-Flow v0.178
Platform
Perl 5 v5.15.9 x86_64-linux-thread-multi
Date
2012-05-03 19:41:41
ID
0183f5aa-9558-11e1-a4ec-a98255de7b98
This distribution has been tested as part of the CPAN Testers
project, supporting the Perl programming language.  See
http://wiki.cpantesters.org/ for more information or email
questions to cpan-testers-discuss@perl.org


--
Dear Jakob Voss,

This is a computer-generated report for RDF-Flow-0.178
on perl 5.15.9, created by CPAN-Reporter-1.2006.

Thank you for uploading your work to CPAN.  Congratulations!
All tests were successful.

Sections of this report:

    * Tester comments
    * Program output
    * Prerequisites
    * Environment and other context

------------------------------
TESTER COMMENTS
------------------------------

Additional comments from tester:

this report is from an automated smoke testing program
and was not reviewed by a human for accuracy

------------------------------
PROGRAM OUTPUT
------------------------------

Output from '/usr/bin/make test':

PERL_DL_NONLAZY=1 /home/sand/src/perl/repoperls/installed-perls/perl/v5.15.8-234-g789326d/127e/bin/perl "-MExtUtils::Command::MM" "-e" "test_harness(0, 'blib/lib', 'blib/arch')" t/*.t
Use of uninitialized value $^WARNING_BITS in bitwise xor (^) at /home/src/perl/repoperls/installed-perls/perl/v5.15.8-234-g789326d/127e/lib/site_perl/5.15.9/common/sense.pm line 237.
Use of uninitialized value $^WARNING_BITS in bitwise xor (^) at /home/src/perl/repoperls/installed-perls/perl/v5.15.8-234-g789326d/127e/lib/site_perl/5.15.9/common/sense.pm line 237.
Use of uninitialized value $^WARNING_BITS in bitwise xor (^) at /home/src/perl/repoperls/installed-perls/perl/v5.15.8-234-g789326d/127e/lib/site_perl/5.15.9/common/sense.pm line 237.
Use of uninitialized value $^WARNING_BITS in bitwise xor (^) at /home/src/perl/repoperls/installed-perls/perl/v5.15.8-234-g789326d/127e/lib/site_perl/5.15.9/common/sense.pm line 237.
Use of uninitialized value $^WARNING_BITS in bitwise xor (^) at /home/src/perl/repoperls/installed-perls/perl/v5.15.8-234-g789326d/127e/lib/site_perl/5.15.9/common/sense.pm line 237.
t/00_compile.t ............ ok
t/author-critic.t ......... skipped: these tests are for testing by the author
Use of uninitialized value $^WARNING_BITS in bitwise xor (^) at /home/src/perl/repoperls/installed-perls/perl/v5.15.8-234-g789326d/127e/lib/site_perl/5.15.9/common/sense.pm line 237.
Use of uninitialized value $^WARNING_BITS in bitwise xor (^) at /home/src/perl/repoperls/installed-perls/perl/v5.15.8-234-g789326d/127e/lib/site_perl/5.15.9/common/sense.pm line 237.
Use of uninitialized value $^WARNING_BITS in bitwise xor (^) at /home/src/perl/repoperls/installed-perls/perl/v5.15.8-234-g789326d/127e/lib/site_perl/5.15.9/common/sense.pm line 237.
Use of uninitialized value $^WARNING_BITS in bitwise xor (^) at /home/src/perl/repoperls/installed-perls/perl/v5.15.8-234-g789326d/127e/lib/site_perl/5.15.9/common/sense.pm line 237.
Use of uninitialized value $^WARNING_BITS in bitwise xor (^) at /home/src/perl/repoperls/installed-perls/perl/v5.15.8-234-g789326d/127e/lib/site_perl/5.15.9/common/sense.pm line 237.
t/cached.t ................ ok
Use of uninitialized value $^WARNING_BITS in bitwise xor (^) at /home/src/perl/repoperls/installed-perls/perl/v5.15.8-234-g789326d/127e/lib/site_perl/5.15.9/common/sense.pm line 237.
Use of uninitialized value $^WARNING_BITS in bitwise xor (^) at /home/src/perl/repoperls/installed-perls/perl/v5.15.8-234-g789326d/127e/lib/site_perl/5.15.9/common/sense.pm line 237.
Use of uninitialized value $^WARNING_BITS in bitwise xor (^) at /home/src/perl/repoperls/installed-perls/perl/v5.15.8-234-g789326d/127e/lib/site_perl/5.15.9/common/sense.pm line 237.
Use of uninitialized value $^WARNING_BITS in bitwise xor (^) at /home/src/perl/repoperls/installed-perls/perl/v5.15.8-234-g789326d/127e/lib/site_perl/5.15.9/common/sense.pm line 237.
Use of uninitialized value $^WARNING_BITS in bitwise xor (^) at /home/src/perl/repoperls/installed-perls/perl/v5.15.8-234-g789326d/127e/lib/site_perl/5.15.9/common/sense.pm line 237.
t/dummy.t ................. ok
Use of uninitialized value $^WARNING_BITS in bitwise xor (^) at /home/src/perl/repoperls/installed-perls/perl/v5.15.8-234-g789326d/127e/lib/site_perl/5.15.9/common/sense.pm line 237.
Use of uninitialized value $^WARNING_BITS in bitwise xor (^) at /home/src/perl/repoperls/installed-perls/perl/v5.15.8-234-g789326d/127e/lib/site_perl/5.15.9/common/sense.pm line 237.
Use of uninitialized value $^WARNING_BITS in bitwise xor (^) at /home/src/perl/repoperls/installed-perls/perl/v5.15.8-234-g789326d/127e/lib/site_perl/5.15.9/common/sense.pm line 237.
Use of uninitialized value $^WARNING_BITS in bitwise xor (^) at /home/src/perl/repoperls/installed-perls/perl/v5.15.8-234-g789326d/127e/lib/site_perl/5.15.9/common/sense.pm line 237.
Use of uninitialized value $^WARNING_BITS in bitwise xor (^) at /home/src/perl/repoperls/installed-perls/perl/v5.15.8-234-g789326d/127e/lib/site_perl/5.15.9/common/sense.pm line 237.
t/errors.t ................ ok
Use of uninitialized value $^WARNING_BITS in bitwise xor (^) at /home/src/perl/repoperls/installed-perls/perl/v5.15.8-234-g789326d/127e/lib/site_perl/5.15.9/common/sense.pm line 237.
Use of uninitialized value $^WARNING_BITS in bitwise xor (^) at /home/src/perl/repoperls/installed-perls/perl/v5.15.8-234-g789326d/127e/lib/site_perl/5.15.9/common/sense.pm line 237.
Use of uninitialized value $^WARNING_BITS in bitwise xor (^) at /home/src/perl/repoperls/installed-perls/perl/v5.15.8-234-g789326d/127e/lib/site_perl/5.15.9/common/sense.pm line 237.
Use of uninitialized value $^WARNING_BITS in bitwise xor (^) at /home/src/perl/repoperls/installed-perls/perl/v5.15.8-234-g789326d/127e/lib/site_perl/5.15.9/common/sense.pm line 237.
Use of uninitialized value $^WARNING_BITS in bitwise xor (^) at /home/src/perl/repoperls/installed-perls/perl/v5.15.8-234-g789326d/127e/lib/site_perl/5.15.9/common/sense.pm line 237.
t/graphviz.t .............. ok
Use of uninitialized value $^WARNING_BITS in bitwise xor (^) at /home/src/perl/repoperls/installed-perls/perl/v5.15.8-234-g789326d/127e/lib/site_perl/5.15.9/common/sense.pm line 237.
Use of uninitialized value $^WARNING_BITS in bitwise xor (^) at /home/src/perl/repoperls/installed-perls/perl/v5.15.8-234-g789326d/127e/lib/site_perl/5.15.9/common/sense.pm line 237.
Use of uninitialized value $^WARNING_BITS in bitwise xor (^) at /home/src/perl/repoperls/installed-perls/perl/v5.15.8-234-g789326d/127e/lib/site_perl/5.15.9/common/sense.pm line 237.
Use of uninitialized value $^WARNING_BITS in bitwise xor (^) at /home/src/perl/repoperls/installed-perls/perl/v5.15.8-234-g789326d/127e/lib/site_perl/5.15.9/common/sense.pm line 237.
Use of uninitialized value $^WARNING_BITS in bitwise xor (^) at /home/src/perl/repoperls/installed-perls/perl/v5.15.8-234-g789326d/127e/lib/site_perl/5.15.9/common/sense.pm line 237.
t/linkeddata.t ............ ok
Use of uninitialized value $^WARNING_BITS in bitwise xor (^) at /home/src/perl/repoperls/installed-perls/perl/v5.15.8-234-g789326d/127e/lib/site_perl/5.15.9/common/sense.pm line 237.
Use of uninitialized value $^WARNING_BITS in bitwise xor (^) at /home/src/perl/repoperls/installed-perls/perl/v5.15.8-234-g789326d/127e/lib/site_perl/5.15.9/common/sense.pm line 237.
Use of uninitialized value $^WARNING_BITS in bitwise xor (^) at /home/src/perl/repoperls/installed-perls/perl/v5.15.8-234-g789326d/127e/lib/site_perl/5.15.9/common/sense.pm line 237.
Use of uninitialized value $^WARNING_BITS in bitwise xor (^) at /home/src/perl/repoperls/installed-perls/perl/v5.15.8-234-g789326d/127e/lib/site_perl/5.15.9/common/sense.pm line 237.
Use of uninitialized value $^WARNING_BITS in bitwise xor (^) at /home/src/perl/repoperls/installed-perls/perl/v5.15.8-234-g789326d/127e/lib/site_perl/5.15.9/common/sense.pm line 237.
t/more_sources.t .......... ok
t/release-eol.t ........... skipped: these tests are for release candidate testing
t/release-no-tabs.t ....... skipped: these tests are for release candidate testing
t/release-pod-coverage.t .. skipped: these tests are for release candidate testing
t/release-pod-syntax.t .... skipped: these tests are for release candidate testing
Use of uninitialized value $^WARNING_BITS in bitwise xor (^) at /home/src/perl/repoperls/installed-perls/perl/v5.15.8-234-g789326d/127e/lib/site_perl/5.15.9/common/sense.pm line 237.
Use of uninitialized value $^WARNING_BITS in bitwise xor (^) at /home/src/perl/repoperls/installed-perls/perl/v5.15.8-234-g789326d/127e/lib/site_perl/5.15.9/common/sense.pm line 237.
Use of uninitialized value $^WARNING_BITS in bitwise xor (^) at /home/src/perl/repoperls/installed-perls/perl/v5.15.8-234-g789326d/127e/lib/site_perl/5.15.9/common/sense.pm line 237.
Use of uninitialized value $^WARNING_BITS in bitwise xor (^) at /home/src/perl/repoperls/installed-perls/perl/v5.15.8-234-g789326d/127e/lib/site_perl/5.15.9/common/sense.pm line 237.
Use of uninitialized value $^WARNING_BITS in bitwise xor (^) at /home/src/perl/repoperls/installed-perls/perl/v5.15.8-234-g789326d/127e/lib/site_perl/5.15.9/common/sense.pm line 237.
t/simple_source.t ......... ok
Use of uninitialized value $^WARNING_BITS in bitwise xor (^) at /home/src/perl/repoperls/installed-perls/perl/v5.15.8-234-g789326d/127e/lib/site_perl/5.15.9/common/sense.pm line 237.
Use of uninitialized value $^WARNING_BITS in bitwise xor (^) at /home/src/perl/repoperls/installed-perls/perl/v5.15.8-234-g789326d/127e/lib/site_perl/5.15.9/common/sense.pm line 237.
Use of uninitialized value $^WARNING_BITS in bitwise xor (^) at /home/src/perl/repoperls/installed-perls/perl/v5.15.8-234-g789326d/127e/lib/site_perl/5.15.9/common/sense.pm line 237.
Use of uninitialized value $^WARNING_BITS in bitwise xor (^) at /home/src/perl/repoperls/installed-perls/perl/v5.15.8-234-g789326d/127e/lib/site_perl/5.15.9/common/sense.pm line 237.
Use of uninitialized value $^WARNING_BITS in bitwise xor (^) at /home/src/perl/repoperls/installed-perls/perl/v5.15.8-234-g789326d/127e/lib/site_perl/5.15.9/common/sense.pm line 237.
t/source_types.t .......... ok
Use of uninitialized value $^WARNING_BITS in bitwise xor (^) at /home/src/perl/repoperls/installed-perls/perl/v5.15.8-234-g789326d/127e/lib/site_perl/5.15.9/common/sense.pm line 237.
Use of uninitialized value $^WARNING_BITS in bitwise xor (^) at /home/src/perl/repoperls/installed-perls/perl/v5.15.8-234-g789326d/127e/lib/site_perl/5.15.9/common/sense.pm line 237.
Use of uninitialized value $^WARNING_BITS in bitwise xor (^) at /home/src/perl/repoperls/installed-perls/perl/v5.15.8-234-g789326d/127e/lib/site_perl/5.15.9/common/sense.pm line 237.
Use of uninitialized value $^WARNING_BITS in bitwise xor (^) at /home/src/perl/repoperls/installed-perls/perl/v5.15.8-234-g789326d/127e/lib/site_perl/5.15.9/common/sense.pm line 237.
Use of uninitialized value $^WARNING_BITS in bitwise xor (^) at /home/src/perl/repoperls/installed-perls/perl/v5.15.8-234-g789326d/127e/lib/site_perl/5.15.9/common/sense.pm line 237.
t/util.t .................. ok
All tests successful.
Files=15, Tests=63,  7 wallclock secs ( 0.07 usr  0.01 sys +  5.22 cusr  0.58 csys =  5.88 CPU)
Result: PASS

------------------------------
PREREQUISITES
------------------------------

Prerequisite modules loaded:

requires:

    Module                         Need Have        
    ------------------------------ ---- ------------
    base                           0    2.18        
    Carp                           0    1.25        
    Exporter                       0    5.66        
    File::Spec::Functions          0    3.39_02     
    Log::Contextual                0    0.004100    
    Log::Contextual::WarnLogger    0    0           
    parent                         0    0.225       
    POSIX                          0    1.30        
    RDF::Trine                     0    0.139       
    RDF::Trine::Model              0    0.139       
    RDF::Trine::Parser             0    0.139       
    re                             0    0.19        
    Scalar::Util                   0    1.23        
    strict                         0    1.06        
    Try::Tiny                      0    0.11        
    URI                            0    1.60        
    URI::Escape                    0    3.31        
    warnings                       0    1.13        

build_requires:

    Module                         Need Have        
    ------------------------------ ---- ------------
    English                        0    1.05        
    RDF::Trine::Iterator           0    0.139       
    RDF::Trine::Serializer::Turtle 0    0.139       
    Test::More                     0.88 1.005000_005
    Test::RDF                      0    0.24        

configure_requires:

    Module                         Need Have        
    ------------------------------ ---- ------------
    ExtUtils::MakeMaker            6.30 6.63_02     


------------------------------
ENVIRONMENT AND OTHER CONTEXT
------------------------------

Environment variables:

    AUTOMATED_TESTING = 1
    LANG = en_US.UTF-8
    LANGUAGE = en_US:en
    PATH = /home/sand/bin:/usr/local/bin:/usr/bin:/bin:/usr/bin/X11:/usr/games:/usr/local/perl/bin:/usr/X11/bin:/sbin:/usr/sbin
    PERL5LIB = 
    PERL5OPT = 
    PERL5_CPANPLUS_IS_RUNNING = 25527
    PERL5_CPAN_IS_RUNNING = 25527
    PERL_MM_USE_DEFAULT = 1
    SHELL = /usr/bin/zsh
    TERM = screen

Perl special variables (and OS-specific diagnostics, for MSWin32):

    $^X = /home/sand/src/perl/repoperls/installed-perls/perl/v5.15.8-234-g789326d/127e/bin/perl
    $UID/$EUID = 1005 / 1005
    $GID = 1005 1005
    $EGID = 1005 1005

Perl module toolchain versions installed:

    Module              Have        
    ------------------- ------------
    CPAN                1.9800      
    CPAN::Meta          2.120921    
    Cwd                 3.39_02     
    ExtUtils::CBuilder  0.280206    
    ExtUtils::Command   1.17        
    ExtUtils::Install   1.58        
    ExtUtils::MakeMaker 6.63_02     
    ExtUtils::Manifest  1.61        
    ExtUtils::ParseXS   3.16        
    File::Spec          3.39_02     
    JSON                2.53        
    JSON::PP            2.27200     
    Module::Build       0.40        
    Module::Signature   0.68        
    Parse::CPAN::Meta   1.4404      
    Test::Harness       3.23        
    Test::More          1.005000_005
    YAML                0.81        
    YAML::Syck          1.20        
    version             0.99        


--

Summary of my perl5 (revision 5 version 15 subversion 9) configuration:
  Commit id: 789326ddfc9b0148440ce6eb9de74ac655a9dc5d
  Platform:
    osname=linux, osvers=3.2.0-1-amd64, archname=x86_64-linux-ld
    uname='linux k83 3.2.0-1-amd64 #1 smp fri feb 17 05:17:36 utc 2012 x86_64 gnulinux '
    config_args='-Dprefix=/home/src/perl/repoperls/installed-perls/perl/v5.15.8-234-g789326d/127e -Dmyhostname=k83 -Dinstallusrbinperl=n -Uversiononly -Dusedevel -des -Ui_db -Uuseithreads -Duselongdouble -DDEBUGGING=-g'
    hint=recommended, useposix=true, d_sigaction=define
    useithreads=undef, usemultiplicity=undef
    useperlio=define, d_sfio=undef, uselargefiles=define, usesocks=undef
    use64bitint=define, use64bitall=define, uselongdouble=define
    usemymalloc=n, bincompat5005=undef
  Compiler:
    cc='cc', ccflags ='-fno-strict-aliasing -pipe -fstack-protector -I/usr/local/include -D_LARGEFILE_SOURCE -D_FILE_OFFSET_BITS=64',
    optimize='-O2 -g',
    cppflags='-fno-strict-aliasing -pipe -fstack-protector -I/usr/local/include'
    ccversion='', gccversion='4.6.3', gccosandvers=''
    intsize=4, longsize=8, ptrsize=8, doublesize=8, byteorder=12345678
    d_longlong=define, longlongsize=8, d_longdbl=define, longdblsize=16
    ivtype='long', ivsize=8, nvtype='long double', nvsize=16, Off_t='off_t', lseeksize=8
    alignbytes=16, prototype=define
  Linker and Libraries:
    ld='cc', ldflags =' -fstack-protector -L/usr/local/lib'
    libpth=/usr/local/lib /lib/x86_64-linux-gnu /lib/../lib /usr/lib/x86_64-linux-gnu /usr/lib/../lib /lib /usr/lib
    libs=-lnsl -ldb -ldl -lm -lcrypt -lutil -lc
    perllibs=-lnsl -ldl -lm -lcrypt -lutil -lc
    libc=, so=so, useshrplib=false, libperl=libperl.a
    gnulibc_version='2.13'
  Dynamic Linking:
    dlsrc=dl_dlopen.xs, dlext=so, d_dlsymun=undef, ccdlflags='-Wl,-E'
    cccdlflags='-fPIC', lddlflags='-shared -O2 -g -L/usr/local/lib -fstack-protector'


Characteristics of this binary (from libperl): 
  Compile-time options: HAS_TIMES PERLIO_LAYERS PERL_DONT_CREATE_GVSV
                        PERL_MALLOC_WRAP PERL_PRESERVE_IVUV PERL_USE_DEVEL
                        USE_64_BIT_ALL USE_64_BIT_INT USE_LARGE_FILES
                        USE_LOCALE USE_LOCALE_COLLATE USE_LOCALE_CTYPE
                        USE_LOCALE_NUMERIC USE_LONG_DOUBLE USE_PERLIO
                        USE_PERL_ATOF
  Built under linux
  Compiled at Mar 20 2012 15:53:15
  %ENV:
    PERL5LIB=""
    PERL5OPT=""
    PERL5_CPANPLUS_IS_RUNNING="25527"
    PERL5_CPAN_IS_RUNNING="25527"
    PERL_MM_USE_DEFAULT="1"
  @INC:
    /home/src/perl/repoperls/installed-perls/perl/v5.15.8-234-g789326d/127e/lib/site_perl/5.15.9/x86_64-linux-ld
    /home/src/perl/repoperls/installed-perls/perl/v5.15.8-234-g789326d/127e/lib/site_perl/5.15.9
    /home/src/perl/repoperls/installed-perls/perl/v5.15.8-234-g789326d/127e/lib/5.15.9/x86_64-linux-ld
    /home/src/perl/repoperls/installed-perls/perl/v5.15.8-234-g789326d/127e/lib/5.15.9
    .