Test-Pod-LinkCheck v0.008 Perl 5 v5.27.11 OpenBSD.amd64-openbsd-thread-multi
- Status
- Pass
- From
- Alceu Rodrigues de Freitas Junior
- Dist
-
Test-Pod-LinkCheck v0.008
- Platform
- Perl 5 v5.27.11 OpenBSD.amd64-openbsd-thread-multi
- Date
- 2018-06-05 04:14:57
- ID
- 017dd87a-6877-11e8-8b46-97d823f1c0c4
This distribution has been tested as part of the CPAN Testers
project, supporting the Perl programming language. See
http://wiki.cpantesters.org/ for more information or email
questions to cpan-testers-discuss@perl.org
--
Dear Apocalypse,
This is a computer-generated report for Test-Pod-LinkCheck-0.008
on perl 5.27.11, created by CPAN-Reporter-1.2018.
Thank you for uploading your work to CPAN. Congratulations!
All tests were successful.
Sections of this report:
* Tester comments
* Program output
* Prerequisites
* Environment and other context
------------------------------
TESTER COMMENTS
------------------------------
Additional comments from tester:
this report is from an automated smoke testing program
and was not reviewed by a human for accuracy
------------------------------
PROGRAM OUTPUT
------------------------------
Output from './Build test':
t/00-compile.t ................ ok
#
You should load Test::Tester before Test::Builder (or anything that loads Test::Builder) at /home/vegeta/perl5/perlbrew/perls/perl-blead/lib/site_perl/5.27.11/Test/Tester.pm line 9.
#
# Generated by Dist::Zilla::Plugin::ReportVersions::Tiny v1.10
# perl: 5.027011 (wanted 5.006) on openbsd from /home/vegeta/perl5/perlbrew/perls/perl-blead/bin/perl5.27.11
#
# App::PodLinkCheck::ParseLinks => 15 (want 4)
# App::PodLinkCheck::ParseSections => 15 (want any version)
# Capture::Tiny => 0.46 (want any version)
# Exporter => 5.73 (want any version)
# ExtUtils::MakeMaker => 7.34 (want any version)
# File::Spec => 3.74 (want any version)
# File::Temp => 0.2304 (want any version)
# IO::Handle => 1.37 (want any version)
# IPC::Open3 => 1.20 (want any version)
# Module::Build::Tiny => 0.039 (want 0.039)
# Moose => 2.2010 (want 1.01)
# Moose::Util::TypeConstraints => 2.2010 (want 1.01)
# Pod::Find => 1.63 (want any version)
# Test::Builder => 1.302135 (want 0.94)
# Test::More => 1.302135 (want 0.88)
# Test::Pod => 1.51 (want 1.44)
# Test::Tester => 1.302135 (want any version)
# parent => 0.236 (want any version)
# strict => 1.11 (want any version)
# warnings => 1.42 (want any version)
#
# Thanks for using my code. I hope it works for you.
# If not, please try and include this output in the bug report.
# That will help me reproduce the issue and solve your problem.
#
t/000-report-versions-tiny.t .. ok
t/apocalypse.t ................ skipped: Test::Apocalypse required for validating the distribution
t/cpan_backend.t .............. ok
t/functions.t ................. ok
t/simple.t .................... ok
All tests successful.
Test Summary Report
-------------------
t/cpan_backend.t (Wstat: 0 Tests: 24 Failed: 0)
TODO passed: 5-12, 21-24
Files=6, Tests=130, 13 wallclock secs ( 0.03 usr 0.06 sys + 5.80 cusr 3.73 csys = 9.62 CPU)
Result: PASS
------------------------------
PREREQUISITES
------------------------------
Prerequisite modules loaded:
requires:
Module Need Have
-------------------------------- ----- --------
App::PodLinkCheck::ParseLinks 4 15
App::PodLinkCheck::ParseSections 0 15
Capture::Tiny 0 0.46
Exporter 0 5.73
File::Spec 0 3.74
Moose 1.01 2.2010
Moose::Util::TypeConstraints 1.01 2.2010
parent 0 0.236
perl 5.006 5.027011
Pod::Find 0 1.63
strict 0 1.11
Test::Builder 0.94 1.302135
Test::Pod 1.44 1.51
warnings 0 1.42
build_requires:
Module Need Have
-------------------------------- ----- --------
File::Spec 0 3.74
File::Temp 0 0.2304
IO::Handle 0 1.37
IPC::Open3 0 1.20
perl 5.006 5.027011
Test::More 0.88 1.302135
Test::Tester 0 1.302135
configure_requires:
Module Need Have
-------------------------------- ----- --------
ExtUtils::MakeMaker 0 7.34
Module::Build::Tiny 0.039 0.039
perl 5.006 5.027011
------------------------------
ENVIRONMENT AND OTHER CONTEXT
------------------------------
Environment variables:
AUTOMATED_TESTING = 1
DBD_MYSQL_TESTDB = test
DBD_MYSQL_TESTHOST = localhost
DBD_MYSQL_TESTPASSWORD =
DBD_MYSQL_TESTPORT = 3306
DBD_MYSQL_TESTUSER = vegeta
EXTENDED_TESTING = 1
PATH = /home/vegeta/perl5/perlbrew/bin:/home/vegeta/perl5/perlbrew/perls/perl-blead/bin:/home/vegeta/bin:/usr/bin:/bin:/usr/sbin:/sbin:/usr/X11R6/bin:/usr/local/bin:/usr/local/sbin
PERL5LIB =
PERL5OPT =
PERL5_CPANPLUS_IS_RUNNING = 29766
PERL5_CPAN_IS_RUNNING = 29766
PERL5_CPAN_IS_RUNNING_IN_RECURSION = 80336,29766
PERLBREW_HOME = /home/vegeta/.perlbrew
PERLBREW_MANPATH = /home/vegeta/perl5/perlbrew/perls/perl-blead/man
PERLBREW_PATH = /home/vegeta/perl5/perlbrew/bin:/home/vegeta/perl5/perlbrew/perls/perl-blead/bin
PERLBREW_PERL = perl-blead
PERLBREW_ROOT = /home/vegeta/perl5/perlbrew
PERLBREW_SHELLRC_VERSION = 0.82
PERLBREW_VERSION = 0.82
PERL_CR_SMOKER_CURRENT = Dist-Zilla-PluginBundle-Author-WATERKIP-1.8
PERL_EXTUTILS_AUTOINSTALL = --defaultdeps
PERL_MM_USE_DEFAULT = 1
PERL_USE_UNSAFE_INC = 1
SHELL = /usr/local/bin/bash
TERM = vt220
Perl special variables (and OS-specific diagnostics, for MSWin32):
$^X = /home/vegeta/perl5/perlbrew/perls/perl-blead/bin/perl5.27.11
$UID/$EUID = 1002 / 1002
$GID = 1002 1002 1001
$EGID = 1002 1002 1001
Perl module toolchain versions installed:
Module Have
------------------- --------
CPAN 2.20
CPAN::Meta 2.150010
Cwd 3.74
ExtUtils::CBuilder 0.280230
ExtUtils::Command 7.34
ExtUtils::Install 2.14
ExtUtils::MakeMaker 7.34
ExtUtils::Manifest 1.70
ExtUtils::ParseXS 3.39
File::Spec 3.74
JSON 2.97001
JSON::PP 2.97001
Module::Build 0.4224
Module::Signature n/a
Parse::CPAN::Meta 2.150010
Test::Harness 3.42
Test::More 1.302135
YAML 1.24
YAML::Syck n/a
version 0.9918
--
Summary of my perl5 (revision 5 version 27 subversion 11) configuration:
Snapshot of: 3b98040677439914b935745adaabcc2511ff14d0
Platform:
osname=openbsd
osvers=6.2
archname=OpenBSD.amd64-openbsd-thread-multi
uname='openbsd cpan-smoker-openbsd 6.2 generic.mp#134 amd64 '
config_args='-de -Dprefix=/home/vegeta/perl5/perlbrew/perls/perl-blead -Dman1dir=none -Dman3dir=none -Dusemultiplicity -Duse64bitall -Duse64bitint -Dusethreads -Dusedevel'
hint=recommended
useposix=true
d_sigaction=define
useithreads=define
usemultiplicity=define
use64bitint=define
use64bitall=define
uselongdouble=undef
usemymalloc=n
default_inc_excludes_dot=define
bincompat5005=undef
Compiler:
cc='cc'
ccflags ='-pthread -fno-strict-aliasing -pipe -fstack-protector-strong -I/usr/local/include -D_FORTIFY_SOURCE=2'
optimize='-O2'
cppflags='-pthread -fno-strict-aliasing -pipe -fstack-protector-strong -I/usr/local/include'
ccversion=''
gccversion='4.2.1 Compatible OpenBSD Clang 4.0.0 (tags/RELEASE_400/final)'
gccosandvers=''
intsize=4
longsize=8
ptrsize=8
doublesize=8
byteorder=12345678
doublekind=3
d_longlong=define
longlongsize=8
d_longdbl=define
longdblsize=16
longdblkind=3
ivtype='long'
ivsize=8
nvtype='double'
nvsize=8
Off_t='off_t'
lseeksize=8
alignbytes=8
prototype=define
Linker and Libraries:
ld='cc'
ldflags ='-pthread -Wl,-E -fstack-protector-strong -L/usr/local/lib'
libpth=/usr/lib /usr/local/lib
libs=-lpthread -lm -lutil -lc
perllibs=-lpthread -lm -lutil -lc
libc=/usr/lib/libc.so.90.0
so=so
useshrplib=false
libperl=libperl.a
gnulibc_version=''
Dynamic Linking:
dlsrc=dl_dlopen.xs
dlext=so
d_dlsymun=undef
ccdlflags=' '
cccdlflags='-DPIC -fPIC '
lddlflags='-shared -fPIC -L/usr/local/lib -fstack-protector-strong'
Characteristics of this binary (from libperl):
Compile-time options:
HAS_TIMES
MULTIPLICITY
PERLIO_LAYERS
PERL_COPY_ON_WRITE
PERL_DONT_CREATE_GVSV
PERL_IMPLICIT_CONTEXT
PERL_MALLOC_WRAP
PERL_OP_PARENT
PERL_PRESERVE_IVUV
PERL_USE_DEVEL
USE_64_BIT_ALL
USE_64_BIT_INT
USE_ITHREADS
USE_LARGE_FILES
USE_LOCALE
USE_LOCALE_COLLATE
USE_LOCALE_CTYPE
USE_LOCALE_NUMERIC
USE_LOCALE_TIME
USE_PERLIO
USE_PERL_ATOF
USE_REENTRANT_API
Locally applied patches:
Devel::PatchPerl 1.48
Built under openbsd
Compiled at Mar 31 2018 13:35:08
%ENV:
PERL5LIB=""
PERL5OPT=""
PERL5_CPANPLUS_IS_RUNNING="29766"
PERL5_CPAN_IS_RUNNING="29766"
PERL5_CPAN_IS_RUNNING_IN_RECURSION="80336,29766"
PERLBREW_HOME="/home/vegeta/.perlbrew"
PERLBREW_MANPATH="/home/vegeta/perl5/perlbrew/perls/perl-blead/man"
PERLBREW_PATH="/home/vegeta/perl5/perlbrew/bin:/home/vegeta/perl5/perlbrew/perls/perl-blead/bin"
PERLBREW_PERL="perl-blead"
PERLBREW_ROOT="/home/vegeta/perl5/perlbrew"
PERLBREW_SHELLRC_VERSION="0.82"
PERLBREW_VERSION="0.82"
PERL_CR_SMOKER_CURRENT="Dist-Zilla-PluginBundle-Author-WATERKIP-1.8"
PERL_EXTUTILS_AUTOINSTALL="--defaultdeps"
PERL_MM_USE_DEFAULT="1"
PERL_USE_UNSAFE_INC="1"
@INC:
/home/vegeta/perl5/perlbrew/perls/perl-blead/lib/site_perl/5.27.11/OpenBSD.amd64-openbsd-thread-multi
/home/vegeta/perl5/perlbrew/perls/perl-blead/lib/site_perl/5.27.11
/home/vegeta/perl5/perlbrew/perls/perl-blead/lib/5.27.11/OpenBSD.amd64-openbsd-thread-multi
/home/vegeta/perl5/perlbrew/perls/perl-blead/lib/5.27.11
.