Spreadsheet-Engine v0.14 Perl 5 v5.12.2 x86_64-linux
- Status
- Pass
- From
- Daniel Bosold (DEVOGON)
- Dist
-
Spreadsheet-Engine v0.14
- Platform
- Perl 5 v5.12.2 x86_64-linux
- Date
- 2010-10-10 05:26:59
- ID
- 01643198-d42f-11df-953c-a1245264952e
This distribution has been tested as part of the CPAN Testers
project, supporting the Perl programming language. See
http://wiki.cpantesters.org/ for more information or email
questions to cpan-testers-discuss@perl.org
--
Dear Tony Bowden,
This is a computer-generated report for Spreadsheet-Engine-0.14
on perl 5.12.2, created by CPAN-Reporter-1.1801.
Thank you for uploading your work to CPAN. Congratulations!
All tests were successful.
Sections of this report:
* Tester comments
* Program output
* Prerequisites
* Environment and other context
------------------------------
TESTER COMMENTS
------------------------------
Additional comments from tester:
this report is from an automated smoke testing program
and was not reviewed by a human for accuracy
------------------------------
PROGRAM OUTPUT
------------------------------
Output from '/usr/bin/make test':
PERL_DL_NONLAZY=1 /home/cpt1/cpantesting/perl-5.12.2/bin/perl "-MExtUtils::Command::MM" "-e" "test_harness(0, 'blib/lib', 'blib/arch')" t/*.t
t/98-pod.t .......... skipped: Test::Pod 1.00 required for testing POD
t/99-podc.t ......... skipped: Test::Pod::Coverage required for testing POD
t/circular.t ........ ok
t/commands.t ........ ok
t/copypaste.t ....... ok
t/fmt_date.t ........ ok
t/fmt_num.t ......... ok
t/fn_args.t ......... ok
t/header.t .......... ok
t/of-autonum.t ...... ok
t/of-colrows.t ...... ok
t/of-conversions.t .. ok
t/of-count.t ........ ok
t/of-criteria.t ..... ok
t/of-database.t ..... ok
t/of-datetime.t ..... ok
t/of-errors.t ....... ok
t/of-financial.t .... ok
t/of-is.t ........... ok
t/of-limits.t ....... ok
t/of-logical.t ...... ok
t/of-lookup.t ....... ok
t/of-math.t ......... ok
t/of-names.t ........ ok
t/of-numbers.t ...... ok
t/of-operators.t .... ok
t/of-params.t ....... ok
t/of-references.t ... ok
t/of-rounding.t ..... ok
t/of-stats.t ........ ok
t/of-strings.t ...... ok
t/of-value.t ........ ok
t/of-whitespace.t ... ok
t/series.t .......... ok
t/stringfns.t ....... ok
t/today.t ........... ok
All tests successful.
Files=36, Tests=724, 14 wallclock secs ( 0.25 usr 0.08 sys + 9.01 cusr 0.41 csys = 9.75 CPU)
Result: PASS
------------------------------
PREREQUISITES
------------------------------
Prerequisite modules loaded:
No requirements found
------------------------------
ENVIRONMENT AND OTHER CONTEXT
------------------------------
Environment variables:
AUTOMATED_TESTING = 1
LANG = en_US.utf8
PATH = /usr/local/bin:/usr/bin:/bin:/usr/local/games:/usr/games
PERL5LIB =
PERL5OPT =
PERL5_CPANPLUS_IS_RUNNING = 13532
PERL5_CPAN_IS_RUNNING = 13532
PERL5_CPAN_IS_RUNNING_IN_RECURSION = 4660,13532
PERL_CR_SMOKER_CURRENT = Spreadsheet-Engine-0.14
PERL_EXTUTILS_AUTOINSTALL = --defaultdeps
PERL_MM_USE_DEFAULT = 1
SHELL = /bin/bash
TERM = screen-bce
Perl special variables (and OS-specific diagnostics, for MSWin32):
$^X = /home/cpt1/cpantesting/perl-5.12.2/bin/perl
$UID/$EUID = 1002 / 1002
$GID = 1002 20 24 25 27 29 30 44 46 100 102 106 112 114 1002
$EGID = 1002 20 24 25 27 29 30 44 46 100 102 106 112 114 1002
Perl module toolchain versions installed:
Module Have
------------------- -------
CPAN 1.94_56
Cwd 3.31
ExtUtils::CBuilder 0.27
ExtUtils::Command 1.16
ExtUtils::Install 1.55
ExtUtils::MakeMaker 6.56
ExtUtils::Manifest 1.57
ExtUtils::ParseXS 2.21
File::Spec 3.31_01
Module::Build 0.3603
Module::Signature n/a
Test::Harness 3.17
Test::More 0.94
YAML 0.72
YAML::Syck n/a
version 0.82
--
Summary of my perl5 (revision 5 version 12 subversion 2) configuration:
Platform:
osname=linux, osvers=2.6.34-0.slh.9-sidux-amd64, archname=x86_64-linux
uname='linux verona 2.6.34-0.slh.9-sidux-amd64 #1 smp preempt sat jun 12 23:27:41 utc 2010 x86_64 gnulinux '
config_args='-Dprefix=/home/cpt1/cpantesting/perl-5.12.2'
hint=recommended, useposix=true, d_sigaction=define
useithreads=undef, usemultiplicity=undef
useperlio=define, d_sfio=undef, uselargefiles=define, usesocks=undef
use64bitint=define, use64bitall=define, uselongdouble=undef
usemymalloc=n, bincompat5005=undef
Compiler:
cc='cc', ccflags ='-fno-strict-aliasing -pipe -fstack-protector -I/usr/local/include -D_LARGEFILE_SOURCE -D_FILE_OFFSET_BITS=64',
optimize='-O2',
cppflags='-fno-strict-aliasing -pipe -fstack-protector -I/usr/local/include'
ccversion='', gccversion='4.4.5 20100902 (prerelease)', gccosandvers=''
intsize=4, longsize=8, ptrsize=8, doublesize=8, byteorder=12345678
d_longlong=define, longlongsize=8, d_longdbl=define, longdblsize=16
ivtype='long', ivsize=8, nvtype='double', nvsize=8, Off_t='off_t', lseeksize=8
alignbytes=8, prototype=define
Linker and Libraries:
ld='cc', ldflags =' -fstack-protector -L/usr/local/lib'
libpth=/usr/local/lib /lib /usr/lib /lib64 /usr/lib64
libs=-lnsl -lgdbm -ldb -ldl -lm -lcrypt -lutil -lc -lgdbm_compat
perllibs=-lnsl -ldl -lm -lcrypt -lutil -lc
libc=/lib/libc-2.11.1.so, so=so, useshrplib=false, libperl=libperl.a
gnulibc_version='2.11.1'
Dynamic Linking:
dlsrc=dl_dlopen.xs, dlext=so, d_dlsymun=undef, ccdlflags='-Wl,-E'
cccdlflags='-fPIC', lddlflags='-shared -O2 -L/usr/local/lib -fstack-protector'
Characteristics of this binary (from libperl):
Compile-time options: PERL_DONT_CREATE_GVSV PERL_MALLOC_WRAP USE_64_BIT_ALL
USE_64_BIT_INT USE_LARGE_FILES USE_PERLIO
USE_PERL_ATOF
Built under linux
Compiled at Sep 17 2010 19:05:46
%ENV:
PERL5LIB=""
PERL5OPT=""
PERL5_CPANPLUS_IS_RUNNING="13532"
PERL5_CPAN_IS_RUNNING="13532"
PERL5_CPAN_IS_RUNNING_IN_RECURSION="4660,13532"
PERL_CR_SMOKER_CURRENT="Spreadsheet-Engine-0.14"
PERL_EXTUTILS_AUTOINSTALL="--defaultdeps"
PERL_MM_USE_DEFAULT="1"
@INC:
/home/cpt1/cpantesting/perl-5.12.2/lib/site_perl/5.12.2/x86_64-linux
/home/cpt1/cpantesting/perl-5.12.2/lib/site_perl/5.12.2
/home/cpt1/cpantesting/perl-5.12.2/lib/5.12.2/x86_64-linux
/home/cpt1/cpantesting/perl-5.12.2/lib/5.12.2
.