Mojolicious-Plugin-LinkEmbedder v0.20 Perl 5 v5.20.1 x86_64-linux

Status
Pass
From
NONAME
Dist
Mojolicious-Plugin-LinkEmbedder v0.20
Platform
Perl 5 v5.20.1 x86_64-linux
Date
2015-02-15 10:32:56
ID
0159e328-b4fe-11e4-9a2c-29e6c615bc7f
This distribution has been tested as part of the CPAN Testers
project, supporting the Perl programming language.  See
http://wiki.cpantesters.org/ for more information or email
questions to cpan-testers-discuss@perl.org


--
Dear JHTHORSEN,

This is a computer-generated report for Mojolicious-Plugin-LinkEmbedder-0.20
on perl 5.20.1, created by App::cpanminus::reporter 0.12 (1.7026).

Thank you for uploading your work to CPAN.  Congratulations!
All tests were successful.

Sections of this report:

    * Tester comments
    * Program output
    * Prerequisites
    * Environment and other context

------------------------------
TESTER COMMENTS
------------------------------

Additional comments from tester:

none provided

------------------------------
PROGRAM OUTPUT
------------------------------

Output from '':

Building and testing Mojolicious-Plugin-LinkEmbedder-0.20
cp lib/Mojolicious/Plugin/LinkEmbedder/Link/Text/Twitter.pm blib/lib/Mojolicious/Plugin/LinkEmbedder/Link/Text/Twitter.pm
cp lib/Mojolicious/Plugin/LinkEmbedder/Link/Video/Blip.pm blib/lib/Mojolicious/Plugin/LinkEmbedder/Link/Video/Blip.pm
cp lib/Mojolicious/Plugin/LinkEmbedder.pm blib/lib/Mojolicious/Plugin/LinkEmbedder.pm
cp lib/Mojolicious/Plugin/LinkEmbedder/Link/Video/Ted.pm blib/lib/Mojolicious/Plugin/LinkEmbedder/Link/Video/Ted.pm
cp lib/Mojolicious/Plugin/LinkEmbedder/Link/Text.pm blib/lib/Mojolicious/Plugin/LinkEmbedder/Link/Text.pm
cp lib/Mojolicious/Plugin/LinkEmbedder/Link/Text/Github.pm blib/lib/Mojolicious/Plugin/LinkEmbedder/Link/Text/Github.pm
cp lib/Mojolicious/Plugin/LinkEmbedder/Link/Text/HTML.pm blib/lib/Mojolicious/Plugin/LinkEmbedder/Link/Text/HTML.pm
cp lib/Mojolicious/Plugin/LinkEmbedder/Link/Video.pm blib/lib/Mojolicious/Plugin/LinkEmbedder/Link/Video.pm
cp lib/Mojolicious/Plugin/LinkEmbedder/Link/Video/Youtube.pm blib/lib/Mojolicious/Plugin/LinkEmbedder/Link/Video/Youtube.pm
cp lib/Mojolicious/Plugin/LinkEmbedder/Link/Video/Dbtv.pm blib/lib/Mojolicious/Plugin/LinkEmbedder/Link/Video/Dbtv.pm
cp lib/Mojolicious/Plugin/LinkEmbedder/Link.pm blib/lib/Mojolicious/Plugin/LinkEmbedder/Link.pm
cp lib/Mojolicious/Plugin/LinkEmbedder/Link/Text/Travis.pm blib/lib/Mojolicious/Plugin/LinkEmbedder/Link/Text/Travis.pm
cp lib/Mojolicious/Plugin/LinkEmbedder/Link/Text/Metacpan.pm blib/lib/Mojolicious/Plugin/LinkEmbedder/Link/Text/Metacpan.pm
cp lib/Mojolicious/Plugin/LinkEmbedder/Link/Game/_2play.pm blib/lib/Mojolicious/Plugin/LinkEmbedder/Link/Game/_2play.pm
cp lib/Mojolicious/Plugin/LinkEmbedder/Link/Text/GistGithub.pm blib/lib/Mojolicious/Plugin/LinkEmbedder/Link/Text/GistGithub.pm
cp lib/Mojolicious/Plugin/LinkEmbedder/Link/Image/Xkcd.pm blib/lib/Mojolicious/Plugin/LinkEmbedder/Link/Image/Xkcd.pm
cp lib/Mojolicious/Plugin/LinkEmbedder/Link/Image/Imgur.pm blib/lib/Mojolicious/Plugin/LinkEmbedder/Link/Image/Imgur.pm
cp lib/Mojolicious/Plugin/LinkEmbedder/Link/Image.pm blib/lib/Mojolicious/Plugin/LinkEmbedder/Link/Image.pm
cp lib/Mojolicious/Plugin/LinkEmbedder/Link/Video/AppearIn.pm blib/lib/Mojolicious/Plugin/LinkEmbedder/Link/Video/AppearIn.pm
cp lib/Mojolicious/Plugin/LinkEmbedder/Link/Game.pm blib/lib/Mojolicious/Plugin/LinkEmbedder/Link/Game.pm
cp lib/Mojolicious/Plugin/LinkEmbedder/Link/Video/Vimeo.pm blib/lib/Mojolicious/Plugin/LinkEmbedder/Link/Video/Vimeo.pm
cp lib/Mojolicious/Plugin/LinkEmbedder/Link/Video/Collegehumor.pm blib/lib/Mojolicious/Plugin/LinkEmbedder/Link/Video/Collegehumor.pm
Manifying blib/man3/Mojolicious::Plugin::LinkEmbedder.3
Manifying blib/man3/Mojolicious::Plugin::LinkEmbedder::Link.3
Manifying blib/man3/Mojolicious::Plugin::LinkEmbedder::Link::Game.3
Manifying blib/man3/Mojolicious::Plugin::LinkEmbedder::Link::Game::_2play.3
Manifying blib/man3/Mojolicious::Plugin::LinkEmbedder::Link::Image.3
Manifying blib/man3/Mojolicious::Plugin::LinkEmbedder::Link::Image::Imgur.3
Manifying blib/man3/Mojolicious::Plugin::LinkEmbedder::Link::Image::Xkcd.3
Manifying blib/man3/Mojolicious::Plugin::LinkEmbedder::Link::Text.3
Manifying blib/man3/Mojolicious::Plugin::LinkEmbedder::Link::Text::GistGithub.3
Manifying blib/man3/Mojolicious::Plugin::LinkEmbedder::Link::Text::Github.3
Manifying blib/man3/Mojolicious::Plugin::LinkEmbedder::Link::Text::HTML.3
Manifying blib/man3/Mojolicious::Plugin::LinkEmbedder::Link::Text::Metacpan.3
Manifying blib/man3/Mojolicious::Plugin::LinkEmbedder::Link::Text::Travis.3
Manifying blib/man3/Mojolicious::Plugin::LinkEmbedder::Link::Text::Twitter.3
Manifying blib/man3/Mojolicious::Plugin::LinkEmbedder::Link::Video.3
Manifying blib/man3/Mojolicious::Plugin::LinkEmbedder::Link::Video::AppearIn.3
Manifying blib/man3/Mojolicious::Plugin::LinkEmbedder::Link::Video::Blip.3
Manifying blib/man3/Mojolicious::Plugin::LinkEmbedder::Link::Video::Collegehumor.3
Manifying blib/man3/Mojolicious::Plugin::LinkEmbedder::Link::Video::Dbtv.3
Manifying blib/man3/Mojolicious::Plugin::LinkEmbedder::Link::Video::Ted.3
Manifying blib/man3/Mojolicious::Plugin::LinkEmbedder::Link::Video::Vimeo.3
Manifying blib/man3/Mojolicious::Plugin::LinkEmbedder::Link::Video::Youtube.3
PERL_DL_NONLAZY=1 /home/mojolicious/perl5/perlbrew/perls/perl-5.20.1/bin/perl "-MExtUtils::Command::MM" "-MTest::Harness" "-e" "undef *Test::Harness::Switches; test_harness(0, 'blib/lib', 'blib/arch')" t/*.t
t/00-basic.t ............ ok
t/fallback.t ............ skipped: TEST_ONLINE=1 need to be set
t/image-base.t .......... skipped: TEST_ONLINE=1 need to be set
t/image-imgur.t ......... skipped: TEST_ONLINE=1 need to be set
t/image-xkcd.t .......... skipped: TEST_ONLINE=1 need to be set
t/is.t .................. ok
t/text-gist-github.t .... skipped: TEST_ONLINE=1 need to be set
t/text-github.t ......... skipped: TEST_ONLINE=1 need to be set
t/text-html.t ........... ok
t/text-metacpan.t ....... skipped: TEST_ONLINE=1 need to be set
t/text-travis.t ......... skipped: TEST_ONLINE=1 need to be set
t/text-twitter.t ........ skipped: TEST_ONLINE=1 need to be set
t/video-appearin.t ...... skipped: TEST_ONLINE=1 need to be set
t/video-base.t .......... skipped: TEST_ONLINE=1 need to be set
t/video-blip.t .......... skipped: TEST_ONLINE=1 need to be set
t/video-collegehumor.t .. skipped: TEST_ONLINE=1 need to be set
t/video-dbtv.t .......... skipped: TEST_ONLINE=1 need to be set
t/video-ted.t ........... skipped: TEST_ONLINE=1 need to be set
t/video-vimeo.t ......... skipped: TEST_ONLINE=1 need to be set
t/video-youtube.t ....... skipped: TEST_ONLINE=1 need to be set
All tests successful.
Files=20, Tests=88,  6 wallclock secs ( 0.07 usr  0.02 sys +  5.40 cusr  0.62 csys =  6.11 CPU)
Result: PASS

------------------------------
PREREQUISITES
------------------------------

Prerequisite modules loaded:

    No requirements found

------------------------------
ENVIRONMENT AND OTHER CONTEXT
------------------------------

Environment variables:

    PATH = /home/mojolicious/perl5/perlbrew/bin:/home/mojolicious/perl5/perlbrew/perls/perl-5.20.1/bin:/usr/local/bin:/usr/bin:/bin:/usr/local/games:/usr/games
    PERLBREW_BASHRC_VERSION = 0.73
    PERLBREW_HOME = /home/mojolicious/.perlbrew
    PERLBREW_MANPATH = /home/mojolicious/perl5/perlbrew/perls/perl-5.20.1/man
    PERLBREW_PATH = /home/mojolicious/perl5/perlbrew/bin:/home/mojolicious/perl5/perlbrew/perls/perl-5.20.1/bin
    PERLBREW_PERL = perl-5.20.1
    PERLBREW_ROOT = /home/mojolicious/perl5/perlbrew
    PERLBREW_VERSION = 0.73
    SHELL = /bin/bash
    TERM = xterm

Perl special variables (and OS-specific diagnostics, for MSWin32):

    EGID = 1003 1003
    EUID = 1003
    EXECUTABLE_NAME = /home/mojolicious/perl5/perlbrew/perls/perl-5.20.1/bin/perl
    GID = 1003 1003
    UID = 1003

Perl module toolchain versions installed:

    Module              Have    
    ------------------- --------
    CPAN                2.05    
    CPAN::Meta          2.143240
    Cwd                 3.48    
    ExtUtils::CBuilder  0.280217
    ExtUtils::Command   1.18    
    ExtUtils::Install   1.67    
    ExtUtils::MakeMaker 6.98    
    ExtUtils::Manifest  1.63    
    ExtUtils::ParseXS   3.24    
    File::Spec          3.48    
    JSON                2.90    
    JSON::PP            2.27203 
    Module::Build       0.4211  
    Module::Signature   n/a     
    Parse::CPAN::Meta   1.4414  
    Test::Harness       3.30    
    Test::More          1.001014
    YAML                n/a     
    YAML::Syck          n/a     
    version             0.9909  


--

Summary of my perl5 (revision 5 version 20 subversion 1) configuration:
   
  Platform:
    osname=linux, osvers=3.13.0-042stab094.8, archname=x86_64-linux
    uname='linux lvps92-51-161-142.dedicated.hosteurope.de 3.13.0-042stab094.8 #1 smp tue dec 16 20:36:56 msk 2014 x86_64 x86_64 x86_64 gnulinux '
    config_args='-de -Dprefix=/home/mojolicious/perl5/perlbrew/perls/perl-5.20.1 -Aeval:scriptdir=/home/mojolicious/perl5/perlbrew/perls/perl-5.20.1/bin'
    hint=recommended, useposix=true, d_sigaction=define
    useithreads=undef, usemultiplicity=undef
    use64bitint=define, use64bitall=define, uselongdouble=undef
    usemymalloc=n, bincompat5005=undef
  Compiler:
    cc='cc', ccflags ='-fwrapv -fno-strict-aliasing -pipe -fstack-protector -I/usr/local/include -D_LARGEFILE_SOURCE -D_FILE_OFFSET_BITS=64',
    optimize='-O2',
    cppflags='-fwrapv -fno-strict-aliasing -pipe -fstack-protector -I/usr/local/include'
    ccversion='', gccversion='4.8.2', gccosandvers=''
    intsize=4, longsize=8, ptrsize=8, doublesize=8, byteorder=12345678
    d_longlong=define, longlongsize=8, d_longdbl=define, longdblsize=16
    ivtype='long', ivsize=8, nvtype='double', nvsize=8, Off_t='off_t', lseeksize=8
    alignbytes=8, prototype=define
  Linker and Libraries:
    ld='cc', ldflags =' -fstack-protector -L/usr/local/lib'
    libpth=/usr/local/lib /usr/lib/gcc/x86_64-linux-gnu/4.8/include-fixed /usr/include/x86_64-linux-gnu /usr/lib /lib/x86_64-linux-gnu /lib/../lib /usr/lib/x86_64-linux-gnu /usr/lib/../lib /lib
    libs=-lnsl -ldl -lm -lcrypt -lutil -lc
    perllibs=-lnsl -ldl -lm -lcrypt -lutil -lc
    libc=libc-2.19.so, so=so, useshrplib=false, libperl=libperl.a
    gnulibc_version='2.19'
  Dynamic Linking:
    dlsrc=dl_dlopen.xs, dlext=so, d_dlsymun=undef, ccdlflags='-Wl,-E'
    cccdlflags='-fPIC', lddlflags='-shared -O2 -L/usr/local/lib -fstack-protector'


Characteristics of this binary (from libperl): 
  Compile-time options: HAS_TIMES PERLIO_LAYERS PERL_DONT_CREATE_GVSV
                        PERL_HASH_FUNC_ONE_AT_A_TIME_HARD PERL_MALLOC_WRAP
                        PERL_NEW_COPY_ON_WRITE PERL_PRESERVE_IVUV
                        USE_64_BIT_ALL USE_64_BIT_INT USE_LARGE_FILES
                        USE_LOCALE USE_LOCALE_COLLATE USE_LOCALE_CTYPE
                        USE_LOCALE_NUMERIC USE_PERLIO USE_PERL_ATOF
  Locally applied patches:
	Devel::PatchPerl 1.30
  Built under linux
  Compiled at Feb 14 2015 13:04:01
  %ENV:
    PERLBREW_BASHRC_VERSION="0.73"
    PERLBREW_HOME="/home/mojolicious/.perlbrew"
    PERLBREW_MANPATH="/home/mojolicious/perl5/perlbrew/perls/perl-5.20.1/man"
    PERLBREW_PATH="/home/mojolicious/perl5/perlbrew/bin:/home/mojolicious/perl5/perlbrew/perls/perl-5.20.1/bin"
    PERLBREW_PERL="perl-5.20.1"
    PERLBREW_ROOT="/home/mojolicious/perl5/perlbrew"
    PERLBREW_VERSION="0.73"
  @INC:
    /home/mojolicious/perl5/perlbrew/perls/perl-5.20.1/lib/site_perl/5.20.1/x86_64-linux
    /home/mojolicious/perl5/perlbrew/perls/perl-5.20.1/lib/site_perl/5.20.1
    /home/mojolicious/perl5/perlbrew/perls/perl-5.20.1/lib/5.20.1/x86_64-linux
    /home/mojolicious/perl5/perlbrew/perls/perl-5.20.1/lib/5.20.1
    .