Dancer-Plugin-Swagger v0.3.0 Perl 5 v5.34.1 RC2 x86_64-linux-thread-multi

Status
Pass
From
Andreas J. König (ANDK)
Dist
Dancer-Plugin-Swagger v0.3.0
Platform
Perl 5 v5.34.1 RC2 x86_64-linux-thread-multi
Date
2022-03-12 23:20:28
ID
0136035c-a25b-11ec-bc3f-fbfc9eb705c3
This distribution has been tested as part of the CPAN Testers
project, supporting the Perl programming language.  See
http://wiki.cpantesters.org/ for more information or email
questions to cpan-testers-discuss@perl.org


--
Dear Yanick Champoux,

This is a computer-generated report for Dancer-Plugin-Swagger-0.3.0
on perl 5.34.1, created by CPAN-Reporter-1.2018.

Thank you for uploading your work to CPAN.  Congratulations!
All tests were successful.

Sections of this report:

    * Tester comments
    * Program output
    * Prerequisites
    * Environment and other context

------------------------------
TESTER COMMENTS
------------------------------

Additional comments from tester:

this report is from an automated smoke testing program
and was not reviewed by a human for accuracy

------------------------------
PROGRAM OUTPUT
------------------------------

Output from '/usr/bin/make test':

Skip blib/lib/auto/share/dist/Dancer-Plugin-Swagger/shared-files.tar.gz (unchanged)
PERL_DL_NONLAZY=1 "/tmp/basesmoker-reloperl-b94R/bin/perl" "-MExtUtils::Command::MM" "-MTest::Harness" "-e" "undef *Test::Harness::Switches; test_harness(0, 'blib/lib', 'blib/arch')" t/*.t
t/00-compile.t ......... ok
# 
# Versions for all modules listed in MYMETA.json (including optional ones):
# 
# === Configure Requires ===
# 
#     Module                  Want Have
#     ----------------------- ---- ----
#     ExtUtils::MakeMaker      any 7.64
#     File::ShareDir::Install 0.06 0.13
# 
# === Build Requires ===
# 
#     Module              Want Have
#     ------------------- ---- ----
#     ExtUtils::MakeMaker  any 7.64
# 
# === Test Requires ===
# 
#     Module                     Want     Have
#     -------------------------- ---- --------
#     ExtUtils::MakeMaker         any     7.64
#     File::Spec                  any     3.80
#     IO::Handle                  any     1.46
#     IPC::Open3                  any     1.21
#     Test::Deep                  any    1.130
#     Test::More                  any 1.302190
#     Test::WWW::Mechanize::PSGI  any     0.39
# 
# === Test Recommends ===
# 
#     Module         Want     Have
#     ---------- -------- --------
#     CPAN::Meta 2.120900 2.150010
# 
# === Runtime Requires ===
# 
#     Module                  Want     Have
#     ----------------------- ---- --------
#     Carp                     any     1.52
#     Class::Load              any     0.25
#     Clone                    any     0.45
#     Dancer                   any   1.3513
#     Dancer::Plugin           any   1.3513
#     Dancer::Plugin::REST     any     0.11
#     Dancer::Response         any   1.3513
#     File::ShareDir::Tarball  any    0.2.2
#     Hash::Merge              any    0.302
#     JSON                     any     4.05
#     List::AllUtils           any     0.19
#     Module::Version          any    0.201
#     Moo                      any 2.005004
#     MooX::Singleton          any     1.20
#     MooseX::MungeHas         any    0.011
#     Path::Tiny               any    0.122
#     PerlX::Maybe             any    1.201
#     overload                 any     1.33
#     strict                   any     1.12
#     warnings                 any     1.51
# 
t/00-report-prereqs.t .. ok
t/basic.t .............. ok
t/definition.t ......... ok
All tests successful.
Files=4, Tests=12,  1 wallclock secs ( 0.03 usr  0.03 sys +  1.29 cusr  0.31 csys =  1.66 CPU)
Result: PASS

------------------------------
PREREQUISITES
------------------------------

Prerequisite modules loaded:

requires:

    Module                     Need  Have    
    -------------------------- ----- --------
    Carp                       0     1.52    
    Class::Load                0     0.25    
    Clone                      0     0.45    
    Dancer                     0     1.3513  
    Dancer::Plugin             0     1.3513  
    Dancer::Plugin::REST       0     0.11    
    Dancer::Response           0     1.3513  
    File::ShareDir::Tarball    0     0.2.2   
    Hash::Merge                0     0.302   
    JSON                       0     4.05    
    List::AllUtils             0     0.19    
    Module::Version            0     0.201   
    Moo                        0     2.005004
    MooseX::MungeHas           0     0.011   
    MooX::Singleton            0     1.20    
    overload                   0     1.33    
    Path::Tiny                 0     0.122   
    perl                       5.006 5.034001
    PerlX::Maybe               0     1.201   
    strict                     0     1.12    
    warnings                   0     1.51    

build_requires:

    Module                     Need  Have    
    -------------------------- ----- --------
    ExtUtils::MakeMaker        0     7.64    
    File::Spec                 0     3.80    
    IO::Handle                 0     1.46    
    IPC::Open3                 0     1.21    
    Test::Deep                 0     1.130   
    Test::More                 0     1.302190
    Test::WWW::Mechanize::PSGI 0     0.39    

configure_requires:

    Module                     Need  Have    
    -------------------------- ----- --------
    ExtUtils::MakeMaker        0     7.64    
    File::ShareDir::Install    0.06  0.13    


------------------------------
ENVIRONMENT AND OTHER CONTEXT
------------------------------

Environment variables:

    AUTOMATED_TESTING = 1
    LANG = en_US.utf8
    PATH = /home/sand/bin:/usr/local/bin:/usr/local/sbin:/usr/sbin:/usr/bin:/sbin:/bin:/usr/games:/usr/local/games:/snap/bin:/usr/local/perl/bin:/usr/X11/bin
    PERL = /tmp/basesmoker-reloperl-b94R/bin/perl
    PERL5LIB = /tmp/loop_over_bdir-150933-58WzfI/LCFG-Build-Tools-0.9.30-0/blib/arch:/tmp/loop_over_bdir-150933-58WzfI/LCFG-Build-Tools-0.9.30-0/blib/lib:/tmp/loop_over_bdir-150933-58WzfI/shishi-0.0.1-0/blib/arch:/tmp/loop_over_bdir-150933-58WzfI/shishi-0.0.1-0/blib/lib:/tmp/loop_over_bdir-150933-58WzfI/downsexta-0/blib/arch:/tmp/loop_over_bdir-150933-58WzfI/downsexta-0/blib/lib:/tmp/loop_over_bdir-150933-58WzfI/Business-Shipping-DataFiles-1.02-0/blib/arch:/tmp/loop_over_bdir-150933-58WzfI/Business-Shipping-DataFiles-1.02-0/blib/lib:/tmp/loop_over_bdir-150933-58WzfI/Devel-Required-0.16-0/blib/arch:/tmp/loop_over_bdir-150933-58WzfI/Devel-Required-0.16-0/blib/lib:/tmp/loop_over_bdir-150933-58WzfI/Net-OpenVPN-DDNS-0.1-0/blib/arch:/tmp/loop_over_bdir-150933-58WzfI/Net-OpenVPN-DDNS-0.1-0/blib/lib:/tmp/loop_over_bdir-150933-58WzfI/Net-ISP-Balance-1.31-0/blib/arch:/tmp/loop_over_bdir-150933-58WzfI/Net-ISP-Balance-1.31-0/blib/lib
    PERL5OPT = 
    PERL5_CPANPLUS_IS_RUNNING = 150947
    PERL5_CPAN_IS_RUNNING = 150947
    PERL_CANARY_STABILITY_NOPROMPT = 1
    PERL_MM_USE_DEFAULT = 1
    PERL_USE_UNSAFE_INC = 1
    SHELL = /usr/bin/zsh
    TERM = screen

Perl special variables (and OS-specific diagnostics, for MSWin32):

    $^X = /tmp/basesmoker-reloperl-b94R/bin/perl
    $UID/$EUID = 1005 / 1005
    $GID = 1005 1005
    $EGID = 1005 1005

Perl module toolchain versions installed:

    Module              Have    
    ------------------- --------
    CPAN                2.33    
    CPAN::Meta          2.150010
    Cwd                 3.80    
    ExtUtils::CBuilder  0.280236
    ExtUtils::Command   7.64    
    ExtUtils::Install   2.20    
    ExtUtils::MakeMaker 7.64    
    ExtUtils::Manifest  1.73    
    ExtUtils::ParseXS   3.44    
    File::Spec          3.80    
    JSON                4.05    
    JSON::PP            4.06    
    Module::Build       0.4231  
    Module::Signature   0.88    
    Parse::CPAN::Meta   2.150010
    Test::Harness       3.43    
    Test::More          1.302190
    YAML                1.30    
    YAML::Syck          1.34    
    version             0.9929  


--

Summary of my perl5 (revision 5 version 34 subversion 1) configuration:
  Commit id: 23fa289c91349497f7c149ace76da18516ca92be
  Platform:
    osname=linux
    osvers=5.4.0-100-generic
    archname=x86_64-linux-thread-multi
    uname='linux k93focal 5.4.0-100-generic #113-ubuntu smp thu feb 3 18:43:29 utc 2022 x86_64 x86_64 x86_64 gnulinux '
    config_args='-Dprefix=/home/sand/src/perl/repoperls/installed-perls/host/k93focal/v5.34.1-RC2/300c -Dmyhostname=k93focal -Dinstallusrbinperl=n -Uversiononly -Dusedevel -des -Ui_db -Dlibswanted=cl pthread socket inet nsl gdbm dbm malloc dl ld sun m crypt sec util c cposix posix ucb BSD gdbm_compat -Duseithreads -Uuselongdouble -DEBUGGING=-g'
    hint=recommended
    useposix=true
    d_sigaction=define
    useithreads=define
    usemultiplicity=define
    use64bitint=define
    use64bitall=define
    uselongdouble=undef
    usemymalloc=n
    default_inc_excludes_dot=define
  Compiler:
    cc='cc'
    ccflags ='-D_REENTRANT -D_GNU_SOURCE -fwrapv -fno-strict-aliasing -pipe -fstack-protector-strong -I/usr/local/include -D_LARGEFILE_SOURCE -D_FILE_OFFSET_BITS=64'
    optimize='-O2 -g'
    cppflags='-D_REENTRANT -D_GNU_SOURCE -fwrapv -fno-strict-aliasing -pipe -fstack-protector-strong -I/usr/local/include'
    ccversion=''
    gccversion='9.3.0'
    gccosandvers=''
    intsize=4
    longsize=8
    ptrsize=8
    doublesize=8
    byteorder=12345678
    doublekind=3
    d_longlong=define
    longlongsize=8
    d_longdbl=define
    longdblsize=16
    longdblkind=3
    ivtype='long'
    ivsize=8
    nvtype='double'
    nvsize=8
    Off_t='off_t'
    lseeksize=8
    alignbytes=8
    prototype=define
  Linker and Libraries:
    ld='cc'
    ldflags =' -fstack-protector-strong -L/usr/local/lib'
    libpth=/usr/local/lib /usr/lib/x86_64-linux-gnu /usr/lib /usr/lib64
    libs=-lpthread -lnsl -ldl -lm -lcrypt -lutil -lc
    perllibs=-lpthread -lnsl -ldl -lm -lcrypt -lutil -lc
    libc=libc-2.31.so
    so=so
    useshrplib=false
    libperl=libperl.a
    gnulibc_version='2.31'
  Dynamic Linking:
    dlsrc=dl_dlopen.xs
    dlext=so
    d_dlsymun=undef
    ccdlflags='-Wl,-E'
    cccdlflags='-fPIC'
    lddlflags='-shared -O2 -g -L/usr/local/lib -fstack-protector-strong'


Characteristics of this binary (from libperl): 
  Compile-time options:
    HAS_TIMES
    MULTIPLICITY
    PERLIO_LAYERS
    PERL_COPY_ON_WRITE
    PERL_DONT_CREATE_GVSV
    PERL_IMPLICIT_CONTEXT
    PERL_MALLOC_WRAP
    PERL_OP_PARENT
    PERL_PRESERVE_IVUV
    PERL_USE_DEVEL
    USE_64_BIT_ALL
    USE_64_BIT_INT
    USE_ITHREADS
    USE_LARGE_FILES
    USE_LOCALE
    USE_LOCALE_COLLATE
    USE_LOCALE_CTYPE
    USE_LOCALE_NUMERIC
    USE_LOCALE_TIME
    USE_PERLIO
    USE_PERL_ATOF
    USE_REENTRANT_API
    USE_THREAD_SAFE_LOCALE
  Locally applied patches:
    RC2
  Built under linux
  Compiled at Mar 10 2022 14:33:19
  %ENV:
    PERL="/tmp/basesmoker-reloperl-b94R/bin/perl"
    PERL5LIB="/tmp/loop_over_bdir-150933-58WzfI/LCFG-Build-Tools-0.9.30-0/blib/arch:/tmp/loop_over_bdir-150933-58WzfI/LCFG-Build-Tools-0.9.30-0/blib/lib:/tmp/loop_over_bdir-150933-58WzfI/shishi-0.0.1-0/blib/arch:/tmp/loop_over_bdir-150933-58WzfI/shishi-0.0.1-0/blib/lib:/tmp/loop_over_bdir-150933-58WzfI/downsexta-0/blib/arch:/tmp/loop_over_bdir-150933-58WzfI/downsexta-0/blib/lib:/tmp/loop_over_bdir-150933-58WzfI/Business-Shipping-DataFiles-1.02-0/blib/arch:/tmp/loop_over_bdir-150933-58WzfI/Business-Shipping-DataFiles-1.02-0/blib/lib:/tmp/loop_over_bdir-150933-58WzfI/Devel-Required-0.16-0/blib/arch:/tmp/loop_over_bdir-150933-58WzfI/Devel-Required-0.16-0/blib/lib:/tmp/loop_over_bdir-150933-58WzfI/Net-OpenVPN-DDNS-0.1-0/blib/arch:/tmp/loop_over_bdir-150933-58WzfI/Net-OpenVPN-DDNS-0.1-0/blib/lib:/tmp/loop_over_bdir-150933-58WzfI/Net-ISP-Balance-1.31-0/blib/arch:/tmp/loop_over_bdir-150933-58WzfI/Net-ISP-Balance-1.31-0/blib/lib"
    PERL5OPT=""
    PERL5_CPANPLUS_IS_RUNNING="150947"
    PERL5_CPAN_IS_RUNNING="150947"
    PERL_CANARY_STABILITY_NOPROMPT="1"
    PERL_MM_USE_DEFAULT="1"
    PERL_USE_UNSAFE_INC="1"
  @INC:
    /tmp/loop_over_bdir-150933-58WzfI/LCFG-Build-Tools-0.9.30-0/blib/arch
    /tmp/loop_over_bdir-150933-58WzfI/LCFG-Build-Tools-0.9.30-0/blib/lib
    /tmp/loop_over_bdir-150933-58WzfI/shishi-0.0.1-0/blib/arch
    /tmp/loop_over_bdir-150933-58WzfI/shishi-0.0.1-0/blib/lib
    /tmp/loop_over_bdir-150933-58WzfI/downsexta-0/blib/arch
    /tmp/loop_over_bdir-150933-58WzfI/downsexta-0/blib/lib
    /tmp/loop_over_bdir-150933-58WzfI/Business-Shipping-DataFiles-1.02-0/blib/arch
    /tmp/loop_over_bdir-150933-58WzfI/Business-Shipping-DataFiles-1.02-0/blib/lib
    /tmp/loop_over_bdir-150933-58WzfI/Devel-Required-0.16-0/blib/arch
    /tmp/loop_over_bdir-150933-58WzfI/Devel-Required-0.16-0/blib/lib
    /tmp/loop_over_bdir-150933-58WzfI/Net-OpenVPN-DDNS-0.1-0/blib/arch
    /tmp/loop_over_bdir-150933-58WzfI/Net-OpenVPN-DDNS-0.1-0/blib/lib
    /tmp/loop_over_bdir-150933-58WzfI/Net-ISP-Balance-1.31-0/blib/arch
    /tmp/loop_over_bdir-150933-58WzfI/Net-ISP-Balance-1.31-0/blib/lib
    /home/sand/src/perl/repoperls/installed-perls/host/k93focal/v5.34.1-RC2/300c/lib/site_perl/5.34.1/x86_64-linux-thread-multi
    /home/sand/src/perl/repoperls/installed-perls/host/k93focal/v5.34.1-RC2/300c/lib/site_perl/5.34.1
    /home/sand/src/perl/repoperls/installed-perls/host/k93focal/v5.34.1-RC2/300c/lib/5.34.1/x86_64-linux-thread-multi
    /home/sand/src/perl/repoperls/installed-perls/host/k93focal/v5.34.1-RC2/300c/lib/5.34.1
    .