namespace-autoclean v0.31 Perl 5 v5.41.7 x86_64-linux-ld

Status
Pass
From
Slaven Rezić
Dist
namespace-autoclean v0.31
Platform
Perl 5 v5.41.7 x86_64-linux-ld
Date
2024-12-26 08:18:36
ID
0114f0ce-c362-11ef-8c7d-9bfd6d8775ea
This distribution has been tested as part of the CPAN Testers
project, supporting the Perl programming language.  See
http://wiki.cpantesters.org/ for more information or email
questions to cpan-testers-discuss@perl.org


--
Dear Karen Etheridge,

This is a computer-generated report for namespace-autoclean-0.31
on perl 5.41.7, created by CPAN-Reporter-1.2020.

Thank you for uploading your work to CPAN.  Congratulations!
All tests were successful.

Sections of this report:

    * Tester comments
    * Program output
    * Prerequisites
    * Environment and other context

------------------------------
TESTER COMMENTS
------------------------------

Additional comments from tester:

none provided

------------------------------
PROGRAM OUTPUT
------------------------------

Output from '/usr/bin/make test':

PERL_DL_NONLAZY=1 "/opt/perl-5.41.7D/bin/perl5.41.7" "-MExtUtils::Command::MM" "-MTest::Harness" "-e" "undef *Test::Harness::Switches; test_harness(0, 'blib/lib', 'blib/arch')" t/*.t
# 
# Versions for all modules listed in MYMETA.json (including optional ones):
# 
# === Configure Requires ===
# 
#     Module               Want     Have
#     ------------------- ----- --------
#     ExtUtils::MakeMaker   any     7.70
#     perl                5.006 5.041007
# 
# === Build Requires ===
# 
#     Module              Want Have
#     ------------------- ---- ----
#     ExtUtils::MakeMaker  any 7.70
# 
# === Test Requires ===
# 
#     Module               Want     Have
#     ------------------- ----- --------
#     Carp                  any     1.54
#     ExtUtils::MakeMaker   any     7.70
#     File::Basename        any     2.86
#     File::Spec            any     3.93
#     FindBin               any     1.54
#     Scalar::Util          any  1.68_01
#     Test::More           0.88 1.302204
#     Test::Needs           any 0.002010
#     constant              any     1.33
#     overload              any     1.39
#     perl                5.006 5.041007
# 
# === Test Recommends ===
# 
#     Module         Want     Have
#     ---------- -------- --------
#     CPAN::Meta 2.120900 2.150010
# 
# === Runtime Requires ===
# 
#     Module                Want     Have
#     -------------------- ----- --------
#     B                      any     1.89
#     B::Hooks::EndOfScope  0.12     0.28
#     List::Util             any  1.68_01
#     namespace::clean      0.20     0.27
#     perl                 5.006 5.041007
#     strict                 any     1.13
#     warnings               any     1.72
# 
# === Other Modules ===
# 
#     Module                            Have
#     ----------------------------- --------
#     Class::MOP                     missing
#     Encode                            3.21
#     Exporter                          5.78
#     File::Temp                      0.2311
#     JSON::PP                          4.16
#     Module::Runtime                  0.016
#     Moo                            missing
#     Moose                          missing
#     MooseX::Role::Parameterized    missing
#     MooseX::Role::WithOverloading  missing
#     Mouse                          missing
#     Mouse::PurePerl                missing
#     Pod::Coverage                  missing
#     Role::Tiny                    2.002004
#     Sub::Exporter                    0.991
#     Sub::Install                     0.929
#     Sub::Name                      missing
#     Sub::Util                      1.68_01
#     Test::Fatal                      0.017
#     YAML                              1.31
#     autodie                           2.37
#     parent                           0.244
# 
t/00-report-prereqs.t .............. ok
t/also.t ........................... ok
t/basic.t .......................... ok
t/broken_meta.t .................... ok
t/cleanee.t ........................ ok
t/constant.t ....................... ok
t/except.t ......................... ok
t/matchclean.t ..................... ok
t/moo-with-moose.t ................. skipped: Need Moo 1.004000, Moose
t/moo.t ............................ skipped: Need Moo, Moo::Role
t/moose-with-native-overloading.t .. skipped: Need Moose 2.1300
t/moose-withoverloading.t .......... skipped: Need Moose, MooseX::Role::WithOverloading
t/moose.t .......................... skipped: Need Moose 0.56
t/mouse-pp.t ....................... skipped: Need Mouse
t/mouse.t .......................... skipped: Need Mouse
t/overload.t ....................... ok
t/sub-install.t .................... ok
t/sub-name.t ....................... skipped: Need Sub::Name
All tests successful.
Files=18, Tests=34,  1 wallclock secs ( 0.04 usr  0.02 sys +  0.77 cusr  0.10 csys =  0.93 CPU)
Result: PASS

------------------------------
PREREQUISITES
------------------------------

Prerequisite modules loaded:

requires:

    Module               Need  Have    
    -------------------- ----- --------
    B                    0     1.89    
    B::Hooks::EndOfScope 0.12  0.28    
    List::Util           0     1.68_01 
    namespace::clean     0.20  0.27    
    perl                 5.006 5.041007
    strict               0     1.13    
    warnings             0     1.72    

build_requires:

    Module               Need  Have    
    -------------------- ----- --------
    Carp                 0     1.54    
    constant             0     1.33    
    ExtUtils::MakeMaker  0     7.70    
    File::Basename       0     2.86    
    File::Spec           0     3.93    
    FindBin              0     1.54    
    overload             0     1.39    
    Scalar::Util         0     1.68_01 
    Test::More           0.88  1.302204
    Test::Needs          0     0.002010

configure_requires:

    Module               Need  Have    
    -------------------- ----- --------
    ExtUtils::MakeMaker  0     7.70    
    perl                 5.006 5.041007


------------------------------
ENVIRONMENT AND OTHER CONTEXT
------------------------------

Environment variables:

    LANG = en_US.UTF-8
    PATH = /usr/local/bin:/usr/bin:/bin:/usr/local/sbin:/usr/sbin:/sbin:/home/cpansand/bin/linux-gnu:/home/cpansand/bin/sh:/home/cpansand/bin:/usr/games:/home/cpansand/devel:/home/eserte/src/srezic-misc/scripts
    PERL5LIB = 
    PERL5OPT = 
    PERL5_CPANPLUS_IS_RUNNING = 3845433
    PERL5_CPAN_IS_RUNNING = 3845433
    PERL5_CPAN_IS_RUNNING_IN_RECURSION = 3838690,3845433
    PERLDOC = -MPod::Perldoc::ToTextOverstrike
    PERL_BATCH = yes
    PERL_CANARY_STABILITY_NOPROMPT = 1
    PERL_CPAN_REPORTER_CONFIG = /var/tmp/cpansmoker-1023/2024122607/cpanreporter_000_config.ini
    PERL_EXTUTILS_AUTOINSTALL = --defaultdeps
    PERL_USE_UNSAFE_INC = 1
    SHELL = /usr/bin/zsh
    TERM = screen
    TMPDIR = /var/tmp/cpansmoker-1023/2024122607

Perl special variables (and OS-specific diagnostics, for MSWin32):

    $^X = /opt/perl-5.41.7D/bin/perl5.41.7
    $UID/$EUID = 1023 / 1023
    $GID = 1023 1023
    $EGID = 1023 1023

Perl module toolchain versions installed:

    Module              Have    
    ------------------- --------
    CPAN                2.38    
    CPAN::Meta          2.150010
    Cwd                 3.92    
    ExtUtils::CBuilder  0.280240
    ExtUtils::Command   7.70    
    ExtUtils::Install   2.22    
    ExtUtils::MakeMaker 7.70    
    ExtUtils::Manifest  1.75    
    ExtUtils::ParseXS   3.56    
    File::Spec          3.93    
    JSON                4.10    
    JSON::PP            4.16    
    Module::Build       0.4234  
    Module::Signature   n/a     
    Parse::CPAN::Meta   2.150010
    Test2               1.302204
    Test::Harness       3.50    
    Test::More          1.302204
    YAML                1.31    
    YAML::Syck          1.34    
    version             0.9933  


--

Summary of my perl5 (revision 5 version 41 subversion 7) configuration:
   
  Platform:
    osname=linux
    osvers=5.10.0-33-amd64
    archname=x86_64-linux-ld
    uname='linux cloud7.bbbike.org 5.10.0-33-amd64 #1 smp debian 5.10.226-1 (2024-10-03) x86_64 gnulinux '
    config_args='-ds -e -Dprefix=/opt/perl-5.41.7D -Uinstallusrbinperl -Dusedevel -Dusemallocwrap=no -Duselongdouble -Dcf_email=srezic@cpan.org'
    hint=recommended
    useposix=true
    d_sigaction=define
    useithreads=undef
    usemultiplicity=undef
    use64bitint=define
    use64bitall=define
    uselongdouble=define
    usemymalloc=n
    default_inc_excludes_dot=define
  Compiler:
    cc='cc'
    ccflags ='-fwrapv -fno-strict-aliasing -pipe -fstack-protector-strong -I/usr/local/include -D_LARGEFILE_SOURCE -D_FILE_OFFSET_BITS=64 -D_FORTIFY_SOURCE=2'
    optimize='-O2'
    cppflags='-fwrapv -fno-strict-aliasing -pipe -fstack-protector-strong -I/usr/local/include'
    ccversion=''
    gccversion='10.2.1 20210110'
    gccosandvers=''
    intsize=4
    longsize=8
    ptrsize=8
    doublesize=8
    byteorder=12345678
    doublekind=3
    d_longlong=define
    longlongsize=8
    d_longdbl=define
    longdblsize=16
    longdblkind=3
    ivtype='long'
    ivsize=8
    nvtype='long double'
    nvsize=16
    Off_t='off_t'
    lseeksize=8
    alignbytes=16
    prototype=define
  Linker and Libraries:
    ld='cc'
    ldflags =' -fstack-protector-strong -L/usr/local/lib'
    libpth=/usr/local/lib /usr/lib/x86_64-linux-gnu /usr/lib /usr/lib64
    libs=-lpthread -lgdbm -ldb -ldl -lm -lcrypt -lutil -lc
    perllibs=-lpthread -ldl -lm -lcrypt -lutil -lc
    libc=libc-2.31.so
    so=so
    useshrplib=false
    libperl=libperl.a
    gnulibc_version='2.31'
  Dynamic Linking:
    dlsrc=dl_dlopen.xs
    dlext=so
    d_dlsymun=undef
    ccdlflags='-Wl,-E'
    cccdlflags='-fPIC'
    lddlflags='-shared -O2 -L/usr/local/lib -fstack-protector-strong'


Characteristics of this binary (from libperl): 
  Compile-time options:
    HAS_LONG_DOUBLE
    HAS_STRTOLD
    HAS_TIMES
    PERLIO_LAYERS
    PERL_COPY_ON_WRITE
    PERL_DONT_CREATE_GVSV
    PERL_HASH_FUNC_SIPHASH13
    PERL_HASH_USE_SBOX32
    PERL_OP_PARENT
    PERL_PRESERVE_IVUV
    PERL_USE_DEVEL
    PERL_USE_SAFE_PUTENV
    USE_64_BIT_ALL
    USE_64_BIT_INT
    USE_LARGE_FILES
    USE_LOCALE
    USE_LOCALE_COLLATE
    USE_LOCALE_CTYPE
    USE_LOCALE_NUMERIC
    USE_LOCALE_TIME
    USE_LONG_DOUBLE
    USE_PERLIO
    USE_PERL_ATOF
  Built under linux
  Compiled at Dec 23 2024 21:08:10
  %ENV:
    PERL5LIB=""
    PERL5OPT=""
    PERL5_CPANPLUS_IS_RUNNING="3845433"
    PERL5_CPAN_IS_RUNNING="3845433"
    PERL5_CPAN_IS_RUNNING_IN_RECURSION="3838690,3845433"
    PERLDOC="-MPod::Perldoc::ToTextOverstrike"
    PERL_BATCH="yes"
    PERL_CANARY_STABILITY_NOPROMPT="1"
    PERL_CPAN_REPORTER_CONFIG="/var/tmp/cpansmoker-1023/2024122607/cpanreporter_000_config.ini"
    PERL_EXTUTILS_AUTOINSTALL="--defaultdeps"
    PERL_USE_UNSAFE_INC="1"
  @INC:
    /opt/perl-5.41.7D/lib/site_perl/5.41.7/x86_64-linux-ld
    /opt/perl-5.41.7D/lib/site_perl/5.41.7
    /opt/perl-5.41.7D/lib/5.41.7/x86_64-linux-ld
    /opt/perl-5.41.7D/lib/5.41.7
    .