Lingua-Stem-Patch v0.06 Perl 5 v5.23.0 x86_64-linux

Status
Pass
From
Joelle Maslak
Dist
Lingua-Stem-Patch v0.06
Platform
Perl 5 v5.23.0 x86_64-linux
Date
2015-07-17 08:01:18
ID
011253ae-2c5a-11e5-819a-9c59372b1a8f
This distribution has been tested as part of the CPAN Testers
project, supporting the Perl programming language.  See
http://wiki.cpantesters.org/ for more information or email
questions to cpan-testers-discuss@perl.org


--
Dear Nova Patch,

This is a computer-generated report for Lingua-Stem-Patch-0.06
on perl 5.23.0, created by CPAN-Reporter-1.2014.

Thank you for uploading your work to CPAN.  Congratulations!
All tests were successful.

Sections of this report:

    * Tester comments
    * Program output
    * Prerequisites
    * Environment and other context

------------------------------
TESTER COMMENTS
------------------------------

Additional comments from tester:

this report is from an automated smoke testing program
and was not reviewed by a human for accuracy

------------------------------
PROGRAM OUTPUT
------------------------------

Output from './Build test':

# Lingua::Stem::Patch v0.06, Perl v5.23.0 (/data/perl5/perlbrew/perls/perl-5.23.0/bin/perl5.23.0)
t/00-load.t ........ ok
t/01-stemmer.t ..... ok
t/eo-aggressive.t .. ok
t/eo-roots.t ....... ok
t/eo.t ............. ok
t/io-aggressive.t .. ok
t/io-roots.t ....... ok
t/io.t ............. ok
t/pl.t ............. ok
All tests successful.
Files=9, Tests=886,  1 wallclock secs ( 0.09 usr  0.02 sys +  0.33 cusr  0.03 csys =  0.47 CPU)
Result: PASS

------------------------------
PREREQUISITES
------------------------------

Prerequisite modules loaded:

requires:

    Module            Need     Have    
    ----------------- -------- --------
    Carp              0        1.36    
    Exporter          0        5.72    
    Moo               1.001000 2.000001
    namespace::clean  0        0.25    
    parent            0        0.234   
    perl              v5.8.1   5.023000
    strict            0        1.09    
    utf8              0        1.17    
    warnings          0        1.32    

build_requires:

    Module            Need     Have    
    ----------------- -------- --------
    English           0        1.09    
    open              0        1.10    
    Pod::Man          2.04     2.28    
    String::Dump      0.05     0.09    
    Test::More        0.82     1.001014

configure_requires:

    Module            Need     Have    
    ----------------- -------- --------
    Module::Build     0.4004   0.4214  
    Software::License 0        0.103010


------------------------------
ENVIRONMENT AND OTHER CONTEXT
------------------------------

Environment variables:

    AUTOMATED_TESTING = 1
    LANG = en_US.UTF-8
    NONINTERACTIVE_TESTING = 1
    PATH = /home/perltest/perl5/perlbrew/bin:/home/perltest/perl5/perlbrew/perls/perl-5.23.0/bin:/usr/local/sbin:/usr/local/bin:/usr/sbin:/usr/bin:/sbin:/bin:/usr/games:/usr/local/games
    PERL5LIB = /home/perltest/.cpan/build/Lingua-Stem-UniNE-0.08-BX_GI3/blib/arch:/home/perltest/.cpan/build/Lingua-Stem-UniNE-0.08-BX_GI3/blib/lib:/home/perltest/.cpan/build/String-Dump-0.09-fSXzAL/blib/arch:/home/perltest/.cpan/build/String-Dump-0.09-fSXzAL/blib/lib:/home/perltest/.cpan/build/Getopt-Lucid-1.05-TxUgds/blib/arch:/home/perltest/.cpan/build/Getopt-Lucid-1.05-TxUgds/blib/lib:/home/perltest/.cpan/build/Exception-Class-TryCatch-1.13-OSA6IN/blib/arch:/home/perltest/.cpan/build/Exception-Class-TryCatch-1.13-OSA6IN/blib/lib:/home/perltest/.cpan/build/Unicode-CaseFold-1.00-p9ERCe/blib/arch:/home/perltest/.cpan/build/Unicode-CaseFold-1.00-p9ERCe/blib/lib:/home/perltest/.cpan/build/Lingua-Stem-Snowball-0.952-db44QS/blib/arch:/home/perltest/.cpan/build/Lingua-Stem-Snowball-0.952-db44QS/blib/lib
    PERL5OPT = 
    PERL5_CPANPLUS_IS_RUNNING = 17357
    PERL5_CPAN_IS_RUNNING = 17357
    PERL5_CPAN_IS_RUNNING_IN_RECURSION = 13621,17357
    PERLBREW_BASHRC_VERSION = 0.73
    PERLBREW_HOME = /home/perltest/.perlbrew
    PERLBREW_MANPATH = /home/perltest/perl5/perlbrew/perls/perl-5.23.0/man
    PERLBREW_PATH = /home/perltest/perl5/perlbrew/bin:/home/perltest/perl5/perlbrew/perls/perl-5.23.0/bin
    PERLBREW_PERL = perl-5.23.0
    PERLBREW_ROOT = /home/perltest/perl5/perlbrew
    PERLBREW_VERSION = 0.73
    PERL_CR_SMOKER_CURRENT = Lingua-Stem-Any-0.05
    PERL_EXTUTILS_AUTOINSTALL = --defaultdeps
    PERL_MM_USE_DEFAULT = 1
    SHELL = /bin/bash
    TERM = screen

Perl special variables (and OS-specific diagnostics, for MSWin32):

    $^X = /data/perl5/perlbrew/perls/perl-5.23.0/bin/perl5.23.0
    $UID/$EUID = 2000 / 2000
    $GID = 2000 2000
    $EGID = 2000 2000

Perl module toolchain versions installed:

    Module              Have    
    ------------------- --------
    CPAN                2.11    
    CPAN::Meta          2.150005
    Cwd                 3.56    
    ExtUtils::CBuilder  0.280223
    ExtUtils::Command   1.20    
    ExtUtils::Install   2.04    
    ExtUtils::MakeMaker 7.04_01 
    ExtUtils::Manifest  1.70    
    ExtUtils::ParseXS   3.28    
    File::Spec          3.56    
    JSON                2.90    
    JSON::PP            2.27300 
    Module::Build       0.4214  
    Module::Signature   0.79    
    Parse::CPAN::Meta   1.4417  
    Test::Harness       3.35    
    Test::More          1.001014
    YAML                1.15    
    YAML::Syck          1.29    
    version             0.9909  


--

Summary of my perl5 (revision 5 version 23 subversion 0) configuration:
   
  Platform:
    osname=linux, osvers=3.19.0-18-generic, archname=x86_64-linux
    uname='linux perltest 3.19.0-18-generic #18-ubuntu smp tue may 19 18:31:35 utc 2015 x86_64 x86_64 x86_64 gnulinux '
    config_args='-de -Dprefix=/home/perltest/perl5/perlbrew/perls/perl-5.23.0 -Dusedevel -Aeval:scriptdir=/home/perltest/perl5/perlbrew/perls/perl-5.23.0/bin'
    hint=recommended, useposix=true, d_sigaction=define
    useithreads=undef, usemultiplicity=undef
    use64bitint=define, use64bitall=define, uselongdouble=undef
    usemymalloc=n, bincompat5005=undef
  Compiler:
    cc='cc', ccflags ='-fwrapv -fno-strict-aliasing -pipe -fstack-protector-strong -I/usr/local/include -D_LARGEFILE_SOURCE -D_FILE_OFFSET_BITS=64',
    optimize='-O2',
    cppflags='-fwrapv -fno-strict-aliasing -pipe -fstack-protector-strong -I/usr/local/include'
    ccversion='', gccversion='4.9.2', gccosandvers=''
    intsize=4, longsize=8, ptrsize=8, doublesize=8, byteorder=12345678, doublekind=3
    d_longlong=define, longlongsize=8, d_longdbl=define, longdblsize=16, longdblkind=3
    ivtype='long', ivsize=8, nvtype='double', nvsize=8, Off_t='off_t', lseeksize=8
    alignbytes=8, prototype=define
  Linker and Libraries:
    ld='cc', ldflags =' -fstack-protector-strong -L/usr/local/lib'
    libpth=/usr/local/lib /usr/lib/gcc/x86_64-linux-gnu/4.9/include-fixed /usr/include/x86_64-linux-gnu /usr/lib /lib/x86_64-linux-gnu /lib/../lib /usr/lib/x86_64-linux-gnu /usr/lib/../lib /lib
    libs=-lpthread -lnsl -ldl -lm -lcrypt -lutil -lc
    perllibs=-lpthread -lnsl -ldl -lm -lcrypt -lutil -lc
    libc=libc-2.21.so, so=so, useshrplib=false, libperl=libperl.a
    gnulibc_version='2.21'
  Dynamic Linking:
    dlsrc=dl_dlopen.xs, dlext=so, d_dlsymun=undef, ccdlflags='-Wl,-E'
    cccdlflags='-fPIC', lddlflags='-shared -O2 -L/usr/local/lib -fstack-protector-strong'


Characteristics of this binary (from libperl): 
  Compile-time options: HAS_TIMES PERLIO_LAYERS PERL_DONT_CREATE_GVSV
                        PERL_HASH_FUNC_ONE_AT_A_TIME_HARD PERL_MALLOC_WRAP
                        PERL_NEW_COPY_ON_WRITE PERL_PRESERVE_IVUV
                        PERL_USE_DEVEL USE_64_BIT_ALL USE_64_BIT_INT
                        USE_LARGE_FILES USE_LOCALE USE_LOCALE_COLLATE
                        USE_LOCALE_CTYPE USE_LOCALE_NUMERIC USE_LOCALE_TIME
                        USE_PERLIO USE_PERL_ATOF
  Locally applied patches:
	Devel::PatchPerl 1.38
  Built under linux
  Compiled at Jul 14 2015 18:20:06
  %ENV:
    PERL5LIB="/home/perltest/.cpan/build/Lingua-Stem-UniNE-0.08-BX_GI3/blib/arch:/home/perltest/.cpan/build/Lingua-Stem-UniNE-0.08-BX_GI3/blib/lib:/home/perltest/.cpan/build/String-Dump-0.09-fSXzAL/blib/arch:/home/perltest/.cpan/build/String-Dump-0.09-fSXzAL/blib/lib:/home/perltest/.cpan/build/Getopt-Lucid-1.05-TxUgds/blib/arch:/home/perltest/.cpan/build/Getopt-Lucid-1.05-TxUgds/blib/lib:/home/perltest/.cpan/build/Exception-Class-TryCatch-1.13-OSA6IN/blib/arch:/home/perltest/.cpan/build/Exception-Class-TryCatch-1.13-OSA6IN/blib/lib:/home/perltest/.cpan/build/Unicode-CaseFold-1.00-p9ERCe/blib/arch:/home/perltest/.cpan/build/Unicode-CaseFold-1.00-p9ERCe/blib/lib:/home/perltest/.cpan/build/Lingua-Stem-Snowball-0.952-db44QS/blib/arch:/home/perltest/.cpan/build/Lingua-Stem-Snowball-0.952-db44QS/blib/lib"
    PERL5OPT=""
    PERL5_CPANPLUS_IS_RUNNING="17357"
    PERL5_CPAN_IS_RUNNING="17357"
    PERL5_CPAN_IS_RUNNING_IN_RECURSION="13621,17357"
    PERLBREW_BASHRC_VERSION="0.73"
    PERLBREW_HOME="/home/perltest/.perlbrew"
    PERLBREW_MANPATH="/home/perltest/perl5/perlbrew/perls/perl-5.23.0/man"
    PERLBREW_PATH="/home/perltest/perl5/perlbrew/bin:/home/perltest/perl5/perlbrew/perls/perl-5.23.0/bin"
    PERLBREW_PERL="perl-5.23.0"
    PERLBREW_ROOT="/home/perltest/perl5/perlbrew"
    PERLBREW_VERSION="0.73"
    PERL_CR_SMOKER_CURRENT="Lingua-Stem-Any-0.05"
    PERL_EXTUTILS_AUTOINSTALL="--defaultdeps"
    PERL_MM_USE_DEFAULT="1"
  @INC:
    /home/perltest/.cpan/build/Lingua-Stem-UniNE-0.08-BX_GI3/blib/arch
    /home/perltest/.cpan/build/Lingua-Stem-UniNE-0.08-BX_GI3/blib/lib
    /home/perltest/.cpan/build/String-Dump-0.09-fSXzAL/blib/arch
    /home/perltest/.cpan/build/String-Dump-0.09-fSXzAL/blib/lib
    /home/perltest/.cpan/build/Getopt-Lucid-1.05-TxUgds/blib/arch
    /home/perltest/.cpan/build/Getopt-Lucid-1.05-TxUgds/blib/lib
    /home/perltest/.cpan/build/Exception-Class-TryCatch-1.13-OSA6IN/blib/arch
    /home/perltest/.cpan/build/Exception-Class-TryCatch-1.13-OSA6IN/blib/lib
    /home/perltest/.cpan/build/Unicode-CaseFold-1.00-p9ERCe/blib/arch
    /home/perltest/.cpan/build/Unicode-CaseFold-1.00-p9ERCe/blib/lib
    /home/perltest/.cpan/build/Lingua-Stem-Snowball-0.952-db44QS/blib/arch
    /home/perltest/.cpan/build/Lingua-Stem-Snowball-0.952-db44QS/blib/lib
    /home/perltest/perl5/perlbrew/perls/perl-5.23.0/lib/site_perl/5.23.0/x86_64-linux
    /home/perltest/perl5/perlbrew/perls/perl-5.23.0/lib/site_perl/5.23.0
    /home/perltest/perl5/perlbrew/perls/perl-5.23.0/lib/5.23.0/x86_64-linux
    /home/perltest/perl5/perlbrew/perls/perl-5.23.0/lib/5.23.0
    .