Math-BigInt-Random v0.04 Perl 5 v5.8.8 i686-cygwin-thread-multi-64int

Status
Pass
From
Peter John Acklam (PJACKLAM)
Dist
Math-BigInt-Random v0.04
Platform
Perl 5 v5.8.8 i686-cygwin-thread-multi-64int
Date
2011-02-23 19:04:35
ID
00ffa9d8-6d2a-1014-b9fd-6db707c0976e
This distribution has been tested as part of the CPAN Testers
project, supporting the Perl programming language.  See
http://wiki.cpantesters.org/ for more information or email
questions to cpan-testers-discuss@perl.org


--
Dear William Herrera,

This is a computer-generated report for Math-BigInt-Random-0.04
on perl 5.8.8, created by CPAN-Reporter-1.1803.

Thank you for uploading your work to CPAN.  Congratulations!
All tests were successful.

Sections of this report:

    * Tester comments
    * Program output
    * Prerequisites
    * Environment and other context

------------------------------
TESTER COMMENTS
------------------------------

Additional comments from tester:

this report is from an automated smoke testing program
and was not reviewed by a human for accuracy

------------------------------
PROGRAM OUTPUT
------------------------------

Output from '/usr/bin/make test':

PERL_DL_NONLAZY=1 /opt/perl/inst/perl-5.8.8-cygwin-thread-multi-64int/bin/perl5.8.8.exe "-MExtUtils::Command::MM" "-e" "test_harness(0, 'blib/lib', 'blib/arch')" t/*.t
t/01_test.t .......... ok
t/02_pod.t ........... ok
t/03_pod_coverage.t .. ok
All tests successful.
Files=3, Tests=16,  8 wallclock secs ( 0.00 usr  0.14 sys +  1.17 cusr  1.34 csys =  2.65 CPU)
Result: PASS

------------------------------
PREREQUISITES
------------------------------

Prerequisite modules loaded:

requires:

    Module       Need Have 
    ------------ ---- -----
    Carp         0    1.04 
    Math::BigInt 0    1.991
    Test::More   0    0.96 


------------------------------
ENVIRONMENT AND OTHER CONTEXT
------------------------------

Environment variables:

    AUTHOR_TESTING = 1
    AUTOMATED_TESTING = 1
    COMSPEC = C:\WINDOWS\system32\cmd.exe
    NUMBER_OF_PROCESSORS = 4
    PATH = /opt/perl/inst/perl-5.8.8-cygwin-thread-multi-64int/local/bin:/opt/perl/inst/perl-5.8.8-cygwin-thread-multi-64int/bin:/usr/local/bin:/usr/bin
    PERL5LIB = /opt/perl/src/.cpan-5.8.8-cygwin-thread-multi-64int/build/Data-ParseBinary-0.2901-Jq1oCD/blib/arch:/opt/perl/src/.cpan-5.8.8-cygwin-thread-multi-64int/build/Data-ParseBinary-0.2901-Jq1oCD/blib/lib:/opt/perl/src/.cpan-5.8.8-cygwin-thread-multi-64int/build/Data-ParseBinary-0.29-F2W6J_/blib/arch:/opt/perl/src/.cpan-5.8.8-cygwin-thread-multi-64int/build/Data-ParseBinary-0.29-F2W6J_/blib/lib:/opt/perl/src/.cpan-5.8.8-cygwin-thread-multi-64int/build/Data-ParseBinary-0.28-UAyGBn/blib/arch:/opt/perl/src/.cpan-5.8.8-cygwin-thread-multi-64int/build/Data-ParseBinary-0.28-UAyGBn/blib/lib:/opt/perl/inst/perl-5.8.8-cygwin-thread-multi-64int/local/lib/site_perl:/opt/perl/inst/perl-5.8.8-cygwin-thread-multi-64int/local/lib/perl5:/opt/perl/inst/perl-5.8.8-cygwin-thread-multi-64int/local/lib
    PERL5OPT = 
    PERL5_CPANPLUS_IS_RUNNING = 4488
    PERL5_CPAN_IS_RUNNING = 4488
    PERL_EXTUTILS_AUTOINSTALL = 1
    PERL_MM_USE_DEFAULT = 1
    PERL_TEST_CRITIC = 1
    PROCESSOR_IDENTIFIER = x86 Family 6 Model 37 Stepping 5, GenuineIntel
    TEMP = /cygdrive/c/DOCUME~1/ospja/LOKALE~1/Temp
    TERM = cygwin

Perl special variables (and OS-specific diagnostics, for MSWin32):

    $^X = /opt/perl/inst/perl-5.8.8-cygwin-thread-multi-64int/bin/perl5.8.8
    $UID/$EUID = 22755 / 22755
    $GID = 10513 45094 31369 49625 30321 45099 51837 51926 51916 65646 65644 23333 50556 49381 20955 20667 57206 55368 43366 51289 17963 61702 51645 11073 51528 20077 42734 12778 12669 12652 56667 18761 36594 43061 30568 43044 18818 51781 10513 45205 47153 44776 44771 43588 555 545 544
    $EGID = 10513 45094 31369 49625 30321 45099 51837 51926 51916 65646 65644 23333 50556 49381 20955 20667 57206 55368 43366 51289 17963 61702 51645 11073 51528 20077 42734 12778 12669 12652 56667 18761 36594 43061 30568 43044 18818 51781 10513 45205 47153 44776 44771 43588 555 545 544

Perl module toolchain versions installed:

    Module              Have  
    ------------------- ------
    CPAN                1.9402
    Cwd                 3.33  
    ExtUtils::CBuilder  0.2802
    ExtUtils::Command   1.16  
    ExtUtils::Install   1.54  
    ExtUtils::MakeMaker 6.56  
    ExtUtils::Manifest  1.58  
    ExtUtils::ParseXS   2.2206
    File::Spec          3.33  
    Module::Build       0.3607
    Module::Signature   0.66  
    Test::Harness       3.22  
    Test::More          0.96  
    YAML                0.72  
    YAML::Syck          1.17  
    version             0.88  


--

Summary of my perl5 (revision 5 version 8 subversion 8) configuration:
  Platform:
    osname=cygwin, osvers=1.7.7(0.23053), archname=cygwin-thread-multi-64int
    uname='cygwin_nt-5.1 los061 1.7.7(0.23053) 2010-08-31 09:58 i686 cygwin '
    config_args='-de -Dcc=gcc -Dprefix=/opt/perl/inst/perl-5.8.8-cygwin-thread-multi-64int -Dperladmin=pjacklam@online.no -Dusedevel -Dmksymlinks -Dusethreads -Dusemultiplicity -Duse64bitint'
    hint=recommended, useposix=true, d_sigaction=define
    usethreads=define use5005threads=undef useithreads=define usemultiplicity=define
    useperlio=define d_sfio=undef uselargefiles=define usesocks=undef
    use64bitint=define use64bitall=undef uselongdouble=undef
    usemymalloc=y, bincompat5005=undef
  Compiler:
    cc='gcc', ccflags ='-DPERL_USE_SAFE_PUTENV -fno-strict-aliasing -pipe -Wdeclaration-after-statement',
    optimize='-O2',
    cppflags='-DPERL_USE_SAFE_PUTENV -fno-strict-aliasing -pipe -Wdeclaration-after-statement'
    ccversion='', gccversion='4.3.4 20090804 (release) 1', gccosandvers=''
    intsize=4, longsize=4, ptrsize=4, doublesize=8, byteorder=12345678
    d_longlong=define, longlongsize=8, d_longdbl=define, longdblsize=12
    ivtype='long long', ivsize=8, nvtype='double', nvsize=8, Off_t='off_t', lseeksize=8
    alignbytes=8, prototype=define
  Linker and Libraries:
    ld='ld2', ldflags =' -L/usr/local/lib'
    libpth=/usr/local/lib /usr/lib /lib
    libs=-lgdbm -ldb -ldl -lcrypt -lgdbm_compat
    perllibs=-ldl -lcrypt -lgdbm_compat
    libc=/usr/lib/libc.a, so=dll, useshrplib=true, libperl=libperl.a
    gnulibc_version=''
  Dynamic Linking:
    dlsrc=dl_dlopen.xs, dlext=dll, d_dlsymun=undef, ccdlflags=' '
    cccdlflags=' ', lddlflags=' -L/usr/local/lib'


Characteristics of this binary (from libperl): 
  Compile-time options: MULTIPLICITY MYMALLOC PERL_IMPLICIT_CONTEXT
                        PERL_MALLOC_WRAP PERL_USE_SAFE_PUTENV
                        USE_64_BIT_INT USE_ITHREADS USE_LARGE_FILES
                        USE_PERLIO USE_REENTRANT_API
  Built under cygwin
  Compiled at Dec  7 2010 08:37:31
  %ENV:
    PERL5LIB="/opt/perl/src/.cpan-5.8.8-cygwin-thread-multi-64int/build/Data-ParseBinary-0.2901-Jq1oCD/blib/arch:/opt/perl/src/.cpan-5.8.8-cygwin-thread-multi-64int/build/Data-ParseBinary-0.2901-Jq1oCD/blib/lib:/opt/perl/src/.cpan-5.8.8-cygwin-thread-multi-64int/build/Data-ParseBinary-0.29-F2W6J_/blib/arch:/opt/perl/src/.cpan-5.8.8-cygwin-thread-multi-64int/build/Data-ParseBinary-0.29-F2W6J_/blib/lib:/opt/perl/src/.cpan-5.8.8-cygwin-thread-multi-64int/build/Data-ParseBinary-0.28-UAyGBn/blib/arch:/opt/perl/src/.cpan-5.8.8-cygwin-thread-multi-64int/build/Data-ParseBinary-0.28-UAyGBn/blib/lib:/opt/perl/inst/perl-5.8.8-cygwin-thread-multi-64int/local/lib/site_perl:/opt/perl/inst/perl-5.8.8-cygwin-thread-multi-64int/local/lib/perl5:/opt/perl/inst/perl-5.8.8-cygwin-thread-multi-64int/local/lib"
    PERL5OPT=""
    PERL5_CPANPLUS_IS_RUNNING="4488"
    PERL5_CPAN_IS_RUNNING="4488"
    PERL_EXTUTILS_AUTOINSTALL="1"
    PERL_MM_USE_DEFAULT="1"
    PERL_TEST_CRITIC="1"
    CYGWIN="codepage:utf8 nodosfilewarning"
  @INC:
    /opt/perl/src/.cpan-5.8.8-cygwin-thread-multi-64int/build/Data-ParseBinary-0.2901-Jq1oCD/blib/arch
    /opt/perl/src/.cpan-5.8.8-cygwin-thread-multi-64int/build/Data-ParseBinary-0.2901-Jq1oCD/blib/lib
    /opt/perl/src/.cpan-5.8.8-cygwin-thread-multi-64int/build/Data-ParseBinary-0.29-F2W6J_/blib/arch
    /opt/perl/src/.cpan-5.8.8-cygwin-thread-multi-64int/build/Data-ParseBinary-0.29-F2W6J_/blib/lib
    /opt/perl/src/.cpan-5.8.8-cygwin-thread-multi-64int/build/Data-ParseBinary-0.28-UAyGBn/blib/arch
    /opt/perl/src/.cpan-5.8.8-cygwin-thread-multi-64int/build/Data-ParseBinary-0.28-UAyGBn/blib/lib
    /opt/perl/inst/perl-5.8.8-cygwin-thread-multi-64int/local/lib/site_perl/5.8.8/cygwin-thread-multi-64int
    /opt/perl/inst/perl-5.8.8-cygwin-thread-multi-64int/local/lib/site_perl/5.8.8
    /opt/perl/inst/perl-5.8.8-cygwin-thread-multi-64int/local/lib/site_perl
    /opt/perl/inst/perl-5.8.8-cygwin-thread-multi-64int/local/lib/perl5/cygwin-thread-multi-64int
    /opt/perl/inst/perl-5.8.8-cygwin-thread-multi-64int/local/lib/perl5
    /opt/perl/inst/perl-5.8.8-cygwin-thread-multi-64int/local/lib/5.8.8/cygwin-thread-multi-64int
    /opt/perl/inst/perl-5.8.8-cygwin-thread-multi-64int/local/lib/5.8.8
    /opt/perl/inst/perl-5.8.8-cygwin-thread-multi-64int/local/lib
    /opt/perl/inst/perl-5.8.8-cygwin-thread-multi-64int/lib/5.8.8/cygwin-thread-multi-64int
    /opt/perl/inst/perl-5.8.8-cygwin-thread-multi-64int/lib/5.8.8
    /opt/perl/inst/perl-5.8.8-cygwin-thread-multi-64int/lib/site_perl/5.8.8/cygwin-thread-multi-64int
    /opt/perl/inst/perl-5.8.8-cygwin-thread-multi-64int/lib/site_perl/5.8.8
    /opt/perl/inst/perl-5.8.8-cygwin-thread-multi-64int/lib/site_perl
    .