Shell-Config-Generate v0.34 Perl 5 v5.18.4 darwin-thread-multi-2level

Status
Pass
From
Gintautas Grigelionis
Dist
Shell-Config-Generate v0.34
Platform
Perl 5 v5.18.4 darwin-thread-multi-2level
Date
2020-02-12 23:25:49
ID
00fd615e-4def-11ea-aee3-921f152809f3
This distribution has been tested as part of the CPAN Testers
project, supporting the Perl programming language.  See
http://wiki.cpantesters.org/ for more information or email
questions to cpan-testers-discuss@perl.org


--
Dear Graham Ollis,

This is a computer-generated report for Shell-Config-Generate-0.34
on perl 5.18.4, created by CPAN-Reporter-1.2018.

Thank you for uploading your work to CPAN.  Congratulations!
All tests were successful.

Sections of this report:

    * Tester comments
    * Program output
    * Prerequisites
    * Environment and other context

------------------------------
TESTER COMMENTS
------------------------------

Additional comments from tester:

none provided

------------------------------
PROGRAM OUTPUT
------------------------------

Output from '/usr/bin/make test':

PERL_DL_NONLAZY=1 "/usr/bin/perl" "-MExtUtils::Command::MM" "-MTest::Harness" "-e" "undef *Test::Harness::Switches; test_harness(0, 'blib/lib', 'blib/arch')" t/*.t
# 
# 
# 
# HARNESS_ACTIVE=1
# HARNESS_VERSION=3.42
# LC_CTYPE=UTF-8
# PERL5LIB=/Users/gintas/.cpan/build/Shell-Config-Generate-0.34-D6bfKl/blib/lib:/Users/gintas/.cpan/build/Shell-Config-Generate-0.34-D6bfKl/blib/arch:
# PERL5OPT=
# PERL5_CPANPLUS_IS_RUNNING=29386
# PERL5_CPAN_IS_RUNNING=29386
# PERL_DL_NONLAZY=1
# PERL_USE_UNSAFE_INC=1
# SHELL=/bin/bash
# VERSIONER_PERL_VERSION=5.18
# 
# 
# 
# PERL5LIB path
# /Users/gintas/.cpan/build/Shell-Config-Generate-0.34-D6bfKl/blib/lib
# /Users/gintas/.cpan/build/Shell-Config-Generate-0.34-D6bfKl/blib/arch
# 
# 
# 
# perl                5.018004
# ExtUtils::MakeMaker 7.44
# Shell::Guess        0.09
# Test2::API          1.302171
# Test2::Mock         0.000129
# Test2::V0           0.000129
# 
# 
# 
t/00_diag.t .............................. ok
# 
# 
# 
# found /bin / [
# found /bin / test
# found /bin / tcsh (shell)
# found /bin / csh (shell)
# found /bin / bash (shell)
# found /bin / sh (shell)
# found /bin / zsh (shell)
# found /bin / ksh (shell)
# 
# 
# 
t/01_diag.t .............................. ok
t/shell_config_generate__alias.t ......... ok
t/shell_config_generate__append_path.t ... ok
t/shell_config_generate__comment.t ....... ok
t/shell_config_generate__echo_off.t ...... ok
t/shell_config_generate__generate.t ...... ok
t/shell_config_generate__prepend_path.t .. ok
t/shell_config_generate__set.t ........... ok
t/shell_config_generate__set_path.t ...... ok
t/shell_config_generate__shebang.t ....... ok
t/shell_config_generate__space_else.t .... ok
t/shell_config_generate__space_win32.t ... skipped: test only for cygwin and MSWin32
All tests successful.
Files=13, Tests=80,  6 wallclock secs ( 0.09 usr  0.03 sys +  3.71 cusr  1.55 csys =  5.38 CPU)
Result: PASS

------------------------------
PREREQUISITES
------------------------------

Prerequisite modules loaded:

requires:

    Module              Need     Have    
    ------------------- -------- --------
    perl                5.008001 5.018004
    Shell::Guess        0.02     0.09    

build_requires:

    Module              Need     Have    
    ------------------- -------- --------
    ExtUtils::MakeMaker 0        7.44    
    Test2::API          1.302015 1.302171
    Test2::Mock         0.000060 0.000129
    Test2::V0           0.000060 0.000129

configure_requires:

    Module              Need     Have    
    ------------------- -------- --------
    ExtUtils::MakeMaker 0        7.44    
    perl                5.008001 5.018004


------------------------------
ENVIRONMENT AND OTHER CONTEXT
------------------------------

Environment variables:

    LC_CTYPE = UTF-8
    PATH = /usr/local/bin:/usr/bin:/bin:/usr/sbin:/sbin:/usr/local/MacGPG2/bin:/opt/X11/bin
    PERL5LIB = 
    PERL5OPT = 
    PERL5_CPANPLUS_IS_RUNNING = 29386
    PERL5_CPAN_IS_RUNNING = 29386
    SHELL = /bin/bash
    TERM = xterm-256color
    TMPDIR = /var/folders/7j/gsygg6dj3yg5vj5ph2nk1x880000gn/T/
    VERSIONER_PERL_VERSION = 5.18

Perl special variables (and OS-specific diagnostics, for MSWin32):

    $^X = /usr/bin/perl
    $UID/$EUID = 501 / 501
    $GID = 20 20 701 12 61 79 80 81 98 703 702 33 100 204 250 395 398 399 400
    $EGID = 20 20 701 12 61 79 80 81 98 703 702 33 100 204 250 395 398 399 400

Perl module toolchain versions installed:

    Module              Have    
    ------------------- --------
    CPAN                2.00    
    CPAN::Meta          2.150010
    Cwd                 3.75    
    ExtUtils::CBuilder  0.280234
    ExtUtils::Command   7.44    
    ExtUtils::Install   2.14    
    ExtUtils::MakeMaker 7.44    
    ExtUtils::Manifest  1.72    
    ExtUtils::ParseXS   3.35    
    File::Spec          3.75    
    JSON                4.02    
    JSON::PP            4.04    
    Module::Build       0.4229  
    Module::Signature   0.83    
    Parse::CPAN::Meta   2.150010
    Test::Harness       3.42    
    Test::More          1.302171
    YAML                1.30    
    YAML::Syck          1.31    
    version             0.9924  


--

Summary of my perl5 (revision 5 version 18 subversion 4) configuration:
   
  Platform:
    osname=darwin, osvers=19.0, archname=darwin-thread-multi-2level
    uname='darwin osx374.sd.apple.com 19.0 darwin kernel version 18.0.0: tue jul 9 11:12:08 pdt 2019; root:xnu-4903.201.2.100.7~1release_x86_64 x86_64 '
    config_args='-ds -e -Dprefix=/usr -Dccflags=-g  -pipe  -Dldflags= -Dman3ext=3pm -Duseithreads -Duseshrplib -Dinc_version_list=none -Dcc=cc'
    hint=recommended, useposix=true, d_sigaction=define
    useithreads=define, usemultiplicity=define
    useperlio=define, d_sfio=undef, uselargefiles=define, usesocks=undef
    use64bitint=define, use64bitall=define, uselongdouble=undef
    usemymalloc=n, bincompat5005=undef
  Compiler:
    cc='cc', ccflags =' -g -pipe -fno-common -DPERL_DARWIN -fno-strict-aliasing -fstack-protector',
    optimize='-Os',
    cppflags='-g -pipe -fno-common -DPERL_DARWIN -fno-strict-aliasing -fstack-protector'
    ccversion='', gccversion='4.2.1 Compatible Apple LLVM 11.0.0 (clang-1100.0.32.4) (-macos10.15-objc-selector-opts)', gccosandvers=''
    intsize=4, longsize=8, ptrsize=8, doublesize=8, byteorder=12345678
    d_longlong=define, longlongsize=8, d_longdbl=define, longdblsize=16
    ivtype='long', ivsize=8, nvtype='double', nvsize=8, Off_t='off_t', lseeksize=8
    alignbytes=8, prototype=define
  Linker and Libraries:
    ld='cc', ldflags =' -fstack-protector'
    libpth=/usr/lib /usr/local/lib
    libs= 
    perllibs=
    libc=, so=dylib, useshrplib=true, libperl=libperl.dylib
    gnulibc_version=''
  Dynamic Linking:
    dlsrc=dl_dlopen.xs, dlext=bundle, d_dlsymun=undef, ccdlflags=' '
    cccdlflags=' ', lddlflags=' -bundle -undefined dynamic_lookup -fstack-protector'


Characteristics of this binary (from libperl): 
  Compile-time options: HAS_TIMES MULTIPLICITY PERLIO_LAYERS
                        PERL_DONT_CREATE_GVSV
                        PERL_HASH_FUNC_ONE_AT_A_TIME_HARD
                        PERL_IMPLICIT_CONTEXT PERL_MALLOC_WRAP
                        PERL_PRESERVE_IVUV PERL_SAWAMPERSAND USE_64_BIT_ALL
                        USE_64_BIT_INT USE_ITHREADS USE_LARGE_FILES
                        USE_LOCALE USE_LOCALE_COLLATE USE_LOCALE_CTYPE
                        USE_LOCALE_NUMERIC USE_PERLIO USE_PERL_ATOF
                        USE_REENTRANT_API
  Locally applied patches:
	/Library/Perl/Updates/<version> comes before system perl directories
	installprivlib and installarchlib points to the Updates directory
  Built under darwin
  Compiled at Dec 13 2019 14:54:45
  %ENV:
    PERL5LIB=""
    PERL5OPT=""
    PERL5_CPANPLUS_IS_RUNNING="29386"
    PERL5_CPAN_IS_RUNNING="29386"
  @INC:
    /Library/Perl/5.18/darwin-thread-multi-2level
    /Library/Perl/5.18
    /Network/Library/Perl/5.18/darwin-thread-multi-2level
    /Network/Library/Perl/5.18
    /Library/Perl/Updates/5.18.4/darwin-thread-multi-2level
    /Library/Perl/Updates/5.18.4
    /System/Library/Perl/5.18/darwin-thread-multi-2level
    /System/Library/Perl/5.18
    /System/Library/Perl/Extras/5.18/darwin-thread-multi-2level
    /System/Library/Perl/Extras/5.18
    .