POE-Component-Server-SimpleContent v1.14 Perl 5 v5.12.3 i386-freebsd-64int
- Status
- Pass
- From
- Steve Wills (SWILLS)
- Dist
-
POE-Component-Server-SimpleContent v1.14
- Platform
- Perl 5 v5.12.3 i386-freebsd-64int
- Date
- 2011-07-19 04:38:52
- ID
- 00db2c3e-b1c1-11e0-9944-aaa712b7e65f
This distribution has been tested as part of the CPAN Testers
project, supporting the Perl programming language. See
http://wiki.cpantesters.org/ for more information or email
questions to cpan-testers-discuss@perl.org
--
Dear Chris Williams,
This is a computer-generated report for POE-Component-Server-SimpleContent-1.14
on perl 5.12.3, created by CPAN-Reporter-1.1902.
Thank you for uploading your work to CPAN. Congratulations!
All tests were successful.
Sections of this report:
* Tester comments
* Program output
* Prerequisites
* Environment and other context
------------------------------
TESTER COMMENTS
------------------------------
Additional comments from tester:
this report is from an automated smoke testing program
and was not reviewed by a human for accuracy
------------------------------
PROGRAM OUTPUT
------------------------------
Output from '/usr/bin/make test':
PERL_DL_NONLAZY=1 /usr/bin/perl "-MExtUtils::Command::MM" "-e" "test_harness(0, 'inc', 'blib/lib', 'blib/arch')" t/*.t
# Testing POE::Component::Server::SimpleContent 1.14, POE 1.311, Perl 5.012003, /usr/bin/perl
t/01_use.t ............. ok
t/02_pod.t ............. skipped: Test::Pod 1.00 required for testing POD
t/02_pod_coverage.t .... skipped: Test::Pod::Coverage 1.00 required for testing POD coverage
t/03_spawn.t ........... ok
t/04_content.t ......... ok
t/05_prefix_path.t ..... ok
t/06_alias_path.t ...... ok
t/07_handler.t ......... ok
t/08_handler_prefix.t .. ok
t/09_handler_alias.t ... ok
All tests successful.
Files=10, Tests=57, 2 wallclock secs ( 0.04 usr 0.04 sys + 1.26 cusr 0.57 csys = 1.91 CPU)
Result: PASS
------------------------------
PREREQUISITES
------------------------------
Prerequisite modules loaded:
requires:
Module Need Have
----------------------- ---- -----
Carp 0 1.17
CGI 0 3.49
ExtUtils::MakeMaker 6.56 6.56
File::Basename 0 2.78
Filesys::Virtual::Plain 0.07 0.10
HTTP::Request 0 5.827
HTTP::Response 0 5.836
MIME::Types 1.15 1.31
POE 0.38 1.311
Storable 0 2.22
Test::More 0.47 0.94
URI::Escape 3.28 3.30
------------------------------
ENVIRONMENT AND OTHER CONTEXT
------------------------------
Environment variables:
AUTOMATED_TESTING = 1
PATH = /sbin:/bin:/usr/sbin:/usr/bin:/usr/games:/usr/local/sbin:/usr/local/bin:/home/swills/bin
PERL5LIB = /home/swills/.cpan/build/POE-1.311-yJYIaP/blib/arch:/home/swills/.cpan/build/POE-1.311-yJYIaP/blib/lib:/home/swills/.cpan/build/IO-Tty-1.10-wQFBNm/blib/arch:/home/swills/.cpan/build/IO-Tty-1.10-wQFBNm/blib/lib:/home/swills/.cpan/build/POE-Test-Loops-1.311-okhDZC/blib/arch:/home/swills/.cpan/build/POE-Test-Loops-1.311-okhDZC/blib/lib:/home/swills/.cpan/build/MIME-Types-1.31-ekl3Rg/blib/arch:/home/swills/.cpan/build/MIME-Types-1.31-ekl3Rg/blib/lib:/home/swills/.cpan/build/ExtUtils-MakeMaker-6.56-jSKgqI/blib/arch:/home/swills/.cpan/build/ExtUtils-MakeMaker-6.56-jSKgqI/blib/lib:/home/swills/.cpan/build/Filesys-Virtual-Plain-0.10-ISNMAQ/blib/arch:/home/swills/.cpan/build/Filesys-Virtual-Plain-0.10-ISNMAQ/blib/lib:/home/swills/.cpan/build/Filesys-Virtual-0.06-88p5tb/blib/arch:/home/swills/.cpan/build/Filesys-Virtual-0.06-88p5tb/blib/lib
PERL5OPT =
PERL5_CPANPLUS_IS_RUNNING = 12834
PERL5_CPAN_IS_RUNNING = 12834
PERL5_CPAN_IS_RUNNING_IN_RECURSION = 4702,12834
PERL_CR_SMOKER_CURRENT = POE-Component-Server-SimpleContent-1.14
PERL_EXTUTILS_AUTOINSTALL = --defaultdeps
PERL_MM_USE_DEFAULT = 1
SHELL = /usr/local/bin/zsh
TERM = screen
Perl special variables (and OS-specific diagnostics, for MSWin32):
$^X = /usr/bin/perl
$UID/$EUID = 1001 / 1001
$GID = 1001 1001 1001 0
$EGID = 1001 1001 1001 0
Perl module toolchain versions installed:
Module Have
------------------- -------
CPAN 1.94_56
Cwd 3.33
ExtUtils::CBuilder 0.27
ExtUtils::Command 1.16
ExtUtils::Install 1.55
ExtUtils::MakeMaker 6.56
ExtUtils::Manifest 1.57
ExtUtils::ParseXS 2.21
File::Spec 3.33
Module::Build 0.3603
Module::Signature n/a
Test::Harness 3.17
Test::More 0.94
YAML n/a
YAML::Syck n/a
version 0.82
--
Summary of my perl5 (revision 5 version 12 subversion 3) configuration:
Platform:
osname=freebsd, osvers=7.4-stable, archname=i386-freebsd-64int
uname='freebsd tinderbox.host 7.4-stable freebsd 7.4-stable #0: sun may 22 08:13:50 edt 2011 root@tinderbox.host:usrsrcsysmagickernelpath i386 '
config_args='-sde -Dprefix=/usr/local -Darchlib=/usr/local/lib/perl5/5.12.3/mach -Dprivlib=/usr/local/lib/perl5/5.12.3 -Dman3dir=/usr/local/lib/perl5/5.12.3/perl/man/man3 -Dman1dir=/usr/local/man/man1 -Dsitearch=/usr/local/lib/perl5/site_perl/5.12.3/mach -Dsitelib=/usr/local/lib/perl5/site_perl/5.12.3 -Dscriptdir=/usr/local/bin -Dsiteman3dir=/usr/local/lib/perl5/5.12.3/man/man3 -Dsiteman1dir=/usr/local/man/man1 -Ui_malloc -Ui_iconv -Uinstallusrbinperl -Dcc=cc -Duseshrplib -Dinc_version_list=none -Dccflags=-DAPPLLIB_EXP="/usr/local/lib/perl5/5.12.3/BSDPAN" -Doptimize=-O2 -fno-strict-aliasing -pipe -Ui_gdbm -Dusethreads=n -Dusemymalloc=n -Duse64bitint'
hint=recommended, useposix=true, d_sigaction=define
useithreads=undef, usemultiplicity=undef
useperlio=define, d_sfio=undef, uselargefiles=define, usesocks=undef
use64bitint=define, use64bitall=undef, uselongdouble=undef
usemymalloc=n, bincompat5005=undef
Compiler:
cc='cc', ccflags ='-DAPPLLIB_EXP="/usr/local/lib/perl5/5.12.3/BSDPAN" -DHAS_FPSETMASK -DHAS_FLOATINGPOINT_H -fno-strict-aliasing -pipe -fstack-protector -I/usr/local/include',
optimize='-O2 -fno-strict-aliasing -pipe',
cppflags='-DAPPLLIB_EXP="/usr/local/lib/perl5/5.12.3/BSDPAN" -DHAS_FPSETMASK -DHAS_FLOATINGPOINT_H -fno-strict-aliasing -pipe -fstack-protector -I/usr/local/include'
ccversion='', gccversion='4.2.2 20070831 prerelease [FreeBSD]', gccosandvers=''
intsize=4, longsize=4, ptrsize=4, doublesize=8, byteorder=12345678
d_longlong=define, longlongsize=8, d_longdbl=define, longdblsize=12
ivtype='long long', ivsize=8, nvtype='double', nvsize=8, Off_t='off_t', lseeksize=8
alignbytes=4, prototype=define
Linker and Libraries:
ld='cc', ldflags =' -Wl,-E -fstack-protector -L/usr/local/lib'
libpth=/usr/lib /usr/local/lib
libs=-lm -lcrypt -lutil
perllibs=-lm -lcrypt -lutil
libc=, so=so, useshrplib=true, libperl=libperl.so
gnulibc_version=''
Dynamic Linking:
dlsrc=dl_dlopen.xs, dlext=so, d_dlsymun=undef, ccdlflags=' -Wl,-R/usr/local/lib/perl5/5.12.3/mach/CORE'
cccdlflags='-DPIC -fPIC', lddlflags='-shared -L/usr/local/lib -fstack-protector'
Characteristics of this binary (from libperl):
Compile-time options: PERL_DONT_CREATE_GVSV PERL_MALLOC_WRAP USE_64_BIT_INT
USE_LARGE_FILES USE_PERLIO USE_PERL_ATOF
Built under freebsd
Compiled at May 22 2011 12:16:34
%ENV:
PERL5LIB="/home/swills/.cpan/build/POE-1.311-yJYIaP/blib/arch:/home/swills/.cpan/build/POE-1.311-yJYIaP/blib/lib:/home/swills/.cpan/build/IO-Tty-1.10-wQFBNm/blib/arch:/home/swills/.cpan/build/IO-Tty-1.10-wQFBNm/blib/lib:/home/swills/.cpan/build/POE-Test-Loops-1.311-okhDZC/blib/arch:/home/swills/.cpan/build/POE-Test-Loops-1.311-okhDZC/blib/lib:/home/swills/.cpan/build/MIME-Types-1.31-ekl3Rg/blib/arch:/home/swills/.cpan/build/MIME-Types-1.31-ekl3Rg/blib/lib:/home/swills/.cpan/build/ExtUtils-MakeMaker-6.56-jSKgqI/blib/arch:/home/swills/.cpan/build/ExtUtils-MakeMaker-6.56-jSKgqI/blib/lib:/home/swills/.cpan/build/Filesys-Virtual-Plain-0.10-ISNMAQ/blib/arch:/home/swills/.cpan/build/Filesys-Virtual-Plain-0.10-ISNMAQ/blib/lib:/home/swills/.cpan/build/Filesys-Virtual-0.06-88p5tb/blib/arch:/home/swills/.cpan/build/Filesys-Virtual-0.06-88p5tb/blib/lib"
PERL5OPT=""
PERL5_CPANPLUS_IS_RUNNING="12834"
PERL5_CPAN_IS_RUNNING="12834"
PERL5_CPAN_IS_RUNNING_IN_RECURSION="4702,12834"
PERL_CR_SMOKER_CURRENT="POE-Component-Server-SimpleContent-1.14"
PERL_EXTUTILS_AUTOINSTALL="--defaultdeps"
PERL_MM_USE_DEFAULT="1"
@INC:
/home/swills/.cpan/build/POE-1.311-yJYIaP/blib/arch
/home/swills/.cpan/build/POE-1.311-yJYIaP/blib/lib
/home/swills/.cpan/build/IO-Tty-1.10-wQFBNm/blib/arch
/home/swills/.cpan/build/IO-Tty-1.10-wQFBNm/blib/lib
/home/swills/.cpan/build/POE-Test-Loops-1.311-okhDZC/blib/arch
/home/swills/.cpan/build/POE-Test-Loops-1.311-okhDZC/blib/lib
/home/swills/.cpan/build/MIME-Types-1.31-ekl3Rg/blib/arch
/home/swills/.cpan/build/MIME-Types-1.31-ekl3Rg/blib/lib
/home/swills/.cpan/build/ExtUtils-MakeMaker-6.56-jSKgqI/blib/arch
/home/swills/.cpan/build/ExtUtils-MakeMaker-6.56-jSKgqI/blib/lib
/home/swills/.cpan/build/Filesys-Virtual-Plain-0.10-ISNMAQ/blib/arch
/home/swills/.cpan/build/Filesys-Virtual-Plain-0.10-ISNMAQ/blib/lib
/home/swills/.cpan/build/Filesys-Virtual-0.06-88p5tb/blib/arch
/home/swills/.cpan/build/Filesys-Virtual-0.06-88p5tb/blib/lib
/usr/local/lib/perl5/5.12.3/BSDPAN
/usr/local/lib/perl5/site_perl/5.12.3/mach
/usr/local/lib/perl5/site_perl/5.12.3
/usr/local/lib/perl5/5.12.3/mach
/usr/local/lib/perl5/5.12.3
.