Net-Statsd-Server v0.20 Perl 5 v5.41.2 x86_64-linux-thread-multi
- Status
- Pass
- From
- Andreas J. König (ANDK)
- Dist
-
Net-Statsd-Server v0.20
- Platform
- Perl 5 v5.41.2 x86_64-linux-thread-multi
- Date
- 2024-08-25 02:44:51
- ID
- 00c7c06a-628c-11ef-8b3e-f1d495b008fb
This distribution has been tested as part of the CPAN Testers
project, supporting the Perl programming language. See
http://wiki.cpantesters.org/ for more information or email
questions to cpan-testers-discuss@perl.org
--
Dear Cosimo Streppone,
This is a computer-generated report for Net-Statsd-Server-0.20
on perl 5.41.2, created by CPAN-Reporter-1.2019.
Thank you for uploading your work to CPAN. Congratulations!
All tests were successful.
Sections of this report:
* Tester comments
* Program output
* Prerequisites
* Environment and other context
------------------------------
TESTER COMMENTS
------------------------------
Additional comments from tester:
this report is from an automated smoke testing program
and was not reviewed by a human for accuracy
------------------------------
PROGRAM OUTPUT
------------------------------
Output from '/usr/bin/make test':
PERL_DL_NONLAZY=1 "/tmp/basesmoker-reloperl-rlTO/bin/perl" "-MExtUtils::Command::MM" "-MTest::Harness" "-e" "undef *Test::Harness::Switches; test_harness(0, 'blib/lib', 'blib/arch')" t/*.t t/integration-tests/*.t
t/000-sanity.t ............................. ok
t/config.t ................................. ok
t/graphite.t ............................... ok
2024-08-25 02:43:53.000000 +0000 note Net::Statsd::Server: Initializing Net::Statsd::Server::Backend::Console backend
2024-08-25 02:43:53.000000 +0000 note Net::Statsd::Server: Initializing Net::Statsd::Server::Backend::Graphite backend
2024-08-25 02:43:53.000000 +0000 info AnyEvent: Autoloaded model 'AnyEvent::Impl::Perl', using it.
2024-08-25 02:43:53.318741 +0000 note Net::Statsd::Server: statsd server started on 0.0.0.0:40001 (v0.17)
2024-08-25 02:43:53.318803 +0000 note Net::Statsd::Server: manager interface started on 0.0.0.0:40002
2024-08-25 02:43:53.318866 +0000 note Net::Statsd::Server: metrics flush will happen every 1s
2024-08-25 02:43:53.718668 +0000 warn Net::Statsd::Server: Bad line: 1 in msg "a_bad_test_value|z"
2024-08-25 02:43:54.321343 +0000 note Net::Statsd::Server: flushing metrics
Flushing stats at Sun Aug 25 02:43:54 2024
{"counter_rates":{"statsd.packets_received":1,"statsd.bad_lines_seen":1},"pctThreshold":[90],"sets":null,"gauges":{},"counters":{"statsd.bad_lines_seen":1,"statsd.packets_received":1},"timer_data":{},"timers":{}}
t/integration-tests/bad-message.t .......... ok
2024-08-25 02:43:54.000000 +0000 note Net::Statsd::Server: Initializing Net::Statsd::Server::Backend::Console backend
2024-08-25 02:43:54.000000 +0000 note Net::Statsd::Server: Initializing Net::Statsd::Server::Backend::Graphite backend
2024-08-25 02:43:54.000000 +0000 info AnyEvent: Autoloaded model 'AnyEvent::Impl::Perl', using it.
2024-08-25 02:43:54.538677 +0000 note Net::Statsd::Server: statsd server started on 0.0.0.0:40001 (v0.17)
2024-08-25 02:43:54.538717 +0000 note Net::Statsd::Server: manager interface started on 0.0.0.0:40002
2024-08-25 02:43:54.538752 +0000 note Net::Statsd::Server: metrics flush will happen every 1s
2024-08-25 02:43:55.541723 +0000 note Net::Statsd::Server: flushing metrics
Flushing stats at Sun Aug 25 02:43:55 2024
{"timers":{},"counters":{"a_test_value":100,"statsd.packets_received":1,"statsd.bad_lines_seen":0},"sets":null,"pctThreshold":[90],"gauges":{},"timer_data":{},"counter_rates":{"a_test_value":100,"statsd.bad_lines_seen":0,"statsd.packets_received":1}}
# stats.counters.a_test_value.rate 100.000000 1724553835
# stats.counters.a_test_value.count 100 1724553835
# stats.counters.statsd.packets_received.rate 1.000000 1724553835
# stats.counters.statsd.packets_received.count 1 1724553835
# stats.counters.statsd.bad_lines_seen.rate 0.000000 1724553835
# stats.counters.statsd.bad_lines_seen.count 0 1724553835
# stats.statsd.numStats 3 1724553835
# stats.statsd.graphiteStats.calculationtime 0.042000 1724553835
# stats.statsd.processing_time 0.021 1724553835
# stats.statsd.graphiteStats.last_exception 94355354847680 1724553835
# stats.statsd.graphiteStats.last_flush 94355354847680 1724553835
t/integration-tests/counts-are-valid.t ..... ok
2024-08-25 02:43:55.000000 +0000 note Net::Statsd::Server: Initializing Net::Statsd::Server::Backend::Graphite backend
2024-08-25 02:43:55.000000 +0000 info AnyEvent: Autoloaded model 'AnyEvent::Impl::Perl', using it.
2024-08-25 02:43:55.767035 +0000 note Net::Statsd::Server: statsd server started on 0.0.0.0:40001 (v0.17)
2024-08-25 02:43:55.767079 +0000 note Net::Statsd::Server: manager interface started on 0.0.0.0:40002
2024-08-25 02:43:55.767116 +0000 note Net::Statsd::Server: metrics flush will happen every 1s
2024-08-25 02:43:56.768485 +0000 note Net::Statsd::Server: flushing metrics
# First flush. Test gauge should be there.
2024-08-25 02:43:57.768266 +0000 note Net::Statsd::Server: flushing metrics
# Second flush. deleteGauges=false should keep the test gauge.
t/integration-tests/delete-gauges-false.t .. ok
2024-08-25 02:43:57.000000 +0000 note Net::Statsd::Server: Initializing Net::Statsd::Server::Backend::Graphite backend
2024-08-25 02:43:57.000000 +0000 info AnyEvent: Autoloaded model 'AnyEvent::Impl::Perl', using it.
2024-08-25 02:43:57.975950 +0000 note Net::Statsd::Server: statsd server started on 0.0.0.0:40001 (v0.17)
2024-08-25 02:43:57.975999 +0000 note Net::Statsd::Server: manager interface started on 0.0.0.0:40002
2024-08-25 02:43:57.976033 +0000 note Net::Statsd::Server: metrics flush will happen every 1s
2024-08-25 02:43:58.976325 +0000 note Net::Statsd::Server: flushing metrics
# First flush. Test gauge should be there.
2024-08-25 02:43:59.980287 +0000 note Net::Statsd::Server: flushing metrics
# Second flush. deleteIdleStats should have cleared the test gauge.
t/integration-tests/delete-idle-stats.t .... ok
2024-08-25 02:44:00.000000 +0000 note Net::Statsd::Server: Initializing Net::Statsd::Server::Backend::Console backend
2024-08-25 02:44:00.000000 +0000 note Net::Statsd::Server: Initializing Net::Statsd::Server::Backend::Graphite backend
2024-08-25 02:44:00.000000 +0000 info AnyEvent: Autoloaded model 'AnyEvent::Impl::Perl', using it.
2024-08-25 02:44:00.203459 +0000 note Net::Statsd::Server: statsd server started on 0.0.0.0:40001 (v0.17)
2024-08-25 02:44:00.203500 +0000 note Net::Statsd::Server: manager interface started on 0.0.0.0:40002
2024-08-25 02:44:00.203536 +0000 note Net::Statsd::Server: metrics flush will happen every 1s
2024-08-25 02:44:01.204294 +0000 note Net::Statsd::Server: flushing metrics
Flushing stats at Sun Aug 25 02:44:01 2024
{"pctThreshold":[90],"sets":null,"timers":{},"counter_rates":{"statsd.bad_lines_seen":0,"statsd.packets_received":1,"a_test_value,category=web,severity=high":100},"gauges":{},"counters":{"a_test_value,category=web,severity=high":100,"statsd.packets_received":1,"statsd.bad_lines_seen":0},"timer_data":{}}
# stats.counters.a_test_value,category=web,severity=high.rate 100.000000 1724553841
# stats.counters.a_test_value,category=web,severity=high.count 100 1724553841
# stats.counters.statsd.packets_received.rate 1.000000 1724553841
# stats.counters.statsd.packets_received.count 1 1724553841
# stats.counters.statsd.bad_lines_seen.rate 0.000000 1724553841
# stats.counters.statsd.bad_lines_seen.count 0 1724553841
# stats.statsd.numStats 3 1724553841
# stats.statsd.graphiteStats.calculationtime 0.040000 1724553841
# stats.statsd.processing_time 0.02 1724553841
# stats.statsd.graphiteStats.last_exception 94746156992960 1724553841
# stats.statsd.graphiteStats.last_flush 94746156992960 1724553841
t/integration-tests/keys-with-tags.t ....... ok
2024-08-25 02:44:01.000000 +0000 note Net::Statsd::Server: Initializing Net::Statsd::Server::Backend::Graphite backend
2024-08-25 02:44:01.000000 +0000 info AnyEvent: Autoloaded model 'AnyEvent::Impl::Perl', using it.
2024-08-25 02:44:01.419020 +0000 note Net::Statsd::Server: statsd server started on 0.0.0.0:40001 (v0.17)
2024-08-25 02:44:01.419064 +0000 note Net::Statsd::Server: manager interface started on 0.0.0.0:40002
2024-08-25 02:44:01.419100 +0000 note Net::Statsd::Server: metrics flush will happen every 1s
# Expected mean value is 2054.75
2024-08-25 02:44:02.421797 +0000 note Net::Statsd::Server: flushing metrics
# stats.counters.statsd.packets_received.rate 100.000000 1724553842
# stats.counters.statsd.packets_received.count 100 1724553842
# stats.counters.statsd.bad_lines_seen.rate 0.000000 1724553842
# stats.counters.statsd.bad_lines_seen.count 0 1724553842
# stats.timers.read_latency.count 100.000000 1724553842
# stats.timers.read_latency.upper_99 2985.000000 1724553842
# stats.timers.read_latency.upper_95 2935.000000 1724553842
# stats.timers.read_latency.sum_squares_98 433105500.000000 1724553842
# stats.timers.read_latency.upper_98 2966.000000 1724553842
# stats.timers.read_latency.sum_squares_99 442015725.000000 1724553842
# stats.timers.read_latency.mean_99 2045.222222 1724553842
# stats.timers.read_latency.mean_98 2035.632653 1724553842
# stats.timers.read_latency.sum_squares_95 406844244.000000 1724553842
# stats.timers.read_latency.sum_squares 451003729.000000 1724553842
# stats.timers.read_latency.count_ps 100.000000 1724553842
# stats.timers.read_latency.sum_95 190616.000000 1724553842
# stats.timers.read_latency.std 536.693327 1724553842
# stats.timers.read_latency.count_95 95.000000 1724553842
# stats.timers.read_latency.mean 2054.750000 1724553842
# stats.timers.read_latency.upper 2998.000000 1724553842
# stats.timers.read_latency.count_99 99.000000 1724553842
# stats.timers.read_latency.median 2097.000000 1724553842
# stats.timers.read_latency.sum_98 199492.000000 1724553842
# stats.timers.read_latency.count_98 98.000000 1724553842
# stats.timers.read_latency.sum 205475.000000 1724553842
# stats.timers.read_latency.lower 1116.000000 1724553842
# stats.timers.read_latency.mean_95 2006.484211 1724553842
# stats.timers.read_latency.sum_99 202477.000000 1724553842
# stats.statsd.numStats 3 1724553842
# stats.statsd.graphiteStats.calculationtime 0.097000 1724553842
# stats.statsd.processing_time 0.238 1724553842
# stats.statsd.graphiteStats.last_exception 94557753768384 1724553842
# stats.statsd.graphiteStats.last_flush 94557753768384 1724553842
t/integration-tests/percent-threshold.t .... ok
2024-08-25 02:44:02.000000 +0000 note Net::Statsd::Server: Initializing Net::Statsd::Server::Backend::Console backend
2024-08-25 02:44:02.000000 +0000 note Net::Statsd::Server: Initializing Net::Statsd::Server::Backend::Graphite backend
2024-08-25 02:44:02.000000 +0000 info AnyEvent: Autoloaded model 'AnyEvent::Impl::Perl', using it.
2024-08-25 02:44:02.650340 +0000 note Net::Statsd::Server: statsd server started on 0.0.0.0:40001 (v0.17)
2024-08-25 02:44:02.650413 +0000 note Net::Statsd::Server: manager interface started on 0.0.0.0:40002
2024-08-25 02:44:02.650453 +0000 note Net::Statsd::Server: metrics flush will happen every 1s
2024-08-25 02:44:03.652924 +0000 note Net::Statsd::Server: flushing metrics
Flushing stats at Sun Aug 25 02:44:03 2024
{"pctThreshold":["90"],"gauges":{},"timers":{"a_test_value":["100"]},"timer_data":{"a_test_value":{"upper_90":"100","sum_90":"100","std":0,"upper":"100","median":"100","sum_squares":10000,"mean":100,"count_90":1,"sum":"100","count":1,"sum_squares_90":10000,"count_ps":1,"mean_90":"100","lower":"100"}},"counters":{"statsd.bad_lines_seen":0,"statsd.packets_received":1},"counter_rates":{"statsd.packets_received":1,"statsd.bad_lines_seen":0},"sets":null}
# stats.counters.statsd.bad_lines_seen.rate 0.000000 1724553843
# stats.counters.statsd.bad_lines_seen.count 0 1724553843
# stats.counters.statsd.packets_received.rate 1.000000 1724553843
# stats.counters.statsd.packets_received.count 1 1724553843
# stats.timers.a_test_value.upper_90 100.000000 1724553843
# stats.timers.a_test_value.sum_90 100.000000 1724553843
# stats.timers.a_test_value.std 0.000000 1724553843
# stats.timers.a_test_value.upper 100.000000 1724553843
# stats.timers.a_test_value.median 100.000000 1724553843
# stats.timers.a_test_value.sum_squares 10000.000000 1724553843
# stats.timers.a_test_value.mean 100.000000 1724553843
# stats.timers.a_test_value.count_90 1.000000 1724553843
# stats.timers.a_test_value.sum 100.000000 1724553843
# stats.timers.a_test_value.count 1.000000 1724553843
# stats.timers.a_test_value.sum_squares_90 10000.000000 1724553843
# stats.timers.a_test_value.count_ps 1.000000 1724553843
# stats.timers.a_test_value.mean_90 100.000000 1724553843
# stats.timers.a_test_value.lower 100.000000 1724553843
# stats.statsd.numStats 3 1724553843
# stats.statsd.graphiteStats.calculationtime 0.071000 1724553843
# stats.statsd.processing_time 0.056 1724553843
# stats.statsd.graphiteStats.last_exception 94832053545408 1724553843
# stats.statsd.graphiteStats.last_flush 94832053545408 1724553843
t/integration-tests/timers-are-valid.t ..... ok
t/process-metrics.t ........................ ok
t/trim.t ................................... ok
All tests successful.
Files=12, Tests=92, 11 wallclock secs ( 0.06 usr 0.01 sys + 1.33 cusr 0.22 csys = 1.62 CPU)
Result: PASS
------------------------------
PREREQUISITES
------------------------------
Prerequisite modules loaded:
requires:
Module Need Have
--------------------- ---- --------
AnyEvent::Handle::UDP 0 0.050
IO::Socket::INET 0 1.55
JSON::XS 0 4.03
build_requires:
Module Need Have
--------------------- ---- --------
ExtUtils::MakeMaker 0 7.70
Test::More 0 1.302201
configure_requires:
Module Need Have
--------------------- ---- --------
ExtUtils::MakeMaker 0 7.70
------------------------------
ENVIRONMENT AND OTHER CONTEXT
------------------------------
Environment variables:
AUTOMATED_TESTING = 1
LANG = en_US.UTF-8
PATH = /home/sand/bin:/usr/local/bin:/usr/local/sbin:/usr/sbin:/usr/bin:/sbin:/bin:/usr/games:/usr/local/games:/snap/bin:/usr/local/perl/bin:/usr/X11/bin
PERL = /tmp/basesmoker-reloperl-rlTO/bin/perl
PERL5LIB = /tmp/loop_over_bdir-2574615-sC4Z7K/Lingua-BioYaTeA-0.11-0/blib/arch:/tmp/loop_over_bdir-2574615-sC4Z7K/Lingua-BioYaTeA-0.11-0/blib/lib:/tmp/loop_over_bdir-2574615-sC4Z7K/Lingua-YaTeA-0.626-0/blib/arch:/tmp/loop_over_bdir-2574615-sC4Z7K/Lingua-YaTeA-0.626-0/blib/lib
PERL5OPT =
PERL5_CPANPLUS_IS_RUNNING = 2574623
PERL5_CPAN_IS_RUNNING = 2574623
PERL_CANARY_STABILITY_NOPROMPT = 1
PERL_MM_USE_DEFAULT = 1
PERL_USE_UNSAFE_INC = 1
SHELL = /usr/bin/zsh
TERM = screen
Perl special variables (and OS-specific diagnostics, for MSWin32):
$^X = /tmp/basesmoker-reloperl-rlTO/bin/perl
$UID/$EUID = 1005 / 1005
$GID = 1005 1005
$EGID = 1005 1005
Perl module toolchain versions installed:
Module Have
------------------- --------
CPAN 2.36
CPAN::Meta 2.150010
Cwd 3.92
ExtUtils::CBuilder 0.280240
ExtUtils::Command 7.70
ExtUtils::Install 2.22
ExtUtils::MakeMaker 7.70
ExtUtils::Manifest 1.75
ExtUtils::ParseXS 3.52
File::Spec 3.92
JSON 4.10
JSON::PP 4.16
Module::Build 0.4234
Module::Signature 0.88
Parse::CPAN::Meta 2.150010
Test2 1.302201
Test::Harness 3.50
Test::More 1.302201
YAML 1.31
YAML::Syck 1.34
version 0.9932
--
Summary of my perl5 (revision 5 version 41 subversion 2) configuration:
Commit id: bcb5884b9b0ae1345ac74420bacb865ba11baab3
Platform:
osname=linux
osvers=5.4.0-187-generic
archname=x86_64-linux-thread-multi
uname='linux k93focal 5.4.0-187-generic #207-ubuntu smp mon jun 10 08:16:10 utc 2024 x86_64 x86_64 x86_64 gnulinux '
config_args='-Dprefix=/home/sand/src/perl/repoperls/installed-perls/host/k93focal/v5.41.2/d119 -Dmyhostname=k93focal -Dinstallusrbinperl=n -Uversiononly -Dusedevel -des -Ui_db -Dlibswanted=cl pthread socket inet nsl gdbm dbm malloc dl ld sun m crypt sec util c cposix posix ucb BSD gdbm_compat -Duseithreads -Uuselongdouble -DEBUGGING=both'
hint=recommended
useposix=true
d_sigaction=define
useithreads=define
usemultiplicity=define
use64bitint=define
use64bitall=define
uselongdouble=undef
usemymalloc=n
default_inc_excludes_dot=define
Compiler:
cc='cc'
ccflags ='-D_REENTRANT -D_GNU_SOURCE -fwrapv -DDEBUGGING -fno-strict-aliasing -pipe -fstack-protector-strong -I/usr/local/include -D_LARGEFILE_SOURCE -D_FILE_OFFSET_BITS=64'
optimize='-O2 -g'
cppflags='-D_REENTRANT -D_GNU_SOURCE -fwrapv -DDEBUGGING -fno-strict-aliasing -pipe -fstack-protector-strong -I/usr/local/include'
ccversion=''
gccversion='9.4.0'
gccosandvers=''
intsize=4
longsize=8
ptrsize=8
doublesize=8
byteorder=12345678
doublekind=3
d_longlong=define
longlongsize=8
d_longdbl=define
longdblsize=16
longdblkind=3
ivtype='long'
ivsize=8
nvtype='double'
nvsize=8
Off_t='off_t'
lseeksize=8
alignbytes=8
prototype=define
Linker and Libraries:
ld='cc'
ldflags =' -fstack-protector-strong -L/usr/local/lib'
libpth=/usr/local/lib /usr/lib/x86_64-linux-gnu /usr/lib /usr/lib64
libs=-lpthread -lnsl -ldl -lm -lcrypt -lutil -lc
perllibs=-lpthread -lnsl -ldl -lm -lcrypt -lutil -lc
libc=libc-2.31.so
so=so
useshrplib=false
libperl=libperl.a
gnulibc_version='2.31'
Dynamic Linking:
dlsrc=dl_dlopen.xs
dlext=so
d_dlsymun=undef
ccdlflags='-Wl,-E'
cccdlflags='-fPIC'
lddlflags='-shared -O2 -g -L/usr/local/lib -fstack-protector-strong'
Characteristics of this binary (from libperl):
Compile-time options:
DEBUGGING
HAS_LONG_DOUBLE
HAS_STRTOLD
HAS_TIMES
MULTIPLICITY
PERLIO_LAYERS
PERL_COPY_ON_WRITE
PERL_DONT_CREATE_GVSV
PERL_HASH_FUNC_SIPHASH13
PERL_HASH_USE_SBOX32
PERL_MALLOC_WRAP
PERL_OP_PARENT
PERL_PRESERVE_IVUV
PERL_TRACK_MEMPOOL
PERL_USE_DEVEL
PERL_USE_SAFE_PUTENV
USE_64_BIT_ALL
USE_64_BIT_INT
USE_ITHREADS
USE_LARGE_FILES
USE_LOCALE
USE_LOCALE_COLLATE
USE_LOCALE_CTYPE
USE_LOCALE_NUMERIC
USE_LOCALE_TIME
USE_PERLIO
USE_PERL_ATOF
USE_REENTRANT_API
USE_THREAD_SAFE_LOCALE
Built under linux
Compiled at Jul 22 2024 11:16:55
%ENV:
PERL="/tmp/basesmoker-reloperl-rlTO/bin/perl"
PERL5LIB="/tmp/loop_over_bdir-2574615-sC4Z7K/Lingua-BioYaTeA-0.11-0/blib/arch:/tmp/loop_over_bdir-2574615-sC4Z7K/Lingua-BioYaTeA-0.11-0/blib/lib:/tmp/loop_over_bdir-2574615-sC4Z7K/Lingua-YaTeA-0.626-0/blib/arch:/tmp/loop_over_bdir-2574615-sC4Z7K/Lingua-YaTeA-0.626-0/blib/lib"
PERL5OPT=""
PERL5_CPANPLUS_IS_RUNNING="2574623"
PERL5_CPAN_IS_RUNNING="2574623"
PERL_CANARY_STABILITY_NOPROMPT="1"
PERL_MM_USE_DEFAULT="1"
PERL_USE_UNSAFE_INC="1"
@INC:
/tmp/loop_over_bdir-2574615-sC4Z7K/Lingua-BioYaTeA-0.11-0/blib/arch
/tmp/loop_over_bdir-2574615-sC4Z7K/Lingua-BioYaTeA-0.11-0/blib/lib
/tmp/loop_over_bdir-2574615-sC4Z7K/Lingua-YaTeA-0.626-0/blib/arch
/tmp/loop_over_bdir-2574615-sC4Z7K/Lingua-YaTeA-0.626-0/blib/lib
/home/sand/src/perl/repoperls/installed-perls/host/k93focal/v5.41.2/d119/lib/site_perl/5.41.2/x86_64-linux-thread-multi
/home/sand/src/perl/repoperls/installed-perls/host/k93focal/v5.41.2/d119/lib/site_perl/5.41.2
/home/sand/src/perl/repoperls/installed-perls/host/k93focal/v5.41.2/d119/lib/5.41.2/x86_64-linux-thread-multi
/home/sand/src/perl/repoperls/installed-perls/host/k93focal/v5.41.2/d119/lib/5.41.2
.