Text-Amuse-Preprocessor v0.67 Perl 5 v5.34.0 i686-linux
- Status
- Pass
- From
- Chris Williams (BINGOS)
- Dist
-
Text-Amuse-Preprocessor v0.67
- Platform
- Perl 5 v5.34.0 i686-linux
- Date
- 2023-07-13 22:45:44
- ID
- 00b86d3a-21cf-11ee-98b0-b3c3213a625c
This distribution has been tested as part of the CPAN Testers
project, supporting the Perl programming language. See
http://wiki.cpantesters.org/ for more information or email
questions to cpan-testers-discuss@perl.org
--
Dear MELMOTHX,
This is a computer-generated error report created automatically by
CPANPLUS, version 0.9914. Testers personal comments may appear
at the end of this report.
Thank you for uploading your work to CPAN. Congratulations!
All tests were successful.
TEST RESULTS:
Below is the error stack from stage 'make test':
PERL_DL_NONLAZY=1 "/home/cpan/pit/bare/perl-5.34.0/bin/perl" "-MExtUtils::Command::MM" "-MTest::Harness" "-e" "undef *Test::Harness::Switches; test_harness(0, 'blib/lib', 'blib/arch')" t/*.t
# Testing Text::Amuse::Preprocessor 0.67, Perl 5.034000, /home/cpan/pit/bare/perl-5.34.0/bin/perl
t/00-load.t ........... ok
t/changes.t ........... skipped: Changes testing not required (or Test::CPAN::Changes not found)
t/chars.t ............. ok
t/chinese.t ........... ok
# Using /tmp/wGKmTMzj1p for ligatures
# Using /tmp/apLEjipdUo for missing_nl
# Using /tmp/0LMfdEMHpE for garbage
# Using /tmp/XYgul03_OS for ellipsis_no_fix
# Using /tmp/MbZAohtfh3 for ellipsis
# Using /tmp/VnSE_1UvSB for links
# Using /tmp/UYn0j4jO_2 for en
# Using /tmp/81XBrVM_h3 for fi
# Using /tmp/o4xsyF0h1R for es
# Using /tmp/rsh5iy_Fz8 for sr
# Using /tmp/vfVkz6gtnD for hr
# Using /tmp/jqAhE_KCFO for ru
# Using /tmp/07NoIBQaNz for it
# Using /tmp/UpMbweGi8e for mk
# Using /tmp/4dmDztcKVq for sv
# Using /tmp/5wfD6RUZX7 for de
# Using /tmp/PXH_MsTqJc for pl
# Using /tmp/24hT8lfFH8 for bg
# Using /tmp/jCRFGXawqg for eo
# Using /tmp/KVr5oWkihf for fr
# Using /tmp/nWg7LVhADm for pt
# Using /tmp/ZkM0tq_oEU for sq
# Using /tmp/NHzjIZ24Yj for da
# Using /tmp/FmG_ZcPrd0 for nl
# Using /tmp/bdowxEvsI9 for id
# Using /tmp/_pM5KD68TZ for Full example
# Using /tmp/rBUVKGonki for Quote
# Using /tmp/mow_LDMt6U for Quote
# Using /tmp/uL1tBrB409 for Nl quotation
t/common.t ............ ok
t/crash-on-verb.t ..... ok
# $VAR1 = "#title Test
# #lang en
#
# 0
#
# \x{201c}0\x{201d}
#
# 0
# ";
# $VAR1 = "#title Test
# #lang en
#
# 0
#
# \x{201c}0\x{201d}
#
# 0
# ";
t/crash_on_loop.t ..... ok
# /tmp/yZpy3WApKb/verbatim-in.muse
# /tmp/yZpy3WApKb
t/exclude-verbatim.t .. ok
tagpile mismatch: meta, head
tagpile mismatch: head, html
tagpile mismatch: link, head
tagpile mismatch: hr, div
tagpile mismatch: br, body
tagpile mismatch: div, html
#
#
# <right>
# óÃÂçÃÂ
ÃÂ
àÃÂÃÂÃÂéóàÃÂÃÂóêÃÂ
.[1]
# </right>
#
# <br>
#
# [1] https://amusewiki.org
#
tagpile mismatch: link, head
tagpile mismatch: hr, div
tagpile mismatch: br, body
tagpile mismatch: div, html
#
#
# óÃÂçÃÂ
ÃÂ
àÃÂÃÂÃÂéóàÃÂÃÂóêÃÂ
.[1]
#
# <br>
#
# [1] https://amusewiki.org
#
t/farsi.t ............. ok
# Testing t/footnotes/good.in => t/footnotes/good.out
# Testing t/footnotes/good2.in => t/footnotes/good2.out
# Testing t/footnotes/good3.in => t/footnotes/good3.out
# Testing t/footnotes/mixed.in => t/footnotes/mixed.out
# Testing t/footnotes/indentation.in => t/footnotes/indentation.out
# Testing t/footnotes/sec-good.in => t/footnotes/sec-good.out
# Testing t/footnotes/sec-good2.in => t/footnotes/sec-good2.out
# Testing t/footnotes/sec-good3.in => t/footnotes/sec-good3.out
# Testing t/footnotes/sec-bad.in => t/footnotes/sec-bad.out
# @@ -1 +1,2 @@
# -{4}
# +{3}
# +{3}
# Testing t/footnotes/sec-bad2.in => t/footnotes/sec-bad2.out
# @@ -1,3 +1,2 @@
# -{4}
# +{3}
# -{5}
# +{3}
# -{6}
# Testing t/footnotes/bad.in => t/footnotes/bad.out
# @@ -1,2 +1,3 @@
# [1]
# -[1]
# +[2]
# +[4]
# Testing t/footnotes/bad2.in => t/footnotes/bad2.out
# @@ -1,4 +1,3 @@
# [1]
# -[1]
# +[2]
# [4]
# -[5]
t/footnotes.t ......... ok
tagpile mismatch: root, p
t/html-2.t ............ ok
# Using /tmp/019abZ2ZcV.html
# Using /tmp/REdEVaZpkk.html
# Using /tmp/jWtpIxNuue.html
# Using /tmp/sDEG5YePYl.html
# Using /tmp/z97lBKh2IL.html
# Using /tmp/kYP7ccgwfT.html
# Using /tmp/e_BBhJjGl5.html
# Using /tmp/BNkV5jcBTy.html
# Using /tmp/QDsQZyCPGh.html
# Using /tmp/RIjfLvxSBm.html
# Using /tmp/sCFJTsipPy.html
# Using /tmp/pXmFepWaTF.html
# Using /tmp/oTBuaQzYVf.html
# Using /tmp/rCnaoPivFs.html
# Using /tmp/59vvClq_As.html
# Using /tmp/mSTQkeRxMA.html
# Using /tmp/qi3lLK_Db0.html
t/html.t .............. ok
# Retrieved on February 2, 2011 from http://j12.org/spunk/library/writers/meltzer/sp001500.html
# Retrieved on February 2, 2011 from [[http://j12.org/spunk/library/writers/meltzer/sp001500.html][j12.org]]
# Retrieved on December 22, 2011 from http://libertarian-labyrinth.org/archive/The_Great_Debacle
# Retrieved on December 22, 2011 from [[http://libertarian-labyrinth.org/archive/The_Great_Debacle][libertarian-labyrinth.org]]
# <br>http://www.nancho.net/advisors/anaes.html<br>
# <br>[[http://www.nancho.net/advisors/anaes.html][www.nancho.net]]<br>
# http://www.nancho.net/advisors/anaes.html<br>http://www.nancho.net/advisors/anaes.html<br>
# [[http://www.nancho.net/advisors/anaes.html][www.nancho.net]]<br>[[http://www.nancho.net/advisors/anaes.html][www.nancho.net]]<br>
# https://web.archive.org/web/20220504202253/https://amusewiki.org/special/index
# [[https://web.archive.org/web/20220504202253/https://amusewiki.org/special/index][web.archive.org]]
# [[https://web.archive.org/web/20220504202253/https://amusewiki.org/special/index][web.archive.org]]
# [[https://web.archive.org/web/20220504202253/https://amusewiki.org/special/index][web.archive.org]]
# http://test.org/xx and http://test.org/xx
# [[http://test.org/xx][test.org]] and [[http://test.org/xx][test.org]]
# [[http://test.org/xx][test.org]] and [[http://test.org/xx][test.org]]
# [[http://test.org/xx][test.org]] and [[http://test.org/xx][test.org]]
# http://test.org/xx and [[http://test.org/xx][test.org]]
# [[http://test.org/xx][test.org]] and [[http://test.org/xx][test.org]]
# http://test.org/xx and http://test.org/xx][test.org]]
# [[http://test.org/xx][test.org]] and http://test.org/xx][test.org]]
# <http://test.org/xx> and >http://test.org/xx<
# <[[http://test.org/xx][test.org]]> and >[[http://test.org/xx][test.org]]<
# <http://test.org/xx> and https://test.org:80/>http://test.org/xx< and https://test.org/ and [[https://test.org/][test.org]]
# <[[http://test.org/xx][test.org]]> and [[https://test.org:80/][test.org]]>[[http://test.org/xx][test.org]]< and [[https://test.org/][test.org]] and [[https://test.org/][test.org]]
# https://example.com/@test and https://example.com/@test
# [[https://example.com/@test][example.com]] and [[https://example.com/@test][example.com]]
# (http://en.wikipedia.org/wiki/Pi_%28instrument%29)
# ([[http://en.wikipedia.org/wiki/Pi_%28instrument%29][en.wikipedia.org]])
# (http://en.wikipedia.org?test=1)
# ([[http://en.wikipedia.org?test=1][en.wikipedia.org]])
# (http://en.wikipedia.org?test=1&test=2) (http://en.wikipedia.org/test?test=1)
# ([[http://en.wikipedia.org?test=1&test=2][en.wikipedia.org]]) ([[http://en.wikipedia.org/test?test=1][en.wikipedia.org]])
t/links.t ............. ok
t/manifest.t .......... skipped: Author tests not required for installation
t/memory-cycles.t ..... skipped: Test::Memory::Cycle required for testing memory cycles
t/nbsp.t .............. ok
# Infile is /tmp/ZqZXxzI8Sp/input.txt
# Using /tmp/NohX9zxF7t as temporary dir
t/object.t ............ ok
t/pod-coverage.t ...... skipped: Pod coverage not required for installation
t/pod.t ............... skipped: Pod test not required for installation
t/russian.t ........... ok
t/subs.t .............. ok
t/typography.t ........ ok
All tests successful.
Files=22, Tests=480, 2 wallclock secs ( 0.10 usr 0.00 sys + 1.92 cusr 0.36 csys = 2.38 CPU)
Result: PASS
PREREQUISITES:
Here is a list of prerequisites you specified and versions we
managed to load:
Module Name Have Want
HTML::PullParser 3.81 0
IO::HTML 1.004 1
Pod::Simple::Wiki 0.20 0.19
Test::More 1.302195 0
Text::Amuse 1.83 0.95
Text::Diff 1.45 0
Perl module toolchain versions installed:
Module Name Have
CPANPLUS 0.9914
CPANPLUS::Dist::Build 0.90
Cwd 3.80
ExtUtils::CBuilder 0.280236
ExtUtils::Command 7.70
ExtUtils::Install 2.22
ExtUtils::MakeMaker 7.70
ExtUtils::Manifest 1.75
ExtUtils::ParseXS 3.44
File::Spec 3.80
Module::Build 0.4234
Pod::Parser 0
Pod::Simple 3.42
Test2 1.302195
Test::Harness 3.44
Test::More 1.302195
version 0.9929
******************************** NOTE ********************************
The comments above are created mechanically, possibly without manual
checking by the sender. As there are many people performing automatic
tests on each upload to CPAN, it is likely that you will receive
identical messages about the same problem.
If you believe that the message is mistaken, please reply to the first
one with correction and/or additional informations, and do not take
it personally. We appreciate your patience. :)
**********************************************************************
Additional comments:
This report was machine-generated by CPANPLUS::Dist::YACSmoke 1.08.
Powered by minismokebox version 0.68
CPANPLUS is prefering Build.PL
------------------------------
ENVIRONMENT AND OTHER CONTEXT
------------------------------
Environment variables:
AUTOMATED_TESTING = 1
LANG = en_GB.UTF-8
LANGUAGE = en_GB:en
NONINTERACTIVE_TESTING = 1
PATH = /home/cpan/pit/bare/conf/perl-5.34.0/.cpanplus/5.34.0/build/1uExLYagBX/Text-Amuse-Preprocessor-0.67/blib/script:/usr/local/bin:/usr/bin:/bin:/usr/local/games:/usr/games
PERL5LIB = /home/cpan/pit/jail/0uFKDOLPh9/lib/perl5:/home/cpan/pit/bare/conf/perl-5.34.0/.cpanplus/5.34.0/build/1uExLYagBX/Text-Amuse-Preprocessor-0.67/blib/lib:/home/cpan/pit/bare/conf/perl-5.34.0/.cpanplus/5.34.0/build/1uExLYagBX/Text-Amuse-Preprocessor-0.67/blib/arch
PERL5_CPANPLUS_IS_RUNNING = 14994
PERL5_CPANPLUS_IS_VERSION = 0.9914
PERL5_MINISMOKEBOX = 0.68
PERL5_YACSMOKE_BASE = /home/cpan/pit/bare/conf/perl-5.34.0
PERL_EXTUTILS_AUTOINSTALL = --defaultdeps
PERL_LOCAL_LIB_ROOT = /home/cpan/pit/jail/0uFKDOLPh9
PERL_MB_OPT = --install_base "/home/cpan/pit/jail/0uFKDOLPh9"
PERL_MM_OPT = INSTALL_BASE=/home/cpan/pit/jail/0uFKDOLPh9
PERL_MM_USE_DEFAULT = 1
SHELL = /bin/bash
TERM = screen.xterm-256color
Perl special variables (and OS-specific diagnostics, for MSWin32):
Perl: $^X = /home/cpan/pit/bare/perl-5.34.0/bin/perl
UID: $< = 1001
EUID: $> = 1001
GID: $( = 1001 1001
EGID: $) = 1001 1001
-------------------------------
--
Summary of my perl5 (revision 5 version 34 subversion 0) configuration:
Platform:
osname=linux
osvers=5.10.0-12-686
archname=i686-linux
uname='linux dagobah 5.10.0-12-686 #1 smp debian 5.10.103-1 (2022-03-07) i686 gnulinux '
config_args='-des -Dprefix=/home/cpan/pit/bare/perl-5.34.0'
hint=recommended
useposix=true
d_sigaction=define
useithreads=undef
usemultiplicity=undef
use64bitint=undef
use64bitall=undef
uselongdouble=undef
usemymalloc=n
default_inc_excludes_dot=define
Compiler:
cc='cc'
ccflags ='-fwrapv -fno-strict-aliasing -pipe -fstack-protector-strong -I/usr/local/include -D_LARGEFILE_SOURCE -D_FILE_OFFSET_BITS=64 -D_FORTIFY_SOURCE=2'
optimize='-O2'
cppflags='-fwrapv -fno-strict-aliasing -pipe -fstack-protector-strong -I/usr/local/include'
ccversion=''
gccversion='10.2.1 20210110'
gccosandvers=''
intsize=4
longsize=4
ptrsize=4
doublesize=8
byteorder=1234
doublekind=3
d_longlong=define
longlongsize=8
d_longdbl=define
longdblsize=12
longdblkind=3
ivtype='long'
ivsize=4
nvtype='double'
nvsize=8
Off_t='off_t'
lseeksize=8
alignbytes=4
prototype=define
Linker and Libraries:
ld='cc'
ldflags =' -fstack-protector-strong -L/usr/local/lib'
libpth=/usr/local/lib /usr/lib/i386-linux-gnu /usr/lib /usr/lib64
libs=-lpthread -lnsl -lgdbm -ldl -lm -lcrypt -lutil -lc
perllibs=-lpthread -lnsl -ldl -lm -lcrypt -lutil -lc
libc=libc-2.31.so
so=so
useshrplib=false
libperl=libperl.a
gnulibc_version='2.31'
Dynamic Linking:
dlsrc=dl_dlopen.xs
dlext=so
d_dlsymun=undef
ccdlflags='-Wl,-E'
cccdlflags='-fPIC'
lddlflags='-shared -O2 -L/usr/local/lib -fstack-protector-strong'
Characteristics of this binary (from libperl):
Compile-time options:
HAS_TIMES
PERLIO_LAYERS
PERL_COPY_ON_WRITE
PERL_DONT_CREATE_GVSV
PERL_MALLOC_WRAP
PERL_OP_PARENT
PERL_PRESERVE_IVUV
USE_LARGE_FILES
USE_LOCALE
USE_LOCALE_COLLATE
USE_LOCALE_CTYPE
USE_LOCALE_NUMERIC
USE_LOCALE_TIME
USE_PERLIO
USE_PERL_ATOF
Built under linux
Compiled at Mar 17 2022 23:20:21
%ENV:
PERL5LIB="/home/cpan/pit/jail/0uFKDOLPh9/lib/perl5:/home/cpan/pit/bare/conf/perl-5.34.0/.cpanplus/5.34.0/build/1uExLYagBX/Text-Amuse-Preprocessor-0.67/blib/lib:/home/cpan/pit/bare/conf/perl-5.34.0/.cpanplus/5.34.0/build/1uExLYagBX/Text-Amuse-Preprocessor-0.67/blib/arch"
PERL5_CPANPLUS_IS_RUNNING="14994"
PERL5_CPANPLUS_IS_VERSION="0.9914"
PERL5_MINISMOKEBOX="0.68"
PERL5_YACSMOKE_BASE="/home/cpan/pit/bare/conf/perl-5.34.0"
PERL_EXTUTILS_AUTOINSTALL="--defaultdeps"
PERL_LOCAL_LIB_ROOT="/home/cpan/pit/jail/0uFKDOLPh9"
PERL_MB_OPT="--install_base "/home/cpan/pit/jail/0uFKDOLPh9""
PERL_MM_OPT="INSTALL_BASE=/home/cpan/pit/jail/0uFKDOLPh9"
PERL_MM_USE_DEFAULT="1"
@INC:
/home/cpan/pit/jail/0uFKDOLPh9/lib/perl5/5.34.0/i686-linux
/home/cpan/pit/jail/0uFKDOLPh9/lib/perl5/5.34.0
/home/cpan/pit/jail/0uFKDOLPh9/lib/perl5/i686-linux
/home/cpan/pit/jail/0uFKDOLPh9/lib/perl5
/home/cpan/pit/bare/conf/perl-5.34.0/.cpanplus/5.34.0/build/1uExLYagBX/Text-Amuse-Preprocessor-0.67/blib/lib
/home/cpan/pit/bare/conf/perl-5.34.0/.cpanplus/5.34.0/build/1uExLYagBX/Text-Amuse-Preprocessor-0.67/blib/arch
/home/cpan/pit/bare/perl-5.34.0/lib/site_perl/5.34.0/i686-linux
/home/cpan/pit/bare/perl-5.34.0/lib/site_perl/5.34.0
/home/cpan/pit/bare/perl-5.34.0/lib/5.34.0/i686-linux
/home/cpan/pit/bare/perl-5.34.0/lib/5.34.0