Log-Dispatch-Email-Sendmail v0.02 Perl 5 v5.12.1 i386-dragonfly-thread-multi
- Status
- Pass
- From
- Nigel Horne
- Dist
-
Log-Dispatch-Email-Sendmail v0.02
- Platform
- Perl 5 v5.12.1 i386-dragonfly-thread-multi
- Date
- 2013-10-23 16:05:57
- ID
- 00b5fdba-3bfd-11e3-b8f6-b09be320165c
This distribution has been tested as part of the CPAN Testers
project, supporting the Perl programming language. See
http://wiki.cpantesters.org/ for more information or email
questions to cpan-testers-discuss@perl.org
--
Dear Nigel Horne,
This is a computer-generated report for Log-Dispatch-Email-Sendmail-0.02
on perl 5.12.1, created by CPAN-Reporter-1.2009.
Thank you for uploading your work to CPAN. Congratulations!
All tests were successful.
Sections of this report:
* Tester comments
* Program output
* Prerequisites
* Environment and other context
------------------------------
TESTER COMMENTS
------------------------------
Additional comments from tester:
none provided
------------------------------
PROGRAM OUTPUT
------------------------------
Output from '/usr/bin/make test':
PERL_DL_NONLAZY=1 /home/njh/perl5/perlbrew/perls/perl-5.12.1/bin/perl "-MExtUtils::Command::MM" "-e" "test_harness(0, 'blib/lib', 'blib/arch')" t/*.t
# Log::Dispatch::Email::Sendmail 0.02, Perl 5.012001, /home/njh/perl5/perlbrew/perls/perl-5.12.1/bin/perl
t/00-load.t ... ok
t/boiler.t .... ok
t/changes.t ... skipped: Author tests not required for installation
t/coverage.t .. ok
t/critic.t .... skipped: Author tests not required for installation
t/cv.t ........ skipped: Author tests not required for installation
t/dist.t ...... skipped: Author tests not required for installation
t/gv.t ........ skipped: Author tests not required for installation
t/kwalitee.t .. skipped: Author tests not required for installation
t/manifest.t .. skipped: Author tests not required for installation
t/metrics.t ... skipped: Author tests not required for installation
t/noplan.t .... skipped: Author tests not required for installation
t/pod-cm.t .... skipped: Test::Pod::Spelling::CommonMistakes required for testing POD spelling
t/pod.t ....... ok
t/port.t ...... skipped: Test::Portability::Files required for testing filenames portability
t/prereq.t .... skipped: Author tests not required for installation
t/sendmail.t .. ok
t/snippets.t .. skipped: Author tests not required for installation
t/spelling.t .. skipped: Author tests not required for installation
t/strict.t .... skipped: Author tests not required for installation
t/vars.t ...... skipped: Author tests not required for installation
All tests successful.
Test Summary Report
-------------------
t/boiler.t (Wstat: 0 Tests: 3 Failed: 0)
TODO passed: 1-3
Files=21, Tests=10, 3 wallclock secs ( 0.20 usr 0.51 sys + 0.88 cusr 1.29 csys = 2.87 CPU)
Result: PASS
------------------------------
PREREQUISITES
------------------------------
Prerequisite modules loaded:
requires:
Module Need Have
------------------- ---- ----
Log::Dispatch 0 2.35
Sys::Hostname 0 1.11
Test::More 0.82 0.98
Test::NoWarnings 0 1.04
Test::Requires 0 0.06
build_requires:
Module Need Have
------------------- ---- ----
ExtUtils::MakeMaker 0 6.64
configure_requires:
Module Need Have
------------------- ---- ----
ExtUtils::MakeMaker 0 6.64
------------------------------
ENVIRONMENT AND OTHER CONTEXT
------------------------------
Environment variables:
AUTHOR_TESTING = 1
PATH = /home/njh/perl5/perlbrew/bin:/home/njh/perl5/perlbrew/perls/perl-5.12.1/bin:/sbin:/bin:/usr/sbin:/usr/bin:/usr/games:/usr/pkg/sbin:/usr/pkg/bin:/usr/pkg/xorg/bin:/usr/local/sbin:/usr/local/bin:/home/njh/bin:/usr/pkg/lib/perl5/site_perl/bin:/usr/pkg/lib/perl5/site_perl/bin
PERL5LIB =
PERL5OPT =
PERL5_CPANPLUS_IS_RUNNING = 27838
PERL5_CPAN_IS_RUNNING = 27838
PERLBREW_BASHRC_VERSION = 0.58
PERLBREW_HOME = /home/njh/.perlbrew
PERLBREW_MANPATH = /home/njh/perl5/perlbrew/perls/perl-5.12.1/man
PERLBREW_PATH = /home/njh/perl5/perlbrew/bin:/home/njh/perl5/perlbrew/perls/perl-5.12.1/bin
PERLBREW_PERL = perl-5.12.1
PERLBREW_ROOT = /home/njh/perl5/perlbrew
PERLBREW_VERSION = 0.58
SHELL = /usr/pkg/bin/bash
TERM = xterm
TMPDIR = /tmp
Perl special variables (and OS-specific diagnostics, for MSWin32):
$^X = /home/njh/perl5/perlbrew/perls/perl-5.12.1/bin/perl
$UID/$EUID = 1001 / 1001
$GID = 1002 1002 0
$EGID = 1002 1002 0
Perl module toolchain versions installed:
Module Have
------------------- --------
CPAN 1.9800
CPAN::Meta 2.120921
Cwd 3.33
ExtUtils::CBuilder 0.280205
ExtUtils::Command 1.17
ExtUtils::Install 1.55
ExtUtils::MakeMaker 6.64
ExtUtils::Manifest 1.61
ExtUtils::ParseXS 3.18
File::Spec 3.33
JSON 2.53
JSON::PP 2.27200
Module::Build 0.4003
Module::Signature 0.70
Parse::CPAN::Meta 1.4404
Test::Harness 3.29
Test::More 0.98
YAML 0.84
YAML::Syck 1.22
version 0.9901
--
Summary of my perl5 (revision 5 version 12 subversion 1) configuration:
Platform:
osname=dragonfly, osvers=3.0-release, archname=i386-dragonfly-thread-multi
uname='dragonfly qemu.bandsman.co.uk 3.0-release dragonfly v3.0.3.1.g2c987-release #1: thu aug 23 20:48:25 pdt 2012 root@pkgbox32.dragonflybsd.org:usrobjbuildhomejustindragonflysysgeneric i386 '
config_args='-de -Dprefix=/home/njh/perl5/perlbrew/perls/perl-5.12.1 -Duseithreads -Dusemultiplicity -Accflags=-O2 -W -Wformat=2 -Wswitch -Wshadow -Wwrite-strings -Wuninitialized -Wall -pipe -mtune=native -march=native -fomit-frame-pointer -msse2 -msse -mmmx -mfpmath=sse -pedantic -D_FORTIFY_SOURCE=2 -Wpointer-arith -Wstrict-prototypes -fstack-protector -Wstack-protector -Wextra -Wbad-function-cast -Wcast-align -Wcast-qual -Wdisabled-optimization -Wendif-labels -Wfloat-equal -Wformat-nonliteral -Winline -Wmissing-declarations -Wmissing-prototypes -Wnested-externs -Wpointer-arith -Wundef -Wformat-security -Aeval:scriptdir=/home/njh/perl5/perlbrew/perls/perl-5.12.1/bin'
hint=recommended, useposix=true, d_sigaction=define
useithreads=define, usemultiplicity=define
useperlio=define, d_sfio=undef, uselargefiles=define, usesocks=undef
use64bitint=undef, use64bitall=undef, uselongdouble=undef
usemymalloc=n, bincompat5005=undef
Compiler:
cc='cc', ccflags ='-DHAS_FPSETMASK -DHAS_FLOATINGPOINT_H -O2 -W -Wformat=2 -Wswitch -Wshadow -Wwrite-strings -Wuninitialized -Wall -pipe -mtune=native -march=native -fomit-frame-pointer -msse2 -msse -mmmx -mfpmath=sse -pedantic -D_FORTIFY_SOURCE=2 -Wpointer-arith -Wstrict-prototypes -fstack-protector -Wstack-protector -Wextra -Wbad-function-cast -Wcast-align -Wcast-qual -Wdisabled-optimization -Wendif-labels -Wfloat-equal -Wformat-nonliteral -Winline -Wmissing-declarations -Wmissing-prototypes -Wnested-externs -Wpointer-arith -Wundef -Wformat-security -fno-strict-aliasing -I/usr/local/include',
optimize='-O',
cppflags='-DHAS_FPSETMASK -DHAS_FLOATINGPOINT_H -O2 -W -Wformat=2 -Wswitch -Wshadow -Wwrite-strings -Wuninitialized -Wall -pipe -mtune=native -march=native -fomit-frame-pointer -msse2 -msse -mmmx -mfpmath=sse -pedantic -D_FORTIFY_SOURCE=2 -Wpointer-arith -Wstrict-prototypes -fstack-protector -Wstack-protector -Wextra -Wbad-function-cast -Wcast-align -Wcast-qual -Wdisabled-optimization -Wendif-labels -Wfloat-equal -Wformat-nonliteral -Winline -Wmissing-declarations -Wmissing-prototypes -Wnested-externs -Wpointer-arith -Wundef -Wformat-security -fno-strict-aliasing -I/usr/local/include'
ccversion='', gccversion='4.4.7 2011.10.25', gccosandvers=''
intsize=4, longsize=4, ptrsize=4, doublesize=8, byteorder=1234
d_longlong=define, longlongsize=8, d_longdbl=define, longdblsize=12
ivtype='long', ivsize=4, nvtype='double', nvsize=8, Off_t='off_t', lseeksize=8
alignbytes=4, prototype=define
Linker and Libraries:
ld='cc', ldflags ='-pthread -Wl,-E -fstack-protector -L/usr/local/lib'
libpth=/usr/lib /usr/local/lib
libs=-ldl -lm -lcrypt -lutil -lc
perllibs=-ldl -lm -lcrypt -lutil -lc
libc=, so=so, useshrplib=false, libperl=libperl.a
gnulibc_version=''
Dynamic Linking:
dlsrc=dl_dlopen.xs, dlext=so, d_dlsymun=undef, ccdlflags=' '
cccdlflags='-DPIC -fPIC', lddlflags='-shared -L/usr/local/lib -fstack-protector'
Characteristics of this binary (from libperl):
Compile-time options: MULTIPLICITY PERL_DONT_CREATE_GVSV
PERL_IMPLICIT_CONTEXT PERL_MALLOC_WRAP USE_ITHREADS
USE_LARGE_FILES USE_PERLIO USE_PERL_ATOF
USE_REENTRANT_API
Built under dragonfly
Compiled at Oct 26 2012 09:36:45
%ENV:
PERL5LIB=""
PERL5OPT=""
PERL5_CPANPLUS_IS_RUNNING="27838"
PERL5_CPAN_IS_RUNNING="27838"
PERLBREW_BASHRC_VERSION="0.58"
PERLBREW_HOME="/home/njh/.perlbrew"
PERLBREW_MANPATH="/home/njh/perl5/perlbrew/perls/perl-5.12.1/man"
PERLBREW_PATH="/home/njh/perl5/perlbrew/bin:/home/njh/perl5/perlbrew/perls/perl-5.12.1/bin"
PERLBREW_PERL="perl-5.12.1"
PERLBREW_ROOT="/home/njh/perl5/perlbrew"
PERLBREW_VERSION="0.58"
@INC:
/home/njh/perl5/perlbrew/perls/perl-5.12.1/lib/site_perl/5.12.1/i386-dragonfly-thread-multi
/home/njh/perl5/perlbrew/perls/perl-5.12.1/lib/site_perl/5.12.1
/home/njh/perl5/perlbrew/perls/perl-5.12.1/lib/5.12.1/i386-dragonfly-thread-multi
/home/njh/perl5/perlbrew/perls/perl-5.12.1/lib/5.12.1
.