File-PathInfo v1.27 Perl 5 v5.14.3 OpenBSD.amd64-openbsd-thread-multi
- Status
- Pass
- From
- Chris Williams (BINGOS)
- Dist
-
File-PathInfo v1.27
- Platform
- Perl 5 v5.14.3 OpenBSD.amd64-openbsd-thread-multi
- Date
- 2013-10-17 06:40:24
- ID
- 00b105a4-36f7-11e3-b8b2-96b61dda783b
This distribution has been tested as part of the CPAN Testers
project, supporting the Perl programming language. See
http://wiki.cpantesters.org/ for more information or email
questions to cpan-testers-discuss@perl.org
--
Dear Leo Charre,
This is a computer-generated error report created automatically by
CPANPLUS, version 0.9142. Testers personal comments may appear
at the end of this report.
Thank you for uploading your work to CPAN. Congratulations!
All tests were successful.
TEST RESULTS:
Below is the error stack from stage 'make test':
PERL_DL_NONLAZY=1 /home/cpan/pit/thr/perl-5.14.3/bin/perl "-MExtUtils::Command::MM" "-MTest::Harness" "-e" "undef *Test::Harness::Switches; test_harness(0, 'blib/lib', 'blib/arch')" t/*.t
'/i do not exist/at all/1381992023' is not on disk
set() '/i do not exist/at all/1381992023' is not on disk. at lib/File/PathInfo.pm line 55
File::PathInfo::set('File::PathInfo=HASH(0x978cb8)', '/i do not exist/at all/1381992023') called at t/0_fpi.t line 23
--------------------------------------------------------------------------------
arg is not a ref, treating as arg
--------------------------------------------------------------------------------
arg is not a ref, treating as arg
--------------------------------------------------------------------------------
arg is not a ref, treating as arg
--------------------------------------------------------------------------------
arg is not a ref, treating as arg
--------------------------------------------------------------------------------
arg is not a ref, treating as arg
--------------------------------------------------------------------------------
arg is not a ref, treating as arg
2) things we know are not in doc root
--------------------------------------------------------------------------------
--------------------------------------------------------------------------------
'/home/cpan/pit/thr/conf/perl-5.14.3/.cpanplus/5.14.3/build/File-PathInfo-1.27/t/public_html/demo/cvil.txt' is not on disk
set() './t/public_html/demo/../demo/cvil.txt' is not on disk. at lib/File/PathInfo.pm line 55
File::PathInfo::set('File::PathInfo=HASH(0xa5cf50)', './t/public_html/demo/../demo/cvil.txt') called at t/0_fpi.t line 128
'/home/cpan/pit/thr/conf/perl-5.14.3/.cpanplus/5.14.3/build/File-PathInfo-1.27/t/public_html/de41zmo' is not on disk
set() './t/public_html/de41zmo' is not on disk. at lib/File/PathInfo.pm line 55
File::PathInfo::set('File::PathInfo=HASH(0xaeb6b0)', './t/public_html/de41zmo') called at t/0_fpi.t line 145
'/home/cpan/pit/thr/conf/perl-5.14.3/.cpanplus/5.14.3/build/File-PathInfo-1.27/t/public_html/demvo2' is not on disk
set() 'demvo2' is not on disk. at lib/File/PathInfo.pm line 55
File::PathInfo::set('File::PathInfo=HASH(0xaeb6b0)', 'demvo2') called at t/0_fpi.t line 145
argument: './t/public_html/demo/../demo/civil.rtxt/', cant resolve as path rel to current working dir with Cwd abs_path
t/0_fpi.t ....... ok
set() './t/public_html/demo/../demo/civil.rtxt/' is not on disk. at lib/File/PathInfo.pm line 55
File::PathInfo::set('File::PathInfo=HASH(0xaeb6b0)', './t/public_html/demo/../demo/civil.rtxt/') called at t/0_fpi.t line 145
2) things that do not exist.
set() './t/public_html/hhahahahahahahouse.txt' is not on disk. at lib/File/PathInfo.pm line 55
File::PathInfo::set('File::PathInfo=HASH(0xad1690)', './t/public_html/hhahahahahahahouse.txt') called at lib/File/PathInfo.pm line 42
File::PathInfo::new('File::PathInfo', './t/public_html/hhahahahahahahouse.txt') called at t/1_fpi_hash.t line 35
t/1_fpi_hash.t .. ok
failed set() ./t/public_html/hhahahahahahahouse.txt at lib/File/PathInfo.pm line 42
File::PathInfo::new('File::PathInfo', './t/public_html/hhahahahahahahouse.txt') called at t/1_fpi_hash.t line 35
File::PathInfo : no file is set(). Use set(). at lib/File/PathInfo.pm line 303
File::PathInfo::_stat('File::PathInfo=HASH(0xad1690)') called at lib/File/PathInfo.pm line 372
File::PathInfo::get_datahash('File::PathInfo=HASH(0xad1690)') called at t/1_fpi_hash.t line 49
set() '/nons/ense' is not on disk. at lib/File/PathInfo.pm line 55
File::PathInfo::set('File::PathInfo=HASH(0xad1690)', '/nons/ense') called at lib/File/PathInfo.pm line 42
File::PathInfo::new('File::PathInfo', '/nons/ense') called at t/1_fpi_hash.t line 35
failed set() /nons/ense at lib/File/PathInfo.pm line 42
File::PathInfo::new('File::PathInfo', '/nons/ense') called at t/1_fpi_hash.t line 35
File::PathInfo : no file is set(). Use set(). at lib/File/PathInfo.pm line 303
File::PathInfo::_stat('File::PathInfo=HASH(0xad1690)') called at lib/File/PathInfo.pm line 372
File::PathInfo::get_datahash('File::PathInfo=HASH(0xad1690)') called at t/1_fpi_hash.t line 49
set() '/moreneo/nensense' is not on disk. at lib/File/PathInfo.pm line 55
File::PathInfo::set('File::PathInfo=HASH(0xad1690)', '/moreneo/nensense') called at lib/File/PathInfo.pm line 42
File::PathInfo::new('File::PathInfo', '/moreneo/nensense') called at t/1_fpi_hash.t line 35
failed set() /moreneo/nensense at lib/File/PathInfo.pm line 42
File::PathInfo::new('File::PathInfo', '/moreneo/nensense') called at t/1_fpi_hash.t line 35
File::PathInfo : no file is set(). Use set(). at lib/File/PathInfo.pm line 303
File::PathInfo::_stat('File::PathInfo=HASH(0xad1690)') called at lib/File/PathInfo.pm line 372
File::PathInfo::get_datahash('File::PathInfo=HASH(0xad1690)') called at t/1_fpi_hash.t line 49
t/2_errstr.t .... ok
All tests successful.
Files=3, Tests=78, 1 wallclock secs ( 0.07 usr 0.02 sys + 0.22 cusr 0.14 csys = 0.45 CPU)
Result: PASS
PREREQUISITES:
Here is a list of prerequisites you specified and versions we
managed to load:
Module Name Have Want
Cwd 3.40 0.1
ExtUtils::MakeMaker 6.78 0
Smart::Comments 1.000005 0
Time::Format 1.12 0.01
Perl module toolchain versions installed:
Module Name Have
CPANPLUS 0.9142
CPANPLUS::Dist::Build 0.70
Cwd 3.40
ExtUtils::CBuilder 0.280212
ExtUtils::Command 1.17
ExtUtils::Install 1.56
ExtUtils::MakeMaker 6.78
ExtUtils::Manifest 1.63
ExtUtils::ParseXS 3.22
File::Spec 3.40
Module::Build 0.4007
Pod::Parser 1.37
Pod::Simple 3.16
Test::Harness 3.29
Test::More 0.98
version 0.9904
******************************** NOTE ********************************
The comments above are created mechanically, possibly without manual
checking by the sender. As there are many people performing automatic
tests on each upload to CPAN, it is likely that you will receive
identical messages about the same problem.
If you believe that the message is mistaken, please reply to the first
one with correction and/or additional informations, and do not take
it personally. We appreciate your patience. :)
**********************************************************************
Additional comments:
This report was machine-generated by CPANPLUS::Dist::YACSmoke 0.90.
Powered by minismokebox version 0.58
------------------------------
ENVIRONMENT AND OTHER CONTEXT
------------------------------
Environment variables:
AUTOMATED_TESTING = 1
NONINTERACTIVE_TESTING = 1
PATH = /home/cpan/bin:/bin:/sbin:/usr/bin:/usr/sbin:/usr/X11R6/bin:/usr/local/bin:/usr/local/sbin:/usr/games:.
PERL5LIB = :/home/cpan/pit/thr/conf/perl-5.14.3/.cpanplus/5.14.3/build/Config-Simple-4.58/blib/lib:/home/cpan/pit/thr/conf/perl-5.14.3/.cpanplus/5.14.3/build/Config-Simple-4.58/blib/arch:/home/cpan/pit/thr/conf/perl-5.14.3/.cpanplus/5.14.3/build/Smart-Comments-1.000005/blib/lib:/home/cpan/pit/thr/conf/perl-5.14.3/.cpanplus/5.14.3/build/Smart-Comments-1.000005/blib/arch:/home/cpan/pit/thr/conf/perl-5.14.3/.cpanplus/5.14.3/build/Time-Format-1.12/blib/lib:/home/cpan/pit/thr/conf/perl-5.14.3/.cpanplus/5.14.3/build/Time-Format-1.12/blib/arch:/home/cpan/pit/thr/conf/perl-5.14.3/.cpanplus/5.14.3/build/File-PathInfo-1.27/blib/lib:/home/cpan/pit/thr/conf/perl-5.14.3/.cpanplus/5.14.3/build/File-PathInfo-1.27/blib/arch
PERL5_CPANPLUS_IS_RUNNING = 3891
PERL5_CPANPLUS_IS_VERSION = 0.9142
PERL5_MINISMOKEBOX = 0.58
PERL5_YACSMOKE_BASE = /home/cpan/pit/thr/conf/perl-5.14.3
PERL_EXTUTILS_AUTOINSTALL = --defaultdeps
PERL_MM_USE_DEFAULT = 1
SHELL = /usr/local/bin/bash
TERM = screen
Perl special variables (and OS-specific diagnostics, for MSWin32):
Perl: $^X = /home/cpan/pit/thr/perl-5.14.3/bin/perl
UID: $< = 1001
EUID: $> = 1001
GID: $( = 1001 1001
EGID: $) = 1001 1001
-------------------------------
--
Summary of my perl5 (revision 5 version 14 subversion 3) configuration:
Platform:
osname=openbsd, osvers=5.2, archname=OpenBSD.amd64-openbsd-thread-multi
uname='openbsd ottoman.bingosnet.co.uk 5.2 generic#309 amd64 '
config_args='-des -Dprefix=/home/cpan/pit/thr/perl-5.14.3 -Dusethreads'
hint=recommended, useposix=true, d_sigaction=define
useithreads=define, usemultiplicity=define
useperlio=define, d_sfio=undef, uselargefiles=define, usesocks=undef
use64bitint=define, use64bitall=define, uselongdouble=undef
usemymalloc=y, bincompat5005=undef
Compiler:
cc='cc', ccflags ='-pthread -fno-strict-aliasing -pipe -fstack-protector -I/usr/local/include',
optimize='-O2',
cppflags='-pthread -fno-strict-aliasing -pipe -fstack-protector -I/usr/local/include'
ccversion='', gccversion='4.2.1 20070719 ', gccosandvers='openbsd5.2'
intsize=4, longsize=8, ptrsize=8, doublesize=8, byteorder=12345678
d_longlong=define, longlongsize=8, d_longdbl=define, longdblsize=16
ivtype='long', ivsize=8, nvtype='double', nvsize=8, Off_t='off_t', lseeksize=8
alignbytes=8, prototype=define
Linker and Libraries:
ld='cc', ldflags ='-pthread -Wl,-E -fstack-protector -L/usr/local/lib'
libpth=/usr/local/lib /usr/lib
libs=-lgdbm -lm -lutil -lc
perllibs=-lm -lutil -lc
libc=/usr/lib/libc.so.65.0, so=so, useshrplib=false, libperl=libperl.a
gnulibc_version=''
Dynamic Linking:
dlsrc=dl_dlopen.xs, dlext=so, d_dlsymun=undef, ccdlflags=' '
cccdlflags='-DPIC -fPIC ', lddlflags='-shared -fPIC -L/usr/local/lib -fstack-protector'
Characteristics of this binary (from libperl):
Compile-time options: MULTIPLICITY MYMALLOC PERL_DONT_CREATE_GVSV
PERL_IMPLICIT_CONTEXT PERL_MALLOC_WRAP
PERL_PRESERVE_IVUV USE_64_BIT_ALL USE_64_BIT_INT
USE_ITHREADS USE_LARGE_FILES USE_PERLIO USE_PERL_ATOF
USE_REENTRANT_API
Built under openbsd
Compiled at Nov 7 2012 01:38:25
%ENV:
PERL5LIB=":/home/cpan/pit/thr/conf/perl-5.14.3/.cpanplus/5.14.3/build/Config-Simple-4.58/blib/lib:/home/cpan/pit/thr/conf/perl-5.14.3/.cpanplus/5.14.3/build/Config-Simple-4.58/blib/arch:/home/cpan/pit/thr/conf/perl-5.14.3/.cpanplus/5.14.3/build/Smart-Comments-1.000005/blib/lib:/home/cpan/pit/thr/conf/perl-5.14.3/.cpanplus/5.14.3/build/Smart-Comments-1.000005/blib/arch:/home/cpan/pit/thr/conf/perl-5.14.3/.cpanplus/5.14.3/build/Time-Format-1.12/blib/lib:/home/cpan/pit/thr/conf/perl-5.14.3/.cpanplus/5.14.3/build/Time-Format-1.12/blib/arch:/home/cpan/pit/thr/conf/perl-5.14.3/.cpanplus/5.14.3/build/File-PathInfo-1.27/blib/lib:/home/cpan/pit/thr/conf/perl-5.14.3/.cpanplus/5.14.3/build/File-PathInfo-1.27/blib/arch"
PERL5_CPANPLUS_IS_RUNNING="3891"
PERL5_CPANPLUS_IS_VERSION="0.9142"
PERL5_MINISMOKEBOX="0.58"
PERL5_YACSMOKE_BASE="/home/cpan/pit/thr/conf/perl-5.14.3"
PERL_EXTUTILS_AUTOINSTALL="--defaultdeps"
PERL_MM_USE_DEFAULT="1"
@INC:
/home/cpan/pit/thr/conf/perl-5.14.3/.cpanplus/5.14.3/build/Config-Simple-4.58/blib/lib
/home/cpan/pit/thr/conf/perl-5.14.3/.cpanplus/5.14.3/build/Config-Simple-4.58/blib/arch
/home/cpan/pit/thr/conf/perl-5.14.3/.cpanplus/5.14.3/build/Smart-Comments-1.000005/blib/lib
/home/cpan/pit/thr/conf/perl-5.14.3/.cpanplus/5.14.3/build/Smart-Comments-1.000005/blib/arch
/home/cpan/pit/thr/conf/perl-5.14.3/.cpanplus/5.14.3/build/Time-Format-1.12/blib/lib
/home/cpan/pit/thr/conf/perl-5.14.3/.cpanplus/5.14.3/build/Time-Format-1.12/blib/arch
/home/cpan/pit/thr/conf/perl-5.14.3/.cpanplus/5.14.3/build/File-PathInfo-1.27/blib/lib
/home/cpan/pit/thr/conf/perl-5.14.3/.cpanplus/5.14.3/build/File-PathInfo-1.27/blib/arch
/home/cpan/pit/thr/perl-5.14.3/lib/site_perl/5.14.3/OpenBSD.amd64-openbsd-thread-multi
/home/cpan/pit/thr/perl-5.14.3/lib/site_perl/5.14.3
/home/cpan/pit/thr/perl-5.14.3/lib/5.14.3/OpenBSD.amd64-openbsd-thread-multi
/home/cpan/pit/thr/perl-5.14.3/lib/5.14.3
.