SemanticWeb-Schema vv22.0.0 Perl 5 v5.38.0 x86_64-linux
- Status
- Pass
- From
- Slaven Rezić
- Dist
-
SemanticWeb-Schema vv22.0.0
- Platform
- Perl 5 v5.38.0 x86_64-linux
- Date
- 2023-07-08 15:06:23
- ID
- 00a72ea8-1da1-11ee-8c55-9d0e6e8775ea
This distribution has been tested as part of the CPAN Testers
project, supporting the Perl programming language. See
http://wiki.cpantesters.org/ for more information or email
questions to cpan-testers-discuss@perl.org
--
Dear Robert Rothenberg,
This is a computer-generated report for SemanticWeb-Schema-v22.0.0
on perl 5.38.0, created by CPAN-Reporter-1.2019.
Thank you for uploading your work to CPAN. Congratulations!
All tests were successful.
Sections of this report:
* Tester comments
* Program output
* Prerequisites
* Environment and other context
------------------------------
TESTER COMMENTS
------------------------------
Additional comments from tester:
none provided
------------------------------
PROGRAM OUTPUT
------------------------------
Output from '/usr/bin/make test':
PERL_DL_NONLAZY=1 "/opt/perl-5.38.0/bin/perl" "-MExtUtils::Command::MM" "-MTest::Harness" "-e" "undef *Test::Harness::Switches; test_harness(0, 'blib/lib', 'blib/arch')" t/*.t
#
# Versions for all modules listed in MYMETA.json (including optional ones):
#
# === Configure Requires ===
#
# Module Want Have
# ------------------- ---- ----
# ExtUtils::MakeMaker any 7.70
#
# === Build Requires ===
#
# Module Want Have
# ------------------- ---- ----
# ExtUtils::MakeMaker any 7.70
#
# === Test Requires ===
#
# Module Want Have
# ---------------- ---- --------
# File::Spec any 3.88
# Module::Metadata any 1.000037
# Test::JSON::More any 0.02
# Test::More any 1.302194
# Test::Most any 0.38
# aliased any 0.34
# strict any 1.12
# warnings any 1.65
#
# === Test Recommends ===
#
# Module Want Have
# ---------- -------- --------
# CPAN::Meta 2.120900 2.150010
#
# === Runtime Requires ===
#
# Module Want Have
# -------------------- ------- --------
# List::Util 1.33 1.63
# Moo any 2.005005
# MooX::JSON_LD any 1.0.1
# MooX::Role::JSON_LD v0.0.16 1.0.1
# Ref::Util any 0.204
# Types::Standard any 2.004000
# namespace::autoclean any 0.29
# utf8 any 1.25
#
# === Runtime Recommends ===
#
# Module Want Have
# ----------------- ---- -------
# Class::XSAccessor 1.18 1.19
# Ref::Util::XS any 0.117
# Type::Tiny::XS any missing
# aliased any 0.34
#
t/00-report-prereqs.t ......... ok
t/01-simple.t ................. ok
t/02-conflicting-attribute.t .. ok
t/03-c3-merge.t ............... ok
t/author-clean-namespaces.t ... skipped: these tests are for testing by the author
t/author-compile.t ............ skipped: these tests are for testing by the author
t/author-eof.t ................ skipped: these tests are for testing by the author
t/author-minimum-version.t .... skipped: these tests are for testing by the author
t/author-pod-syntax.t ......... skipped: these tests are for testing by the author
t/author-portability.t ........ skipped: these tests are for testing by the author
t/release-check-manifest.t .... skipped: these tests are for release candidate testing
t/release-fixme.t ............. skipped: these tests are for release candidate testing
All tests successful.
Files=12, Tests=10, 0 wallclock secs ( 0.02 usr 0.01 sys + 0.57 cusr 0.05 csys = 0.65 CPU)
Result: PASS
------------------------------
PREREQUISITES
------------------------------
Prerequisite modules loaded:
requires:
Module Need Have
-------------------- -------- --------
List::Util 1.33 1.63
Moo 0 2.005005
MooX::JSON_LD 0 1.0.1
MooX::Role::JSON_LD v0.0.16 1.0.1
namespace::autoclean 0 0.29
perl 5.014000 5.038000
Ref::Util 0 0.204
Types::Standard 0 2.004000
utf8 0 1.25
build_requires:
Module Need Have
-------------------- -------- --------
aliased 0 0.34
ExtUtils::MakeMaker 0 7.70
File::Spec 0 3.88
Module::Metadata 0 1.000037
strict 0 1.12
Test::JSON::More 0 0.02
Test::More 0 1.302194
Test::Most 0 0.38
warnings 0 1.65
configure_requires:
Module Need Have
-------------------- -------- --------
ExtUtils::MakeMaker 0 7.70
------------------------------
ENVIRONMENT AND OTHER CONTEXT
------------------------------
Environment variables:
LANG = en_US.UTF-8
PATH = /usr/local/bin:/usr/bin:/bin:/usr/local/sbin:/usr/sbin:/sbin:/home/cpansand/bin/linux-gnu:/home/cpansand/bin/sh:/home/cpansand/bin:/usr/games:/home/cpansand/devel:/home/eserte/src/srezic-misc/scripts
PERL5LIB =
PERL5OPT =
PERL5_CPANPLUS_IS_RUNNING = 912423
PERL5_CPAN_IS_RUNNING = 912423
PERL5_CPAN_IS_RUNNING_IN_RECURSION = 784131,912423
PERLDOC = -MPod::Perldoc::ToTextOverstrike
PERL_BATCH = yes
PERL_CANARY_STABILITY_NOPROMPT = 1
PERL_CPAN_REPORTER_CONFIG = /var/tmp/cpansmoker-1023/2023070812/cpanreporter_000_config.ini
PERL_EXTUTILS_AUTOINSTALL = --defaultdeps
PERL_USE_UNSAFE_INC = 1
SHELL = /usr/bin/zsh
TERM = screen
TMPDIR = /var/tmp/cpansmoker-1023/2023070812
Perl special variables (and OS-specific diagnostics, for MSWin32):
$^X = /opt/perl-5.38.0/bin/perl
$UID/$EUID = 1023 / 1023
$GID = 1023 1023
$EGID = 1023 1023
Perl module toolchain versions installed:
Module Have
------------------- --------
CPAN 2.36
CPAN::Meta 2.150010
Cwd 3.89
ExtUtils::CBuilder 0.280238
ExtUtils::Command 7.70
ExtUtils::Install 2.22
ExtUtils::MakeMaker 7.70
ExtUtils::Manifest 1.73
ExtUtils::ParseXS 3.51
File::Spec 3.88
JSON 4.10
JSON::PP 4.16
Module::Build 0.4234
Module::Signature n/a
Parse::CPAN::Meta 2.150010
Test2 1.302194
Test::Harness 3.44
Test::More 1.302194
YAML 1.30
YAML::Syck 1.34
version 0.9929
--
Summary of my perl5 (revision 5 version 38 subversion 0) configuration:
Platform:
osname=linux
osvers=5.15.0-76-generic
archname=x86_64-linux
uname='linux cloud14.bbbike.org 5.15.0-76-generic #83-ubuntu smp thu jun 15 19:16:32 utc 2023 x86_64 x86_64 x86_64 gnulinux '
config_args='-ds -e -Dprefix=/opt/perl-5.38.0 -Dcf_email=srezic@cpan.org'
hint=recommended
useposix=true
d_sigaction=define
useithreads=undef
usemultiplicity=undef
use64bitint=define
use64bitall=define
uselongdouble=undef
usemymalloc=n
default_inc_excludes_dot=define
Compiler:
cc='cc'
ccflags ='-fwrapv -fno-strict-aliasing -pipe -fstack-protector-strong -I/usr/local/include -D_LARGEFILE_SOURCE -D_FILE_OFFSET_BITS=64'
optimize='-O2'
cppflags='-fwrapv -fno-strict-aliasing -pipe -fstack-protector-strong -I/usr/local/include'
ccversion=''
gccversion='11.3.0'
gccosandvers=''
intsize=4
longsize=8
ptrsize=8
doublesize=8
byteorder=12345678
doublekind=3
d_longlong=define
longlongsize=8
d_longdbl=define
longdblsize=16
longdblkind=3
ivtype='long'
ivsize=8
nvtype='double'
nvsize=8
Off_t='off_t'
lseeksize=8
alignbytes=8
prototype=define
Linker and Libraries:
ld='cc'
ldflags =' -fstack-protector-strong -L/usr/local/lib'
libpth=/usr/local/lib /usr/lib/x86_64-linux-gnu /usr/lib /usr/lib64
libs=-lpthread -lgdbm -ldb -ldl -lm -lcrypt -lutil -lc
perllibs=-lpthread -ldl -lm -lcrypt -lutil -lc
libc=/lib/x86_64-linux-gnu/libc.so.6
so=so
useshrplib=false
libperl=libperl.a
gnulibc_version='2.35'
Dynamic Linking:
dlsrc=dl_dlopen.xs
dlext=so
d_dlsymun=undef
ccdlflags='-Wl,-E'
cccdlflags='-fPIC'
lddlflags='-shared -O2 -L/usr/local/lib -fstack-protector-strong'
Characteristics of this binary (from libperl):
Compile-time options:
HAS_LONG_DOUBLE
HAS_STRTOLD
HAS_TIMES
PERLIO_LAYERS
PERL_COPY_ON_WRITE
PERL_DONT_CREATE_GVSV
PERL_HASH_FUNC_SIPHASH13
PERL_HASH_USE_SBOX32
PERL_MALLOC_WRAP
PERL_OP_PARENT
PERL_PRESERVE_IVUV
PERL_USE_SAFE_PUTENV
USE_64_BIT_ALL
USE_64_BIT_INT
USE_LARGE_FILES
USE_LOCALE
USE_LOCALE_COLLATE
USE_LOCALE_CTYPE
USE_LOCALE_NUMERIC
USE_LOCALE_TIME
USE_PERLIO
USE_PERL_ATOF
Built under linux
Compiled at Jul 8 2023 12:27:40
%ENV:
PERL5LIB=""
PERL5OPT=""
PERL5_CPANPLUS_IS_RUNNING="912423"
PERL5_CPAN_IS_RUNNING="912423"
PERL5_CPAN_IS_RUNNING_IN_RECURSION="784131,912423"
PERLDOC="-MPod::Perldoc::ToTextOverstrike"
PERL_BATCH="yes"
PERL_CANARY_STABILITY_NOPROMPT="1"
PERL_CPAN_REPORTER_CONFIG="/var/tmp/cpansmoker-1023/2023070812/cpanreporter_000_config.ini"
PERL_EXTUTILS_AUTOINSTALL="--defaultdeps"
PERL_USE_UNSAFE_INC="1"
@INC:
/opt/perl-5.38.0/lib/site_perl/5.38.0/x86_64-linux
/opt/perl-5.38.0/lib/site_perl/5.38.0
/opt/perl-5.38.0/lib/5.38.0/x86_64-linux
/opt/perl-5.38.0/lib/5.38.0
.