WWW-Google-Auth-ClientLogin v0.07 Perl 5 v5.16.0 x86_64-linux-ld

Status
Pass
From
Chris Williams (BINGOS)
Dist
WWW-Google-Auth-ClientLogin v0.07
Platform
Perl 5 v5.16.0 x86_64-linux-ld
Date
2012-09-01T07:02:32
ID
00857c0a-f403-11e1-bdcc-373e3b6b8117
This distribution has been tested as part of the CPAN Testers
project, supporting the Perl programming language.  See
http://wiki.cpantesters.org/ for more information or email
questions to cpan-testers-discuss@perl.org


--

Dear ALEXBIO,

This is a computer-generated error report created automatically by
CPANPLUS, version 0.9130. Testers personal comments may appear
at the end of this report.


Thank you for uploading your work to CPAN.  Congratulations!
All tests were successful.

TEST RESULTS:

Below is the error stack from stage 'make test':

PERL_DL_NONLAZY=1 /home/cpan/pit/bare-ld/perl-5.16.0/bin/perl "-MExtUtils::Command::MM" "-e" "test_harness(0, 'blib/lib', 'blib/arch')" t/*.t
t/00-compile.t .............. ok
t/boilerplate.t ............. ok
t/manifest.t ................ skipped: Author tests not required for installation
t/pod-coverage.t ............ skipped: Test::Pod::Coverage 1.08 required for testing POD coverage
t/pod.t ..................... skipped: Test::Pod 1.22 required for testing POD
t/release-check-manifest.t .. skipped: these tests are for release candidate testing
t/release-pod-coverage.t .... skipped: these tests are for release candidate testing
t/release-pod-syntax.t ...... skipped: these tests are for release candidate testing
All tests successful.

Test Summary Report
-------------------
t/boilerplate.t           (Wstat: 0 Tests: 3 Failed: 0)
  TODO passed:   1-3
Files=8, Tests=4,  0 wallclock secs ( 0.03 usr  0.00 sys +  0.15 cusr  0.03 csys =  0.21 CPU)
Result: PASS


PREREQUISITES:

Here is a list of prerequisites you specified and versions we
managed to load:

	  Module Name                        Have     Want
	  Carp                               1.26        0
	  File::Find                         1.20        0
	  File::Temp                         0.22        0
	  HTTP::Tiny                        0.017        0
	  Test::More                         0.98        0
	  strict                             1.07        0
	  warnings                           1.13        0

Perl module toolchain versions installed:
	Module Name                        Have
	CPANPLUS                         0.9130
	CPANPLUS::Dist::Build              0.62
	Cwd                             3.39_02
	ExtUtils::CBuilder             0.280206
	ExtUtils::Command                  1.17
	ExtUtils::Install                  1.58
	ExtUtils::MakeMaker             6.63_02
	ExtUtils::Manifest                 1.61
	ExtUtils::ParseXS                  3.16
	File::Spec                      3.39_02
	Module::Build                    0.4003
	Test::Harness                      3.25
	Test::More                         0.98
	version                            0.99

******************************** NOTE ********************************
The comments above are created mechanically, possibly without manual
checking by the sender.  As there are many people performing automatic
tests on each upload to CPAN, it is likely that you will receive
identical messages about the same problem.

If you believe that the message is mistaken, please reply to the first
one with correction and/or additional informations, and do not take
it personally.  We appreciate your patience. :)
**********************************************************************

Additional comments:


This report was machine-generated by CPANPLUS::Dist::YACSmoke 0.84.
Powered by minismokebox version 0.54

------------------------------
ENVIRONMENT AND OTHER CONTEXT
------------------------------

Environment variables:

    AUTOMATED_TESTING = 1
    LANG = en_GB.UTF-8
    LANGUAGE = en_GB:en
    PATH = /usr/local/sbin:/usr/local/bin:/usr/sbin:/usr/bin:/sbin:/bin:/usr/games
    PERL5LIB = :/home/cpan/pit/bare-ld/conf/perl-5.16.0/.cpanplus/5.16.0/build/WWW-Google-Auth-ClientLogin-0.07/blib/lib:/home/cpan/pit/bare-ld/conf/perl-5.16.0/.cpanplus/5.16.0/build/WWW-Google-Auth-ClientLogin-0.07/blib/arch
    PERL5_CPANPLUS_IS_RUNNING = 24623
    PERL5_CPANPLUS_IS_VERSION = 0.9130
    PERL5_MINISMOKEBOX = 0.54
    PERL5_YACSMOKE_BASE = /home/cpan/pit/bare-ld/conf/perl-5.16.0
    PERL_EXTUTILS_AUTOINSTALL = --defaultdeps
    PERL_MM_USE_DEFAULT = 1
    SHELL = /bin/bash
    TERM = screen

Perl special variables (and OS-specific diagnostics, for MSWin32):

    Perl: $^X = /home/cpan/pit/bare-ld/perl-5.16.0/bin/perl
    UID:  $<  = 1001
    EUID: $>  = 1001
    GID:  $(  = 1001 1001
    EGID: $)  = 1001 1001


-------------------------------


--

Summary of my perl5 (revision 5 version 16 subversion 0) configuration:
   
  Platform:
    osname=linux, osvers=3.2.0-24-generic, archname=x86_64-linux-ld
    uname='linux pluto 3.2.0-24-generic #37-ubuntu smp wed apr 25 08:43:22 utc 2012 x86_64 x86_64 x86_64 gnulinux '
    config_args='-des -Dprefix=/home/cpan/pit/bare-ld/perl-5.16.0 -Duselongdouble'
    hint=recommended, useposix=true, d_sigaction=define
    useithreads=undef, usemultiplicity=undef
    useperlio=define, d_sfio=undef, uselargefiles=define, usesocks=undef
    use64bitint=define, use64bitall=define, uselongdouble=define
    usemymalloc=n, bincompat5005=undef
  Compiler:
    cc='cc', ccflags ='-fno-strict-aliasing -pipe -fstack-protector -I/usr/local/include -D_LARGEFILE_SOURCE -D_FILE_OFFSET_BITS=64',
    optimize='-O2',
    cppflags='-fno-strict-aliasing -pipe -fstack-protector -I/usr/local/include'
    ccversion='', gccversion='4.6.3', gccosandvers=''
    intsize=4, longsize=8, ptrsize=8, doublesize=8, byteorder=12345678
    d_longlong=define, longlongsize=8, d_longdbl=define, longdblsize=16
    ivtype='long', ivsize=8, nvtype='long double', nvsize=16, Off_t='off_t', lseeksize=8
    alignbytes=16, prototype=define
  Linker and Libraries:
    ld='cc', ldflags =' -fstack-protector -L/usr/local/lib'
    libpth=/usr/local/lib /lib/x86_64-linux-gnu /lib/../lib /usr/lib/x86_64-linux-gnu /usr/lib/../lib /lib /usr/lib
    libs=-lnsl -lgdbm -ldb -ldl -lm -lcrypt -lutil -lc -lgdbm_compat
    perllibs=-lnsl -ldl -lm -lcrypt -lutil -lc
    libc=, so=so, useshrplib=false, libperl=libperl.a
    gnulibc_version='2.15'
  Dynamic Linking:
    dlsrc=dl_dlopen.xs, dlext=so, d_dlsymun=undef, ccdlflags='-Wl,-E'
    cccdlflags='-fPIC', lddlflags='-shared -O2 -L/usr/local/lib -fstack-protector'


Characteristics of this binary (from libperl): 
  Compile-time options: HAS_TIMES PERLIO_LAYERS PERL_DONT_CREATE_GVSV
                        PERL_MALLOC_WRAP PERL_PRESERVE_IVUV USE_64_BIT_ALL
                        USE_64_BIT_INT USE_LARGE_FILES USE_LOCALE
                        USE_LOCALE_COLLATE USE_LOCALE_CTYPE
                        USE_LOCALE_NUMERIC USE_LONG_DOUBLE USE_PERLIO
                        USE_PERL_ATOF
  Built under linux
  Compiled at May 21 2012 11:34:33
  %ENV:
    PERL5LIB=":/home/cpan/pit/bare-ld/conf/perl-5.16.0/.cpanplus/5.16.0/build/WWW-Google-Auth-ClientLogin-0.07/blib/lib:/home/cpan/pit/bare-ld/conf/perl-5.16.0/.cpanplus/5.16.0/build/WWW-Google-Auth-ClientLogin-0.07/blib/arch"
    PERL5_CPANPLUS_IS_RUNNING="24623"
    PERL5_CPANPLUS_IS_VERSION="0.9130"
    PERL5_MINISMOKEBOX="0.54"
    PERL5_YACSMOKE_BASE="/home/cpan/pit/bare-ld/conf/perl-5.16.0"
    PERL_EXTUTILS_AUTOINSTALL="--defaultdeps"
    PERL_MM_USE_DEFAULT="1"
  @INC:
    /home/cpan/pit/bare-ld/conf/perl-5.16.0/.cpanplus/5.16.0/build/WWW-Google-Auth-ClientLogin-0.07/blib/lib
    /home/cpan/pit/bare-ld/conf/perl-5.16.0/.cpanplus/5.16.0/build/WWW-Google-Auth-ClientLogin-0.07/blib/arch
    /home/cpan/pit/bare-ld/perl-5.16.0/lib/site_perl/5.16.0/x86_64-linux-ld
    /home/cpan/pit/bare-ld/perl-5.16.0/lib/site_perl/5.16.0
    /home/cpan/pit/bare-ld/perl-5.16.0/lib/5.16.0/x86_64-linux-ld
    /home/cpan/pit/bare-ld/perl-5.16.0/lib/5.16.0
    .