XML-Filter-RemoveEmpty v0.02 Perl 5 v5.8.9 amd64-freebsd-thread-multi

Status
Fail
From
brian greenfield
Dist
XML-Filter-RemoveEmpty v0.02
Platform
Perl 5 v5.8.9 amd64-freebsd-thread-multi
Date
2011-12-22 12:18:05
ID
00478d20-2c97-11e1-8c6b-80c1e7baf3ee
This distribution has been tested as part of the CPAN Testers
project, supporting the Perl programming language.  See
http://wiki.cpantesters.org/ for more information or email
questions to cpan-testers-discuss@perl.org


--
Dear Darren Kulp,

This is a computer-generated report for XML-Filter-RemoveEmpty-0.02
on perl 5.8.9, created by CPAN-Reporter-1.2003.

Thank you for uploading your work to CPAN.  However, there was a problem
testing your distribution.

If you think this report is invalid, please consult the CPAN Testers Wiki
for suggestions on how to avoid getting FAIL reports for missing library
or binary dependencies, unsupported operating systems, and so on:

http://wiki.cpantesters.org/wiki/CPANAuthorNotes

Sections of this report:

    * Tester comments
    * Program output
    * Prerequisites
    * Environment and other context

------------------------------
TESTER COMMENTS
------------------------------

Additional comments from tester:

this report is from an automated smoke testing program
and was not reviewed by a human for accuracy

------------------------------
PROGRAM OUTPUT
------------------------------

Output from '/usr/bin/make test':

PERL_DL_NONLAZY=1 /home/test/perl5/perlbrew/perls/perl-5.8.9-th/bin/perl "-MExtUtils::Command::MM" "-e" "test_harness(0, 'blib/lib', 'blib/arch')" t/*.t
t/00-load.........# Testing XML::Filter::RemoveEmpty 0.02, Perl 5.008009, /home/test/perl5/perlbrew/perls/perl-5.8.9-th/bin/perl
ok
t/pod-coverage....ok
t/pod.............ok
t/run.............Use of uninitialized value in concatenation (.) or string at /home/test/perl5/perlbrew/perls/perl-5.8.9-th/lib/site_perl/5.8.9/XML/Filter/BufferText.pm line 18.
Use of uninitialized value in concatenation (.) or string at /home/test/perl5/perlbrew/perls/perl-5.8.9-th/lib/site_perl/5.8.9/XML/Filter/BufferText.pm line 18.

#   Failed test 'test 1'
#   at t/run.t line 92.
#          got: '<abc><def><ghi>hello,</ghi><mno>world</mno><pqr>!</pqr></def></abc>'
#     expected: '<?xml version='1.0'?><abc><def><ghi>hello,</ghi><mno>world</mno><pqr>!</pqr></def></abc>'
Use of uninitialized value in concatenation (.) or string at /home/test/perl5/perlbrew/perls/perl-5.8.9-th/lib/site_perl/5.8.9/XML/Filter/BufferText.pm line 18.
Use of uninitialized value in concatenation (.) or string at /home/test/perl5/perlbrew/perls/perl-5.8.9-th/lib/site_perl/5.8.9/XML/Filter/BufferText.pm line 18.

#   Failed test 'test 2'
#   at t/run.t line 92.
#          got: '<abc><def><ghi>hello,</ghi><mno>world</mno><pqr>!</pqr></def></abc>'
#     expected: '<?xml version='1.0'?><abc><def><ghi>hello,</ghi><mno>world</mno><pqr>!</pqr></def></abc>'
Use of uninitialized value in concatenation (.) or string at /home/test/perl5/perlbrew/perls/perl-5.8.9-th/lib/site_perl/5.8.9/XML/Filter/BufferText.pm line 18.
Use of uninitialized value in concatenation (.) or string at /home/test/perl5/perlbrew/perls/perl-5.8.9-th/lib/site_perl/5.8.9/XML/Filter/BufferText.pm line 18.

#   Failed test 'test 3'
#   at t/run.t line 92.
#          got: '<abc><def><ghi>hello,</ghi><mno>			world </mno><pqr>			!</pqr></def></abc>'
#     expected: '<?xml version='1.0'?><abc><def><ghi>hello,</ghi><mno>
# 			world </mno><pqr>
# 			!
# 			</pqr></def></abc>'
Use of uninitialized value in concatenation (.) or string at /home/test/perl5/perlbrew/perls/perl-5.8.9-th/lib/site_perl/5.8.9/XML/Filter/BufferText.pm line 18.
Use of uninitialized value in concatenation (.) or string at /home/test/perl5/perlbrew/perls/perl-5.8.9-th/lib/site_perl/5.8.9/XML/Filter/BufferText.pm line 18.

#   Failed test 'test 4'
#   at t/run.t line 92.
#          got: '<abc><def><ghi>hello,</ghi><mno>world</mno><pqr>!</pqr></def></abc>'
#     expected: '<?xml version='1.0'?><abc><def><ghi>hello,</ghi><mno>world</mno><pqr>!</pqr></def></abc>'
# Looks like you failed 4 tests of 4.
dubious
	Test returned status 4 (wstat 1024, 0x400)
DIED. FAILED tests 1-4
	Failed 4/4 tests, 0.00% okay
Failed Test Stat Wstat Total Fail  List of Failed
-------------------------------------------------------------------------------
t/run.t        4  1024     4    4  1-4
Failed 1/4 test scripts. 4/7 subtests failed.
Files=4, Tests=7,  1 wallclock secs ( 0.27 cusr +  0.21 csys =  0.48 CPU)
Failed 1/4 test programs. 4/7 subtests failed.
*** Error code 4

Stop in /usr/home/test/.cpan/build/XML-Filter-RemoveEmpty-0.02-7dn4_f.

------------------------------
PREREQUISITES
------------------------------

Prerequisite modules loaded:

requires:

    Module                  Need Have 
    ----------------------- ---- -----
    Alias                   0    2.32 
    enum                    0    1.016
    Test::More              0    0.98 
    Text::Trim              0    1.02 
    XML::Filter::BufferText 0    1.01 
    XML::SAX::Base          0    1.08 

build_requires:

    Module                  Need Have 
    ----------------------- ---- -----
    ExtUtils::MakeMaker     0    6.62 


------------------------------
ENVIRONMENT AND OTHER CONTEXT
------------------------------

Environment variables:

    AUTOMATED_TESTING = 1
    LANG = C
    LC_ALL = C
    PATH = /home/test/perl5/perlbrew/bin:/home/test/perl5/perlbrew/perls/perl-5.8.9-th/bin:~/bin:/sbin:/bin:/usr/sbin:/usr/bin:/usr/games:/usr/local/sbin:/usr/local/bin:/home/test/bin
    PATH_WITHOUT_PERLBREW = ~/bin:/sbin:/bin:/usr/sbin:/usr/bin:/usr/games:/usr/local/sbin:/usr/local/bin:/home/test/bin
    PERL5LIB = 
    PERL5OPT = 
    PERL5_CPANPLUS_IS_RUNNING = 71847
    PERL5_CPAN_IS_RUNNING = 71847
    PERL5_CPAN_IS_RUNNING_IN_RECURSION = 1039,71847
    PERLBREW_BASHRC_VERSION = 0.33
    PERLBREW_HOME = /home/test/.perlbrew
    PERLBREW_PATH = /home/test/perl5/perlbrew/bin:/home/test/perl5/perlbrew/perls/perl-5.8.9-th/bin
    PERLBREW_PERL = perl-5.8.9-th
    PERLBREW_ROOT = /home/test/perl5/perlbrew
    PERLBREW_VERSION = 0.33
    PERL_CPANM_OPT = --prompt --mirror http://172.16.1.3/cpan/
    PERL_CR_SMOKER_CURRENT = XML-Filter-RemoveEmpty-0.02
    PERL_EXTUTILS_AUTOINSTALL = --defaultdeps
    PERL_MM_USE_DEFAULT = 1
    SHELL = /usr/local/bin/bash
    TERM = linux

Perl special variables (and OS-specific diagnostics, for MSWin32):

    $^X = /home/test/perl5/perlbrew/perls/perl-5.8.9-th/bin/perl
    $UID/$EUID = 1002 / 1002
    $GID = 1002 1002
    $EGID = 1002 1002

Perl module toolchain versions installed:

    Module              Have    
    ------------------- --------
    CPAN                1.9800  
    CPAN::Meta          2.112621
    Cwd                 3.39_01 
    ExtUtils::CBuilder  0.280202
    ExtUtils::Command   1.16    
    ExtUtils::Install   1.52    
    ExtUtils::MakeMaker 6.62    
    ExtUtils::Manifest  1.58    
    ExtUtils::ParseXS   3.08    
    File::Spec          3.39_01 
    JSON                2.27    
    JSON::PP            2.27008 
    Module::Build       0.3800  
    Module::Signature   n/a     
    Parse::CPAN::Meta   1.4401  
    Test::Harness       2.64    
    Test::More          0.98    
    YAML                0.73    
    YAML::Syck          1.19    
    version             0.95    


--

Summary of my perl5 (revision 5 version 8 subversion 9) configuration:
  Platform:
    osname=freebsd, osvers=8.1-release, archname=amd64-freebsd-thread-multi
    uname='freebsd fbsd.local 8.1-release freebsd 8.1-release #0: mon jul 19 02:36:49 utc 2010 root@mason.cse.buffalo.edu:usrobjusrsrcsysgeneric amd64 '
    config_args='-de -Dprefix=/home/test/perl5/perlbrew/perls/perl-5.8.9-th -Dusethreads'
    hint=recommended, useposix=true, d_sigaction=define
    usethreads=define use5005threads=undef useithreads=define usemultiplicity=define
    useperlio=define d_sfio=undef uselargefiles=define usesocks=undef
    use64bitint=define use64bitall=define uselongdouble=undef
    usemymalloc=n, bincompat5005=undef
  Compiler:
    cc='cc', ccflags ='-DHAS_FPSETMASK -DHAS_FLOATINGPOINT_H -fno-strict-aliasing -pipe -I/usr/local/include',
    optimize='-O',
    cppflags='-DHAS_FPSETMASK -DHAS_FLOATINGPOINT_H -fno-strict-aliasing -pipe -I/usr/local/include'
    ccversion='', gccversion='4.2.1 20070719  [FreeBSD]', gccosandvers=''
    intsize=4, longsize=8, ptrsize=8, doublesize=8, byteorder=12345678
    d_longlong=define, longlongsize=8, d_longdbl=define, longdblsize=16
    ivtype='long', ivsize=8, nvtype='double', nvsize=8, Off_t='off_t', lseeksize=8
    alignbytes=8, prototype=define
  Linker and Libraries:
    ld='cc', ldflags ='-pthread -Wl,-E  -L/usr/local/lib'
    libpth=/usr/lib /usr/local/lib
    libs=-lm -lcrypt
    perllibs=-lm -lcrypt
    libc=, so=so, useshrplib=false, libperl=libperl.a
    gnulibc_version=''
  Dynamic Linking:
    dlsrc=dl_dlopen.xs, dlext=so, d_dlsymun=undef, ccdlflags=' '
    cccdlflags='-DPIC -fPIC', lddlflags='-shared  -L/usr/local/lib'


Characteristics of this binary (from libperl): 
  Compile-time options: MULTIPLICITY PERL_IMPLICIT_CONTEXT PERL_MALLOC_WRAP
                        USE_64_BIT_ALL USE_64_BIT_INT USE_FAST_STDIO
                        USE_ITHREADS USE_LARGE_FILES USE_PERLIO
                        USE_REENTRANT_API
  Built under freebsd
  Compiled at Dec 14 2011 20:34:24
  %ENV:
    PERL5LIB=""
    PERL5OPT=""
    PERL5_CPANPLUS_IS_RUNNING="71847"
    PERL5_CPAN_IS_RUNNING="71847"
    PERL5_CPAN_IS_RUNNING_IN_RECURSION="1039,71847"
    PERLBREW_BASHRC_VERSION="0.33"
    PERLBREW_HOME="/home/test/.perlbrew"
    PERLBREW_PATH="/home/test/perl5/perlbrew/bin:/home/test/perl5/perlbrew/perls/perl-5.8.9-th/bin"
    PERLBREW_PERL="perl-5.8.9-th"
    PERLBREW_ROOT="/home/test/perl5/perlbrew"
    PERLBREW_VERSION="0.33"
    PERL_CPANM_OPT="--prompt --mirror http://172.16.1.3/cpan/"
    PERL_CR_SMOKER_CURRENT="XML-Filter-RemoveEmpty-0.02"
    PERL_EXTUTILS_AUTOINSTALL="--defaultdeps"
    PERL_MM_USE_DEFAULT="1"
  @INC:
    /home/test/perl5/perlbrew/perls/perl-5.8.9-th/lib/5.8.9/amd64-freebsd-thread-multi
    /home/test/perl5/perlbrew/perls/perl-5.8.9-th/lib/5.8.9
    /home/test/perl5/perlbrew/perls/perl-5.8.9-th/lib/site_perl/5.8.9/amd64-freebsd-thread-multi
    /home/test/perl5/perlbrew/perls/perl-5.8.9-th/lib/site_perl/5.8.9
    .