IO-stringy v2.111 Perl 5 v5.24.1 x86_64-linux

Status
Pass
From
NONAME
Dist
IO-stringy v2.111
Platform
Perl 5 v5.24.1 x86_64-linux
Date
2017-05-02 00:26:36
ID
003c3abc-2ece-11e7-83ad-1f64a8a3881d
This distribution has been tested as part of the CPAN Testers
project, supporting the Perl programming language.  See
http://wiki.cpantesters.org/ for more information or email
questions to cpan-testers-discuss@perl.org


--
Dear Dianne Skoll,

This is a computer-generated report for IO-stringy-2.111
on perl 5.24.1, created by CPAN-Reporter-1.2018.

Thank you for uploading your work to CPAN.  Congratulations!
All tests were successful.

Sections of this report:

    * Tester comments
    * Program output
    * Prerequisites
    * Environment and other context

------------------------------
TESTER COMMENTS
------------------------------

Additional comments from tester:

this report is from an automated smoke testing program
and was not reviewed by a human for accuracy

------------------------------
PROGRAM OUTPUT
------------------------------

Output from '/usr/bin/make test':

PERL_DL_NONLAZY=1 "/opt/perl/5.24/bin/perl" "-MExtUtils::Command::MM" "-MTest::Harness" "-e" "undef *Test::Harness::Switches; test_harness(0, 'blib/lib', 'blib/arch')" t/*.t
t/IO_InnerFile.t .... ok
t/IO_Lines.t ........ ok
t/IO_Scalar.t ....... ok
t/IO_ScalarArray.t .. ok
t/IO_WrapTie.t ...... ok
t/simple.t .......... ok
t/two.t ............. ok
All tests successful.
Files=7, Tests=125,  1 wallclock secs ( 0.11 usr  0.02 sys +  0.56 cusr  0.05 csys =  0.74 CPU)
Result: PASS

------------------------------
PREREQUISITES
------------------------------

Prerequisite modules loaded:

build_requires:

    Module              Need Have
    ------------------- ---- ----
    ExtUtils::MakeMaker 0    7.24

configure_requires:

    Module              Need Have
    ------------------- ---- ----
    ExtUtils::MakeMaker 0    7.24


------------------------------
ENVIRONMENT AND OTHER CONTEXT
------------------------------

Environment variables:

    AUTOMATED_TESTING = 1
    LANG = en_US
    PATH = /images/bin:/opt/bin:/usr/local/bin:/usr/bin:/bin:/opt/bin:/usr/x86_64-pc-linux-gnu/gcc-bin/5.4.0:/usr/lib/llvm/4/bin
    PERL5LIB = 
    PERL5OPT = 
    PERL5_CPANPLUS_IS_RUNNING = 29734
    PERL5_CPAN_IS_RUNNING = 29734
    PERL5_CPAN_IS_RUNNING_IN_RECURSION = 14417,29734
    PERL_CR_SMOKER_CURRENT = Catalyst-Runtime-5.90115
    PERL_EXTUTILS_AUTOINSTALL = --defaultdeps
    PERL_MM_USE_DEFAULT = 1
    SHELL = /bin/bash
    TERM = xterm

Perl special variables (and OS-specific diagnostics, for MSWin32):

    $^X = /opt/perl/5.24/bin/perl
    $UID/$EUID = 1024 / 1024
    $GID = 1024 0 1 4 6 10 14 17 18 19 27 80 85 100 102 250 996 1023 1024
    $EGID = 1024 0 1 4 6 10 14 17 18 19 27 80 85 100 102 250 996 1023 1024

Perl module toolchain versions installed:

    Module              Have    
    ------------------- --------
    CPAN                2.16    
    CPAN::Meta          2.150010
    Cwd                 3.63_01 
    ExtUtils::CBuilder  0.280225
    ExtUtils::Command   7.24    
    ExtUtils::Install   2.04    
    ExtUtils::MakeMaker 7.24    
    ExtUtils::Manifest  1.70    
    ExtUtils::ParseXS   3.31    
    File::Spec          3.63_01 
    JSON                2.90    
    JSON::PP            2.27400 
    Module::Build       0.4222  
    Module::Signature   0.81    
    Parse::CPAN::Meta   2.150010
    Test::Harness       3.39    
    Test::More          1.302083
    YAML                1.23    
    YAML::Syck          n/a     
    version             0.9918  


--

Summary of my perl5 (revision 5 version 24 subversion 1) configuration:
   
  Platform:
    osname=linux, osvers=4.10.4-aufs.aa, archname=x86_64-linux
    uname='linux duke 4.10.4-aufs.aa #8 smp mon apr 10 04:27:19 cdt 2017 x86_64 amd opteron(tm) processor 6172 authenticamd gnulinux '
    config_args='-de -Dprefix=/opt/perl/5.24 -Duseshrplib -Doptimize=-O2 -pipe -march=native'
    hint=recommended, useposix=true, d_sigaction=define
    useithreads=undef, usemultiplicity=undef
    use64bitint=define, use64bitall=define, uselongdouble=undef
    usemymalloc=n, bincompat5005=undef
  Compiler:
    cc='cc', ccflags ='-fwrapv -fno-strict-aliasing -pipe -fstack-protector-strong -D_LARGEFILE_SOURCE -D_FILE_OFFSET_BITS=64',
    optimize='-O2 -pipe -march=native',
    cppflags='-fwrapv -fno-strict-aliasing -pipe -fstack-protector-strong'
    ccversion='', gccversion='4.9.4', gccosandvers=''
    intsize=4, longsize=8, ptrsize=8, doublesize=8, byteorder=12345678, doublekind=3
    d_longlong=define, longlongsize=8, d_longdbl=define, longdblsize=16, longdblkind=3
    ivtype='long', ivsize=8, nvtype='double', nvsize=8, Off_t='off_t', lseeksize=8
    alignbytes=8, prototype=define
  Linker and Libraries:
    ld='cc', ldflags =' -fstack-protector-strong -L/usr/local/lib'
    libpth=/usr/lib/gcc/x86_64-pc-linux-gnu/4.9.4/include-fixed /usr/lib /usr/local/lib /lib/../lib64 /usr/lib/../lib64 /lib /lib64 /usr/lib64 /usr/local/lib64
    libs=-lpthread -lnsl -lgdbm -ldb -ldl -lm -lcrypt -lutil -lc -lgdbm_compat
    perllibs=-lpthread -lnsl -ldl -lm -lcrypt -lutil -lc
    libc=libc-2.23.so, so=so, useshrplib=true, libperl=libperl.so
    gnulibc_version='2.23'
  Dynamic Linking:
    dlsrc=dl_dlopen.xs, dlext=so, d_dlsymun=undef, ccdlflags='-Wl,-E -Wl,-rpath,/opt/perl/5.24/lib/5.24.1/x86_64-linux/CORE'
    cccdlflags='-fPIC', lddlflags='-shared -O2 -pipe -march=native -L/usr/local/lib -fstack-protector-strong'


Characteristics of this binary (from libperl): 
  Compile-time options: HAS_TIMES PERLIO_LAYERS PERL_COPY_ON_WRITE
                        PERL_DONT_CREATE_GVSV
                        PERL_HASH_FUNC_ONE_AT_A_TIME_HARD PERL_MALLOC_WRAP
                        PERL_PRESERVE_IVUV USE_64_BIT_ALL USE_64_BIT_INT
                        USE_LARGE_FILES USE_LOCALE USE_LOCALE_COLLATE
                        USE_LOCALE_CTYPE USE_LOCALE_NUMERIC USE_LOCALE_TIME
                        USE_PERLIO USE_PERL_ATOF
  Built under linux
  Compiled at Apr 10 2017 10:36:18
  %ENV:
    PERL5LIB=""
    PERL5OPT=""
    PERL5_CPANPLUS_IS_RUNNING="29734"
    PERL5_CPAN_IS_RUNNING="29734"
    PERL5_CPAN_IS_RUNNING_IN_RECURSION="14417,29734"
    PERL_CR_SMOKER_CURRENT="Catalyst-Runtime-5.90115"
    PERL_EXTUTILS_AUTOINSTALL="--defaultdeps"
    PERL_MM_USE_DEFAULT="1"
  @INC:
    /opt/perl/5.24/lib/site_perl/5.24.1/x86_64-linux
    /opt/perl/5.24/lib/site_perl/5.24.1
    /opt/perl/5.24/lib/5.24.1/x86_64-linux
    /opt/perl/5.24/lib/5.24.1
    .