Math-Primality v0.08 Perl 5 v5.20.3 amd64-freebsd-thread-multi

Status
Pass
From
Slaven Rezić (SREZIC)
Dist
Math-Primality v0.08
Platform
Perl 5 v5.20.3 amd64-freebsd-thread-multi
Date
2016-05-31 23:32:55
ID
002b3e86-2788-11e6-9c68-9c130da7fe9b
This distribution has been tested as part of the CPAN Testers
project, supporting the Perl programming language.  See
http://wiki.cpantesters.org/ for more information or email
questions to cpan-testers-discuss@perl.org


--
Dear Jonathan Leto,

This is a computer-generated report for Math-Primality-0.08
on perl 5.20.3, created by CPAN-Reporter-1.2017.

Thank you for uploading your work to CPAN.  Congratulations!
All tests were successful.

Sections of this report:

    * Tester comments
    * Program output
    * Prerequisites
    * Environment and other context

------------------------------
TESTER COMMENTS
------------------------------

Additional comments from tester:

none provided

------------------------------
PROGRAM OUTPUT
------------------------------

Output from '/usr/bin/make test':

PERL_DL_NONLAZY=1 "/usr/perl5.20.3t/bin/perl" "-MExtUtils::Command::MM" "-MTest::Harness" "-e" "undef *Test::Harness::Switches; test_harness(0, 'blib/lib', 'blib/arch')" t/*.t
# Testing Math::Primality 0.08, Perl 5.020003, /usr/perl5.20.3t/bin/perl
t/00-load.t ...................... ok
t/big_polynomial.t ............... ok
t/boilerplate.t .................. ok
t/is_aks_prime.t ................. ok
t/is_prime.t ..................... ok
t/is_prime_bigint.t .............. ok
t/is_pseudoprime.t ............... ok
t/is_strong_lucas_pseudoprime.t .. ok
t/is_strong_pseudoprime.t ........ ok
t/next_prime.t ................... ok
t/pod.t .......................... ok
t/prev_prime.t ................... ok
t/prime_count.t .................. ok
All tests successful.
Files=13, Tests=2517,  6 wallclock secs ( 0.26 usr  0.05 sys +  5.63 cusr  0.16 csys =  6.09 CPU)
Result: PASS

------------------------------
PREREQUISITES
------------------------------

Prerequisite modules loaded:

requires:

    Module              Need Have    
    ------------------- ---- --------
    base                0    2.22    
    Carp                0    1.38    
    constant            0    1.33    
    Data::Dumper        0    2.154   
    Exporter            0    5.72    
    integer             0    1.01    
    Math::GMPz          0.34 0.43    
    strict              0    1.08    
    warnings            0    1.23    

build_requires:

    Module              Need Have    
    ------------------- ---- --------
    bigint              0    0.42    
    POSIX               0    1.38_03 
    Test::Exception     0    0.43    
    Test::More          0    1.302022

configure_requires:

    Module              Need Have    
    ------------------- ---- --------
    ExtUtils::MakeMaker 6.30 7.18    
    Module::Build       0.38 0.4218  


------------------------------
ENVIRONMENT AND OTHER CONTEXT
------------------------------

Environment variables:

    LC_ALL = de_DE.UTF-8
    PATH = /usr/local/bin:/usr/bin:/bin:/usr/local/sbin:/usr/sbin:/sbin:/home/eserte/bin/freebsd10.1:/home/eserte/bin/sh:/home/eserte/bin:/home/eserte/bin/pistachio-perl/bin:/usr/games:/home/eserte/devel:/usr/home/eserte/src/srezic-misc/scripts
    PERL5LIB = 
    PERL5OPT = 
    PERL5_CPANPLUS_IS_RUNNING = 60610
    PERL5_CPAN_IS_RUNNING = 60610
    PERL5_CPAN_IS_RUNNING_IN_RECURSION = 99826,60610
    PERLDOC = -MPod::Perldoc::ToTextOverstrike
    PERL_BATCH = yes
    PERL_CANARY_STABILITY_NOPROMPT = 1
    PERL_CPAN_REPORTER_CONFIG = /var/tmp/cpansmoker-1002/2016053103/cpanreporter_003_config.ini
    PERL_EXTUTILS_AUTOINSTALL = --defaultdeps
    PERL_PARALLEL_SMOKER = yes
    SHELL = /usr/local/bin/zsh
    TERM = screen
    TMPDIR = /var/tmp/cpansmoker-1002/2016053103

Perl special variables (and OS-specific diagnostics, for MSWin32):

    $^X = /usr/perl5.20.3t/bin/perl
    $UID/$EUID = 1002 / 1002
    $GID = 1002 1002
    $EGID = 1002 1002

Perl module toolchain versions installed:

    Module              Have    
    ------------------- --------
    CPAN                2.10    
    CPAN::Meta          2.150005
    Cwd                 3.62    
    ExtUtils::CBuilder  0.280224
    ExtUtils::Command   7.18    
    ExtUtils::Install   1.67    
    ExtUtils::MakeMaker 7.18    
    ExtUtils::Manifest  1.70    
    ExtUtils::ParseXS   3.30    
    File::Spec          3.62    
    JSON                2.90    
    JSON::PP            2.27400 
    Module::Build       0.4218  
    Module::Signature   0.79    
    Parse::CPAN::Meta   1.4414  
    Test::Harness       3.36    
    Test::More          1.302022
    YAML                1.15    
    YAML::Syck          1.29    
    version             0.9917  


--

Summary of my perl5 (revision 5 version 20 subversion 3) configuration:
   
  Platform:
    osname=freebsd, osvers=10.3-release, archname=amd64-freebsd-thread-multi
    uname='freebsd freebsd103 10.3-release freebsd 10.3-release #0 r297264: fri mar 25 02:10:02 utc 2016 root@releng1.nyi.freebsd.org:usrobjusrsrcsysgeneric amd64 '
    config_args='-ds -e -Dprefix=/usr/perl5.20.3t -Dusethreads -Dcf_email=srezic@cpan.org -Doptimize=-O2 -pipe'
    hint=recommended, useposix=true, d_sigaction=define
    useithreads=define, usemultiplicity=define
    use64bitint=define, use64bitall=define, uselongdouble=undef
    usemymalloc=n, bincompat5005=undef
  Compiler:
    cc='cc', ccflags ='-DHAS_FPSETMASK -DHAS_FLOATINGPOINT_H -fno-strict-aliasing -pipe -fstack-protector -I/usr/local/include',
    optimize='-O2 -pipe',
    cppflags='-DHAS_FPSETMASK -DHAS_FLOATINGPOINT_H -fno-strict-aliasing -pipe -fstack-protector -I/usr/local/include'
    ccversion='', gccversion='4.2.1 Compatible FreeBSD Clang 3.4.1 (tags/RELEASE_34/dot1-final 208032)', gccosandvers=''
    intsize=4, longsize=8, ptrsize=8, doublesize=8, byteorder=12345678
    d_longlong=define, longlongsize=8, d_longdbl=define, longdblsize=16
    ivtype='long', ivsize=8, nvtype='double', nvsize=8, Off_t='off_t', lseeksize=8
    alignbytes=8, prototype=define
  Linker and Libraries:
    ld='cc', ldflags ='-pthread -Wl,-E  -fstack-protector -L/usr/local/lib'
    libpth=/usr/lib /usr/local/lib /usr/include/clang/3.4.1 /usr/lib
    libs=-lpthread -lm -lcrypt -lutil
    perllibs=-lpthread -lm -lcrypt -lutil
    libc=, so=so, useshrplib=false, libperl=libperl.a
    gnulibc_version=''
  Dynamic Linking:
    dlsrc=dl_dlopen.xs, dlext=so, d_dlsymun=undef, ccdlflags=' '
    cccdlflags='-DPIC -fPIC', lddlflags='-shared  -L/usr/local/lib -fstack-protector'


Characteristics of this binary (from libperl): 
  Compile-time options: HAS_TIMES MULTIPLICITY PERLIO_LAYERS
                        PERL_DONT_CREATE_GVSV
                        PERL_HASH_FUNC_ONE_AT_A_TIME_HARD
                        PERL_IMPLICIT_CONTEXT PERL_MALLOC_WRAP
                        PERL_NEW_COPY_ON_WRITE PERL_PRESERVE_IVUV
                        USE_64_BIT_ALL USE_64_BIT_INT USE_ITHREADS
                        USE_LARGE_FILES USE_LOCALE USE_LOCALE_COLLATE
                        USE_LOCALE_CTYPE USE_LOCALE_NUMERIC USE_PERLIO
                        USE_PERL_ATOF USE_REENTRANT_API
  Built under freebsd
  Compiled at May 30 2016 20:41:20
  %ENV:
    PERL5LIB=""
    PERL5OPT=""
    PERL5_CPANPLUS_IS_RUNNING="60610"
    PERL5_CPAN_IS_RUNNING="60610"
    PERL5_CPAN_IS_RUNNING_IN_RECURSION="99826,60610"
    PERLDOC="-MPod::Perldoc::ToTextOverstrike"
    PERL_BATCH="yes"
    PERL_CANARY_STABILITY_NOPROMPT="1"
    PERL_CPAN_REPORTER_CONFIG="/var/tmp/cpansmoker-1002/2016053103/cpanreporter_003_config.ini"
    PERL_EXTUTILS_AUTOINSTALL="--defaultdeps"
    PERL_PARALLEL_SMOKER="yes"
  @INC:
    /usr/perl5.20.3t/lib/site_perl/5.20.3/amd64-freebsd-thread-multi
    /usr/perl5.20.3t/lib/site_perl/5.20.3
    /usr/perl5.20.3t/lib/5.20.3/amd64-freebsd-thread-multi
    /usr/perl5.20.3t/lib/5.20.3
    .