Chess-Opening v0.6 Perl 5 v5.28.1 x86_64-dragonfly
- Status
- Pass
- From
- Nigel Horne
- Dist
-
Chess-Opening v0.6
- Platform
- Perl 5 v5.28.1 x86_64-dragonfly
- Date
- 2019-02-24 09:46:03
- ID
- 002849fc-3819-11e9-bf31-80c71e9d5857
This distribution has been tested as part of the CPAN Testers
project, supporting the Perl programming language. See
http://wiki.cpantesters.org/ for more information or email
questions to cpan-testers-discuss@perl.org
--
Dear Guido Flohr,
This is a computer-generated report for Chess-Opening-0.6
on perl 5.28.1, created by CPAN-Reporter-1.2018.
Thank you for uploading your work to CPAN. Congratulations!
All tests were successful.
Sections of this report:
* Tester comments
* Program output
* Prerequisites
* Environment and other context
------------------------------
TESTER COMMENTS
------------------------------
Additional comments from tester:
this report is from an automated smoke testing program
and was not reviewed by a human for accuracy
------------------------------
PROGRAM OUTPUT
------------------------------
Output from './Build test':
t/author-critic.t ......... skipped: these tests are for testing by the author
t/author-pod-coverage.t ... skipped: these tests are for testing by the author
t/author-pod-syntax.t ..... skipped: these tests are for testing by the author
t/eco-book.t .............. ok
t/get-key.t ............... ok
t/polyglot-book.t ......... ok
t/release-cpan-changes.t .. skipped: these tests are for release candidate testing
All tests successful.
Files=7, Tests=274, 2 wallclock secs ( 0.11 usr 0.05 sys + 1.23 cusr 0.36 csys = 1.76 CPU)
Result: PASS
------------------------------
PREREQUISITES
------------------------------
Prerequisite modules loaded:
requires:
Module Need Have
------------------- ------- --------
base 0 2.27
Carp 0 1.50
common::sense 0 3.74
constant 0 1.33
Fcntl 0 1.13
integer 0 1.01
IO::Seekable 1.20 1.39
Locale::TextDomain 0 1.31
perl v5.12.0 5.028001
Scalar::Util 0 1.50
build_requires:
Module Need Have
------------------- ------- --------
Module::Build 0.28 0.4224
POSIX 0 1.84
Test::More 0 1.302141
configure_requires:
Module Need Have
------------------- ------- --------
ExtUtils::MakeMaker 0 7.34
Module::Build 0.28 0.4224
------------------------------
ENVIRONMENT AND OTHER CONTEXT
------------------------------
Environment variables:
AUTOMATED_TESTING = 1
NONINTERACTIVE_TESTING = 1
PATH = /home/njh/perl5/perlbrew/bin:/home/njh/perl5/perlbrew/perls/perl-5.28.1/bin:src/njh/smoker/bin:/bin:/sbin:/usr/bin:/usr/sbin:/usr/local/bin:/usr/local/sbin:/usr/pkg/bin:/usr/pkg/sbin
PERL5LIB = /home/njh/.cpan/build/common-sense-3.74-0/blib/arch:/home/njh/.cpan/build/common-sense-3.74-0/blib/lib:/home/njh/.cpan/build/libintl-perl-1.31-0/blib/arch:/home/njh/.cpan/build/libintl-perl-1.31-0/blib/lib:/home/njh/.cpan/build/API-MikroTik-v0.242-0/blib/arch:/home/njh/.cpan/build/API-MikroTik-v0.242-0/blib/lib:/home/njh/.cpan/build/Mojolicious-8.12-22/blib/arch:/home/njh/.cpan/build/Mojolicious-8.12-22/blib/lib
PERL5OPT =
PERL5_CPANPLUS_IS_RUNNING = 217876
PERL5_CPAN_IS_RUNNING = 217876
PERLBREW_HOME = /home/njh/.perlbrew
PERLBREW_MANPATH = /home/njh/perl5/perlbrew/perls/perl-5.28.1/man
PERLBREW_PATH = /home/njh/perl5/perlbrew/bin:/home/njh/perl5/perlbrew/perls/perl-5.28.1/bin
PERLBREW_PERL = perl-5.28.1
PERLBREW_ROOT = /home/njh/perl5/perlbrew
PERLBREW_SHELLRC_VERSION = 0.86
PERLBREW_VERSION = 0.86
PERL_MM_USE_DEFAULT = 1
PERL_USE_UNSAFE_INC = 1
SHELL = /bin/sh
TMPDIR = /tmp/testwrapper.217862
Perl special variables (and OS-specific diagnostics, for MSWin32):
$^X = /home/njh/perl5/perlbrew/perls/perl-5.28.1/bin/perl5.28.1
$UID/$EUID = 1001 / 1001
$GID = 1001 1001 0
$EGID = 1001 1001 0
Perl module toolchain versions installed:
Module Have
------------------- --------
CPAN 2.22
CPAN::Meta 2.150010
Cwd 3.75
ExtUtils::CBuilder 0.280230
ExtUtils::Command 7.34
ExtUtils::Install 2.14
ExtUtils::MakeMaker 7.34
ExtUtils::Manifest 1.71
ExtUtils::ParseXS 3.39
File::Spec 3.75
JSON 4.01
JSON::PP 4.00
Module::Build 0.4224
Module::Signature n/a
Parse::CPAN::Meta 2.150010
Test::Harness 3.42
Test::More 1.302141
YAML 1.27
YAML::Syck 1.31
version 0.9924
--
Summary of my perl5 (revision 5 version 28 subversion 1) configuration:
Platform:
osname=dragonfly
osvers=5.0-release
archname=x86_64-dragonfly
uname='dragonfly david.bandsman.co.uk 5.0-release dragonfly v5.0.2-release #4: sun dec 3 17:42:25 est 2017 root@www.shiningsilence.com:usrobjhomejustinrelease5_0sysx86_64_generic x86_64 '
config_args='-de -Dprefix=/home/njh/perl5/perlbrew/perls/perl-5.28.1 -Dusedevel -Accflags= -Aeval:scriptdir=/home/njh/perl5/perlbrew/perls/perl-5.28.1/bin'
hint=recommended
useposix=true
d_sigaction=define
useithreads=undef
usemultiplicity=undef
use64bitint=define
use64bitall=define
uselongdouble=undef
usemymalloc=n
default_inc_excludes_dot=define
bincompat5005=undef
Compiler:
cc='cc'
ccflags ='-DHAS_FPSETMASK -DHAS_FLOATINGPOINT_H -fwrapv -fno-strict-aliasing -pipe -fstack-protector-strong -I/usr/local/include -D_FORTIFY_SOURCE=2'
optimize='-O'
cppflags='-DHAS_FPSETMASK -DHAS_FLOATINGPOINT_H -fwrapv -fno-strict-aliasing -pipe -fstack-protector-strong -I/usr/local/include'
ccversion=''
gccversion='5.4.1 [DragonFly] Release/2016-08-27'
gccosandvers=''
intsize=4
longsize=8
ptrsize=8
doublesize=8
byteorder=12345678
doublekind=3
d_longlong=define
longlongsize=8
d_longdbl=define
longdblsize=16
longdblkind=3
ivtype='long'
ivsize=8
nvtype='double'
nvsize=8
Off_t='off_t'
lseeksize=8
alignbytes=8
prototype=define
Linker and Libraries:
ld='cc'
ldflags ='-Wl,-E -fstack-protector-strong -L/usr/local/lib'
libpth=/usr/lib /usr/local/lib /usr/lib
libs=-lpthread -ldl -lm -lcrypt -lutil -lc
perllibs=-lpthread -ldl -lm -lcrypt -lutil -lc
libc=
so=so
useshrplib=false
libperl=libperl.a
gnulibc_version=''
Dynamic Linking:
dlsrc=dl_dlopen.xs
dlext=so
d_dlsymun=undef
ccdlflags=' '
cccdlflags='-DPIC -fPIC'
lddlflags='-shared -L/usr/local/lib -fstack-protector-strong'
Characteristics of this binary (from libperl):
Compile-time options:
HAS_TIMES
PERLIO_LAYERS
PERL_COPY_ON_WRITE
PERL_DONT_CREATE_GVSV
PERL_MALLOC_WRAP
PERL_OP_PARENT
PERL_PRESERVE_IVUV
PERL_USE_DEVEL
USE_64_BIT_ALL
USE_64_BIT_INT
USE_LARGE_FILES
USE_LOCALE
USE_LOCALE_COLLATE
USE_LOCALE_CTYPE
USE_LOCALE_NUMERIC
USE_LOCALE_TIME
USE_PERLIO
USE_PERL_ATOF
Locally applied patches:
Devel::PatchPerl 1.48
Built under dragonfly
Compiled at Dec 5 2018 10:58:30
%ENV:
PERL5LIB="/home/njh/.cpan/build/common-sense-3.74-0/blib/arch:/home/njh/.cpan/build/common-sense-3.74-0/blib/lib:/home/njh/.cpan/build/libintl-perl-1.31-0/blib/arch:/home/njh/.cpan/build/libintl-perl-1.31-0/blib/lib:/home/njh/.cpan/build/API-MikroTik-v0.242-0/blib/arch:/home/njh/.cpan/build/API-MikroTik-v0.242-0/blib/lib:/home/njh/.cpan/build/Mojolicious-8.12-22/blib/arch:/home/njh/.cpan/build/Mojolicious-8.12-22/blib/lib"
PERL5OPT=""
PERL5_CPANPLUS_IS_RUNNING="217876"
PERL5_CPAN_IS_RUNNING="217876"
PERLBREW_HOME="/home/njh/.perlbrew"
PERLBREW_MANPATH="/home/njh/perl5/perlbrew/perls/perl-5.28.1/man"
PERLBREW_PATH="/home/njh/perl5/perlbrew/bin:/home/njh/perl5/perlbrew/perls/perl-5.28.1/bin"
PERLBREW_PERL="perl-5.28.1"
PERLBREW_ROOT="/home/njh/perl5/perlbrew"
PERLBREW_SHELLRC_VERSION="0.86"
PERLBREW_VERSION="0.86"
PERL_MM_USE_DEFAULT="1"
PERL_USE_UNSAFE_INC="1"
@INC:
/home/njh/.cpan/build/common-sense-3.74-0/blib/arch
/home/njh/.cpan/build/common-sense-3.74-0/blib/lib
/home/njh/.cpan/build/libintl-perl-1.31-0/blib/arch
/home/njh/.cpan/build/libintl-perl-1.31-0/blib/lib
/home/njh/.cpan/build/API-MikroTik-v0.242-0/blib/arch
/home/njh/.cpan/build/API-MikroTik-v0.242-0/blib/lib
/home/njh/.cpan/build/Mojolicious-8.12-22/blib/arch
/home/njh/.cpan/build/Mojolicious-8.12-22/blib/lib
/home/njh/perl5/perlbrew/perls/perl-5.28.1/lib/site_perl/5.28.1/x86_64-dragonfly
/home/njh/perl5/perlbrew/perls/perl-5.28.1/lib/site_perl/5.28.1
/home/njh/perl5/perlbrew/perls/perl-5.28.1/lib/5.28.1/x86_64-dragonfly
/home/njh/perl5/perlbrew/perls/perl-5.28.1/lib/5.28.1
.