HTTP-Session2 v1.09 Perl 5 v5.27.8 x86_64-linux

Status
Pass
From
Slaven Rezić (SREZIC)
Dist
HTTP-Session2 v1.09
Platform
Perl 5 v5.27.8 x86_64-linux
Date
2018-01-21 05:29:07
ID
00249dda-fe6c-11e7-812c-fd6a46fd1e9d
This distribution has been tested as part of the CPAN Testers
project, supporting the Perl programming language.  See
http://wiki.cpantesters.org/ for more information or email
questions to cpan-testers-discuss@perl.org


--
Dear Author,

This is a computer-generated report for HTTP-Session2-1.09
on perl 5.27.8, created by CPAN-Reporter-1.2018.

Thank you for uploading your work to CPAN.  Congratulations!
All tests were successful.

Sections of this report:

    * Tester comments
    * Program output
    * Prerequisites
    * Environment and other context

------------------------------
TESTER COMMENTS
------------------------------

Additional comments from tester:

none provided

------------------------------
PROGRAM OUTPUT
------------------------------

Output from './Build test':

t/00_compile.t .............. ok
Secret string too short at /home/cpansand/.cpan/build/2018012103/HTTP-Session2-1.09-0/blib/lib/HTTP/Session2/Base.pm line 79.
	HTTP::Session2::Base::__ANON__(HTTP::Session2::ServerStore=HASH(0x5652fa96cd60), "s3cret") called at t/01_server_side.t line 23
	main::__ANON__("client -> server: request without cookie", CODE(0x5652fa96c9e8)) called at t/01_server_side.t line 25
	main::__ANON__() called at /opt/perl-5.27.8/lib/site_perl/5.27.8/Test/Builder.pm line 337
	eval {...} called at /opt/perl-5.27.8/lib/site_perl/5.27.8/Test/Builder.pm line 337
	Test::Builder::subtest(Test::Builder=HASH(0x5652fa094c30), "First request", CODE(0x5652fa76f9c0)) called at /opt/perl-5.27.8/lib/site_perl/5.27.8/Test/More.pm line 807
	Test::More::subtest("First request", CODE(0x5652fa76f9c0)) called at t/01_server_side.t line 11
	main::scenario("First request", CODE(0x5652fa76f9c0)) called at t/01_server_side.t line 31
Secret string too short at /home/cpansand/.cpan/build/2018012103/HTTP-Session2-1.09-0/blib/lib/HTTP/Session2/Base.pm line 79.
	HTTP::Session2::Base::__ANON__(HTTP::Session2::ServerStore=HASH(0x5652fa970a58), "s3cret") called at t/01_server_side.t line 40
	main::__ANON__("client -> server: request without cookie", CODE(0x5652fa970998)) called at t/01_server_side.t line 42
	main::__ANON__() called at /opt/perl-5.27.8/lib/site_perl/5.27.8/Test/Builder.pm line 337
	eval {...} called at /opt/perl-5.27.8/lib/site_perl/5.27.8/Test/Builder.pm line 337
	Test::Builder::subtest(Test::Builder=HASH(0x5652fa094c30), "Store something without login", CODE(0x5652fa94a778)) called at /opt/perl-5.27.8/lib/site_perl/5.27.8/Test/More.pm line 807
	Test::More::subtest("Store something without login", CODE(0x5652fa94a778)) called at t/01_server_side.t line 11
	main::scenario("Store something without login", CODE(0x5652fa94a778)) called at t/01_server_side.t line 58
Secret string too short at /home/cpansand/.cpan/build/2018012103/HTTP-Session2-1.09-0/blib/lib/HTTP/Session2/Base.pm line 79.
	HTTP::Session2::Base::__ANON__(HTTP::Session2::ServerStore=HASH(0x5652fa97fb30), "s3cret") called at t/01_server_side.t line 70
	main::__ANON__("client -> server: request without cookie", CODE(0x5652fa976628)) called at t/01_server_side.t line 72
	main::__ANON__() called at /opt/perl-5.27.8/lib/site_perl/5.27.8/Test/Builder.pm line 337
	eval {...} called at /opt/perl-5.27.8/lib/site_perl/5.27.8/Test/Builder.pm line 337
	Test::Builder::subtest(Test::Builder=HASH(0x5652fa094c30), "Login", CODE(0x5652fa94aa60)) called at /opt/perl-5.27.8/lib/site_perl/5.27.8/Test/More.pm line 807
	Test::More::subtest("Login", CODE(0x5652fa94aa60)) called at t/01_server_side.t line 11
	main::scenario("Login", CODE(0x5652fa94aa60)) called at t/01_server_side.t line 96
Secret string too short at /home/cpansand/.cpan/build/2018012103/HTTP-Session2-1.09-0/blib/lib/HTTP/Session2/Base.pm line 79.
	HTTP::Session2::Base::__ANON__(HTTP::Session2::ServerStore=HASH(0x5652fa9893d8), "s3cret") called at t/01_server_side.t line 108
	main::__ANON__("client -> server: request without cookie", CODE(0x5652fa987320)) called at t/01_server_side.t line 110
	main::__ANON__() called at /opt/perl-5.27.8/lib/site_perl/5.27.8/Test/Builder.pm line 337
	eval {...} called at /opt/perl-5.27.8/lib/site_perl/5.27.8/Test/Builder.pm line 337
	Test::Builder::subtest(Test::Builder=HASH(0x5652fa094c30), "In a login session", CODE(0x5652fa957d38)) called at /opt/perl-5.27.8/lib/site_perl/5.27.8/Test/More.pm line 807
	Test::More::subtest("In a login session", CODE(0x5652fa957d38)) called at t/01_server_side.t line 11
	main::scenario("In a login session", CODE(0x5652fa957d38)) called at t/01_server_side.t line 124
Secret string too short at /home/cpansand/.cpan/build/2018012103/HTTP-Session2-1.09-0/blib/lib/HTTP/Session2/Base.pm line 79.
	HTTP::Session2::Base::__ANON__(HTTP::Session2::ServerStore=HASH(0x5652fa98c378), "s3cret") called at t/01_server_side.t line 131
	main::__ANON__("client -> server: request without cookie", CODE(0x5652fa98bc88)) called at t/01_server_side.t line 138
	main::__ANON__() called at /opt/perl-5.27.8/lib/site_perl/5.27.8/Test/Builder.pm line 337
	eval {...} called at /opt/perl-5.27.8/lib/site_perl/5.27.8/Test/Builder.pm line 337
	Test::Builder::subtest(Test::Builder=HASH(0x5652fa094c30), "Logout", CODE(0x5652fa958410)) called at /opt/perl-5.27.8/lib/site_perl/5.27.8/Test/More.pm line 807
	Test::More::subtest("Logout", CODE(0x5652fa958410)) called at t/01_server_side.t line 11
	main::scenario("Logout", CODE(0x5652fa958410)) called at t/01_server_side.t line 153
t/01_server_side.t .......... ok
Secret string too short at /home/cpansand/.cpan/build/2018012103/HTTP-Session2-1.09-0/blib/lib/HTTP/Session2/Base.pm line 79.
	HTTP::Session2::Base::__ANON__(HTTP::Session2::ClientStore=HASH(0x5612b0b54df0), "s3cret") called at t/02_client_side.t line 17
	main::__ANON__("client -> server: request without cookie", CODE(0x5612b0b54c10)) called at t/02_client_side.t line 22
	main::__ANON__() called at /opt/perl-5.27.8/lib/site_perl/5.27.8/Test/Builder.pm line 337
	eval {...} called at /opt/perl-5.27.8/lib/site_perl/5.27.8/Test/Builder.pm line 337
	Test::Builder::subtest(Test::Builder=HASH(0x5612b01ed9f0), "First request", CODE(0x5612b08eb168)) called at /opt/perl-5.27.8/lib/site_perl/5.27.8/Test/More.pm line 807
	Test::More::subtest("First request", CODE(0x5612b08eb168)) called at t/02_client_side.t line 9
	main::scenario("First request", CODE(0x5612b08eb168)) called at t/02_client_side.t line 28
Secret string too short at /home/cpansand/.cpan/build/2018012103/HTTP-Session2-1.09-0/blib/lib/HTTP/Session2/Base.pm line 79.
	HTTP::Session2::Base::__ANON__(HTTP::Session2::ClientStore=HASH(0x5612b0b5d450), "s3cret") called at t/02_client_side.t line 33
	main::__ANON__("client -> server: request without cookie", CODE(0x5612b0b5cdf0)) called at t/02_client_side.t line 38
	main::__ANON__() called at /opt/perl-5.27.8/lib/site_perl/5.27.8/Test/Builder.pm line 337
	eval {...} called at /opt/perl-5.27.8/lib/site_perl/5.27.8/Test/Builder.pm line 337
	Test::Builder::subtest(Test::Builder=HASH(0x5612b01ed9f0), "Store something without login", CODE(0x5612b0b32990)) called at /opt/perl-5.27.8/lib/site_perl/5.27.8/Test/More.pm line 807
	Test::More::subtest("Store something without login", CODE(0x5612b0b32990)) called at t/02_client_side.t line 9
	main::scenario("Store something without login", CODE(0x5612b0b32990)) called at t/02_client_side.t line 54
Do not use HTTP::Session2::ClientStore. Use HTTP::Session2::ServerStore or HTTP::Session2::ClientStore2 instead. at /home/cpansand/.cpan/build/2018012103/HTTP-Session2-1.09-0/blib/lib/HTTP/Session2/ClientStore.pm line 25.
Secret string too short at /home/cpansand/.cpan/build/2018012103/HTTP-Session2-1.09-0/blib/lib/HTTP/Session2/Base.pm line 79.
	HTTP::Session2::Base::__ANON__(HTTP::Session2::ClientStore=HASH(0x5612b0b5d288), "s3cret") called at t/02_client_side.t line 60
	main::__ANON__("client -> server: request without cookie", CODE(0x5612b0b6a250)) called at t/02_client_side.t line 66
	main::__ANON__() called at /opt/perl-5.27.8/lib/site_perl/5.27.8/Test/Builder.pm line 337
	eval {...} called at /opt/perl-5.27.8/lib/site_perl/5.27.8/Test/Builder.pm line 337
	Test::Builder::subtest(Test::Builder=HASH(0x5612b01ed9f0), "Login", CODE(0x5612b0b32bb8)) called at /opt/perl-5.27.8/lib/site_perl/5.27.8/Test/More.pm line 807
	Test::More::subtest("Login", CODE(0x5612b0b32bb8)) called at t/02_client_side.t line 9
	main::scenario("Login", CODE(0x5612b0b32bb8)) called at t/02_client_side.t line 86
Do not use HTTP::Session2::ClientStore. Use HTTP::Session2::ServerStore or HTTP::Session2::ClientStore2 instead. at /home/cpansand/.cpan/build/2018012103/HTTP-Session2-1.09-0/blib/lib/HTTP/Session2/ClientStore.pm line 35.
Do not use HTTP::Session2::ClientStore. Use HTTP::Session2::ServerStore or HTTP::Session2::ClientStore2 instead. at /home/cpansand/.cpan/build/2018012103/HTTP-Session2-1.09-0/blib/lib/HTTP/Session2/ClientStore.pm line 25.
Secret string too short at /home/cpansand/.cpan/build/2018012103/HTTP-Session2-1.09-0/blib/lib/HTTP/Session2/Base.pm line 79.
	HTTP::Session2::Base::__ANON__(HTTP::Session2::ClientStore=HASH(0x5612b0b715e8), "s3cret") called at t/02_client_side.t line 92
	main::__ANON__("client -> server: request without cookie", CODE(0x5612b0b75cd8)) called at t/02_client_side.t line 98
	main::__ANON__() called at /opt/perl-5.27.8/lib/site_perl/5.27.8/Test/Builder.pm line 337
	eval {...} called at /opt/perl-5.27.8/lib/site_perl/5.27.8/Test/Builder.pm line 337
	Test::Builder::subtest(Test::Builder=HASH(0x5612b01ed9f0), "In a login session", CODE(0x5612b0b33080)) called at /opt/perl-5.27.8/lib/site_perl/5.27.8/Test/More.pm line 807
	Test::More::subtest("In a login session", CODE(0x5612b0b33080)) called at t/02_client_side.t line 9
	main::scenario("In a login session", CODE(0x5612b0b33080)) called at t/02_client_side.t line 107
Do not use HTTP::Session2::ClientStore. Use HTTP::Session2::ServerStore or HTTP::Session2::ClientStore2 instead. at /home/cpansand/.cpan/build/2018012103/HTTP-Session2-1.09-0/blib/lib/HTTP/Session2/ClientStore.pm line 35.
Do not use HTTP::Session2::ClientStore. Use HTTP::Session2::ServerStore or HTTP::Session2::ClientStore2 instead. at /home/cpansand/.cpan/build/2018012103/HTTP-Session2-1.09-0/blib/lib/HTTP/Session2/ClientStore.pm line 25.
Secret string too short at /home/cpansand/.cpan/build/2018012103/HTTP-Session2-1.09-0/blib/lib/HTTP/Session2/Base.pm line 79.
	HTTP::Session2::Base::__ANON__(HTTP::Session2::ClientStore=HASH(0x5612b0b75d50), "s3cret") called at t/02_client_side.t line 112
	main::__ANON__("client -> server: request without cookie", CODE(0x5612b0b77268)) called at t/02_client_side.t line 118
	main::__ANON__() called at /opt/perl-5.27.8/lib/site_perl/5.27.8/Test/Builder.pm line 337
	eval {...} called at /opt/perl-5.27.8/lib/site_perl/5.27.8/Test/Builder.pm line 337
	Test::Builder::subtest(Test::Builder=HASH(0x5612b01ed9f0), "Logout", CODE(0x5612b0b330f8)) called at /opt/perl-5.27.8/lib/site_perl/5.27.8/Test/More.pm line 807
	Test::More::subtest("Logout", CODE(0x5612b0b330f8)) called at t/02_client_side.t line 9
	main::scenario("Logout", CODE(0x5612b0b330f8)) called at t/02_client_side.t line 131
t/02_client_side.t .......... ok
Secret string too short at /home/cpansand/.cpan/build/2018012103/HTTP-Session2-1.09-0/blib/lib/HTTP/Session2/Base.pm line 79.
	HTTP::Session2::Base::__ANON__(HTTP::Session2::ServerStore=HASH(0x55c4457ca1b8), "s3cret") called at t/03_mech.t line 121
	main::server_session(HASH(0x55c4456f7990)) called at t/03_mech.t line 17
	main::__ANON__(HASH(0x55c4456f7990)) called at /opt/perl-5.27.8/lib/site_perl/5.27.8/Test/WWW/Mechanize/PSGI.pm line 43
	Test::WWW::Mechanize::PSGI::try {...} () called at /opt/perl-5.27.8/lib/site_perl/5.27.8/Try/Tiny.pm line 102
	eval {...} called at /opt/perl-5.27.8/lib/site_perl/5.27.8/Try/Tiny.pm line 93
	Try::Tiny::try(CODE(0x55c4457c9dc8), Try::Tiny::Catch=REF(0x55c444a1d150)) called at /opt/perl-5.27.8/lib/site_perl/5.27.8/Test/WWW/Mechanize/PSGI.pm line 50
	Test::WWW::Mechanize::PSGI::simple_request(Test::WWW::Mechanize::PSGI=HASH(0x55c445694070), HTTP::Request=HASH(0x55c44577abf0), undef, undef) called at /opt/perl-5.27.8/lib/site_perl/5.27.8/LWP/UserAgent.pm line 297
	LWP::UserAgent::request(Test::WWW::Mechanize::PSGI=HASH(0x55c445694070), HTTP::Request=HASH(0x55c44577abf0)) called at /opt/perl-5.27.8/lib/site_perl/5.27.8/WWW/Mechanize.pm line 1413
	WWW::Mechanize::_make_request(Test::WWW::Mechanize::PSGI=HASH(0x55c445694070), HTTP::Request=HASH(0x55c44577abf0)) called at /opt/perl-5.27.8/lib/site_perl/5.27.8/WWW/Mechanize.pm line 1253
	WWW::Mechanize::request(Test::WWW::Mechanize::PSGI=HASH(0x55c445694070), HTTP::Request=HASH(0x55c44577abf0)) called at /opt/perl-5.27.8/lib/site_perl/5.27.8/LWP/UserAgent.pm line 435
	LWP::UserAgent::get(Test::WWW::Mechanize::PSGI=HASH(0x55c445694070), "/") called at /opt/perl-5.27.8/lib/site_perl/5.27.8/WWW/Mechanize.pm line 117
	WWW::Mechanize::get(Test::WWW::Mechanize::PSGI=HASH(0x55c445694070), "/") called at /opt/perl-5.27.8/lib/site_perl/5.27.8/Test/WWW/Mechanize.pm line 160
	Test::WWW::Mechanize::get_ok(Test::WWW::Mechanize::PSGI=HASH(0x55c445694070), "/") called at t/03_mech.t line 74
Secret string too short at /home/cpansand/.cpan/build/2018012103/HTTP-Session2-1.09-0/blib/lib/HTTP/Session2/Base.pm line 79.
	HTTP::Session2::Base::__ANON__(HTTP::Session2::ServerStore=HASH(0x55c4457f8db8), "s3cret") called at t/03_mech.t line 121
	main::server_session(HASH(0x55c4457ca320)) called at t/03_mech.t line 17
	main::__ANON__(HASH(0x55c4457ca320)) called at /opt/perl-5.27.8/lib/site_perl/5.27.8/Test/WWW/Mechanize/PSGI.pm line 43
	Test::WWW::Mechanize::PSGI::try {...} () called at /opt/perl-5.27.8/lib/site_perl/5.27.8/Try/Tiny.pm line 102
	eval {...} called at /opt/perl-5.27.8/lib/site_perl/5.27.8/Try/Tiny.pm line 93
	Try::Tiny::try(CODE(0x55c4457caba8), Try::Tiny::Catch=REF(0x55c4457c9f78)) called at /opt/perl-5.27.8/lib/site_perl/5.27.8/Test/WWW/Mechanize/PSGI.pm line 50
	Test::WWW::Mechanize::PSGI::simple_request(Test::WWW::Mechanize::PSGI=HASH(0x55c445694070), HTTP::Request=HASH(0x55c4457ca728), undef, undef) called at /opt/perl-5.27.8/lib/site_perl/5.27.8/LWP/UserAgent.pm line 297
	LWP::UserAgent::request(Test::WWW::Mechanize::PSGI=HASH(0x55c445694070), HTTP::Request=HASH(0x55c4457ca728)) called at /opt/perl-5.27.8/lib/site_perl/5.27.8/WWW/Mechanize.pm line 1413
	WWW::Mechanize::_make_request(Test::WWW::Mechanize::PSGI=HASH(0x55c445694070), HTTP::Request=HASH(0x55c4457ca728)) called at /opt/perl-5.27.8/lib/site_perl/5.27.8/WWW/Mechanize.pm line 1253
	WWW::Mechanize::request(Test::WWW::Mechanize::PSGI=HASH(0x55c445694070), HTTP::Request=HASH(0x55c4457ca728)) called at /opt/perl-5.27.8/lib/site_perl/5.27.8/LWP/UserAgent.pm line 478
	LWP::UserAgent::post(Test::WWW::Mechanize::PSGI=HASH(0x55c445694070), "/wishlist?foo", HASH(0x55c44529bd58)) called at /opt/perl-5.27.8/lib/site_perl/5.27.8/Test/WWW/Mechanize.pm line 237
	Test::WWW::Mechanize::post_ok(Test::WWW::Mechanize::PSGI=HASH(0x55c445694070), "/wishlist?foo") called at t/03_mech.t line 75
Secret string too short at /home/cpansand/.cpan/build/2018012103/HTTP-Session2-1.09-0/blib/lib/HTTP/Session2/Base.pm line 79.
	HTTP::Session2::Base::__ANON__(HTTP::Session2::ServerStore=HASH(0x55c4457f9670), "s3cret") called at t/03_mech.t line 121
	main::server_session(HASH(0x55c4457f8f68)) called at t/03_mech.t line 17
	main::__ANON__(HASH(0x55c4457f8f68)) called at /opt/perl-5.27.8/lib/site_perl/5.27.8/Test/WWW/Mechanize/PSGI.pm line 43
	Test::WWW::Mechanize::PSGI::try {...} () called at /opt/perl-5.27.8/lib/site_perl/5.27.8/Try/Tiny.pm line 102
	eval {...} called at /opt/perl-5.27.8/lib/site_perl/5.27.8/Try/Tiny.pm line 93
	Try::Tiny::try(CODE(0x55c4457f8e90), Try::Tiny::Catch=REF(0x55c4457f8c98)) called at /opt/perl-5.27.8/lib/site_perl/5.27.8/Test/WWW/Mechanize/PSGI.pm line 50
	Test::WWW::Mechanize::PSGI::simple_request(Test::WWW::Mechanize::PSGI=HASH(0x55c445694070), HTTP::Request=HASH(0x55c4456c3648), undef, undef) called at /opt/perl-5.27.8/lib/site_perl/5.27.8/LWP/UserAgent.pm line 297
	LWP::UserAgent::request(Test::WWW::Mechanize::PSGI=HASH(0x55c445694070), HTTP::Request=HASH(0x55c4456c3648)) called at /opt/perl-5.27.8/lib/site_perl/5.27.8/WWW/Mechanize.pm line 1413
	WWW::Mechanize::_make_request(Test::WWW::Mechanize::PSGI=HASH(0x55c445694070), HTTP::Request=HASH(0x55c4456c3648)) called at /opt/perl-5.27.8/lib/site_perl/5.27.8/WWW/Mechanize.pm line 1253
	WWW::Mechanize::request(Test::WWW::Mechanize::PSGI=HASH(0x55c445694070), HTTP::Request=HASH(0x55c4456c3648)) called at /opt/perl-5.27.8/lib/site_perl/5.27.8/LWP/UserAgent.pm line 435
	LWP::UserAgent::get(Test::WWW::Mechanize::PSGI=HASH(0x55c445694070), "http://localhost/wishlist") called at /opt/perl-5.27.8/lib/site_perl/5.27.8/WWW/Mechanize.pm line 117
	WWW::Mechanize::get(Test::WWW::Mechanize::PSGI=HASH(0x55c445694070), "/wishlist") called at /opt/perl-5.27.8/lib/site_perl/5.27.8/Test/WWW/Mechanize.pm line 160
	Test::WWW::Mechanize::get_ok(Test::WWW::Mechanize::PSGI=HASH(0x55c445694070), "/wishlist") called at t/03_mech.t line 76
Secret string too short at /home/cpansand/.cpan/build/2018012103/HTTP-Session2-1.09-0/blib/lib/HTTP/Session2/Base.pm line 79.
	HTTP::Session2::Base::__ANON__(HTTP::Session2::ServerStore=HASH(0x55c4457f9a60), "s3cret") called at t/03_mech.t line 121
	main::server_session(HASH(0x55c4457f8f68)) called at t/03_mech.t line 17
	main::__ANON__(HASH(0x55c4457f8f68)) called at /opt/perl-5.27.8/lib/site_perl/5.27.8/Test/WWW/Mechanize/PSGI.pm line 43
	Test::WWW::Mechanize::PSGI::try {...} () called at /opt/perl-5.27.8/lib/site_perl/5.27.8/Try/Tiny.pm line 102
	eval {...} called at /opt/perl-5.27.8/lib/site_perl/5.27.8/Try/Tiny.pm line 93
	Try::Tiny::try(CODE(0x55c4457f96b8), Try::Tiny::Catch=REF(0x55c4457f9418)) called at /opt/perl-5.27.8/lib/site_perl/5.27.8/Test/WWW/Mechanize/PSGI.pm line 50
	Test::WWW::Mechanize::PSGI::simple_request(Test::WWW::Mechanize::PSGI=HASH(0x55c445694070), HTTP::Request=HASH(0x55c4457f95b0), undef, undef) called at /opt/perl-5.27.8/lib/site_perl/5.27.8/LWP/UserAgent.pm line 297
	LWP::UserAgent::request(Test::WWW::Mechanize::PSGI=HASH(0x55c445694070), HTTP::Request=HASH(0x55c4457f95b0)) called at /opt/perl-5.27.8/lib/site_perl/5.27.8/WWW/Mechanize.pm line 1413
	WWW::Mechanize::_make_request(Test::WWW::Mechanize::PSGI=HASH(0x55c445694070), HTTP::Request=HASH(0x55c4457f95b0)) called at /opt/perl-5.27.8/lib/site_perl/5.27.8/WWW/Mechanize.pm line 1253
	WWW::Mechanize::request(Test::WWW::Mechanize::PSGI=HASH(0x55c445694070), HTTP::Request=HASH(0x55c4457f95b0)) called at /opt/perl-5.27.8/lib/site_perl/5.27.8/LWP/UserAgent.pm line 478
	LWP::UserAgent::post(Test::WWW::Mechanize::PSGI=HASH(0x55c445694070), "/wishlist?bar") called at t/03_mech.t line 78
Secret string too short at /home/cpansand/.cpan/build/2018012103/HTTP-Session2-1.09-0/blib/lib/HTTP/Session2/Base.pm line 79.
	HTTP::Session2::Base::__ANON__(HTTP::Session2::ServerStore=HASH(0x55c445803538), "s3cret") called at t/03_mech.t line 121
	main::server_session(HASH(0x55c4457f8d10)) called at t/03_mech.t line 17
	main::__ANON__(HASH(0x55c4457f8d10)) called at /opt/perl-5.27.8/lib/site_perl/5.27.8/Test/WWW/Mechanize/PSGI.pm line 43
	Test::WWW::Mechanize::PSGI::try {...} () called at /opt/perl-5.27.8/lib/site_perl/5.27.8/Try/Tiny.pm line 102
	eval {...} called at /opt/perl-5.27.8/lib/site_perl/5.27.8/Try/Tiny.pm line 93
	Try::Tiny::try(CODE(0x55c445803160), Try::Tiny::Catch=REF(0x55c4457f98c8)) called at /opt/perl-5.27.8/lib/site_perl/5.27.8/Test/WWW/Mechanize/PSGI.pm line 50
	Test::WWW::Mechanize::PSGI::simple_request(Test::WWW::Mechanize::PSGI=HASH(0x55c445694070), HTTP::Request=HASH(0x55c445802f50), undef, undef) called at /opt/perl-5.27.8/lib/site_perl/5.27.8/LWP/UserAgent.pm line 297
	LWP::UserAgent::request(Test::WWW::Mechanize::PSGI=HASH(0x55c445694070), HTTP::Request=HASH(0x55c445802f50)) called at /opt/perl-5.27.8/lib/site_perl/5.27.8/WWW/Mechanize.pm line 1413
	WWW::Mechanize::_make_request(Test::WWW::Mechanize::PSGI=HASH(0x55c445694070), HTTP::Request=HASH(0x55c445802f50)) called at /opt/perl-5.27.8/lib/site_perl/5.27.8/WWW/Mechanize.pm line 1253
	WWW::Mechanize::request(Test::WWW::Mechanize::PSGI=HASH(0x55c445694070), HTTP::Request=HASH(0x55c445802f50)) called at /opt/perl-5.27.8/lib/site_perl/5.27.8/LWP/UserAgent.pm line 478
	LWP::UserAgent::post(Test::WWW::Mechanize::PSGI=HASH(0x55c445694070), "/wishlist?bar", HASH(0x55c44529bd58)) called at /opt/perl-5.27.8/lib/site_perl/5.27.8/Test/WWW/Mechanize.pm line 237
	Test::WWW::Mechanize::post_ok(Test::WWW::Mechanize::PSGI=HASH(0x55c445694070), "/wishlist?bar") called at t/03_mech.t line 81
Secret string too short at /home/cpansand/.cpan/build/2018012103/HTTP-Session2-1.09-0/blib/lib/HTTP/Session2/Base.pm line 79.
	HTTP::Session2::Base::__ANON__(HTTP::Session2::ServerStore=HASH(0x55c4458037a8), "s3cret") called at t/03_mech.t line 121
	main::server_session(HASH(0x55c4458037f0)) called at t/03_mech.t line 17
	main::__ANON__(HASH(0x55c4458037f0)) called at /opt/perl-5.27.8/lib/site_perl/5.27.8/Test/WWW/Mechanize/PSGI.pm line 43
	Test::WWW::Mechanize::PSGI::try {...} () called at /opt/perl-5.27.8/lib/site_perl/5.27.8/Try/Tiny.pm line 102
	eval {...} called at /opt/perl-5.27.8/lib/site_perl/5.27.8/Try/Tiny.pm line 93
	Try::Tiny::try(CODE(0x55c4457f8ea8), Try::Tiny::Catch=REF(0x55c4457f93e8)) called at /opt/perl-5.27.8/lib/site_perl/5.27.8/Test/WWW/Mechanize/PSGI.pm line 50
	Test::WWW::Mechanize::PSGI::simple_request(Test::WWW::Mechanize::PSGI=HASH(0x55c445694070), HTTP::Request=HASH(0x55c445803070), undef, undef) called at /opt/perl-5.27.8/lib/site_perl/5.27.8/LWP/UserAgent.pm line 297
	LWP::UserAgent::request(Test::WWW::Mechanize::PSGI=HASH(0x55c445694070), HTTP::Request=HASH(0x55c445803070)) called at /opt/perl-5.27.8/lib/site_perl/5.27.8/WWW/Mechanize.pm line 1413
	WWW::Mechanize::_make_request(Test::WWW::Mechanize::PSGI=HASH(0x55c445694070), HTTP::Request=HASH(0x55c445803070)) called at /opt/perl-5.27.8/lib/site_perl/5.27.8/WWW/Mechanize.pm line 1253
	WWW::Mechanize::request(Test::WWW::Mechanize::PSGI=HASH(0x55c445694070), HTTP::Request=HASH(0x55c445803070)) called at /opt/perl-5.27.8/lib/site_perl/5.27.8/LWP/UserAgent.pm line 435
	LWP::UserAgent::get(Test::WWW::Mechanize::PSGI=HASH(0x55c445694070), "http://localhost/wishlist") called at /opt/perl-5.27.8/lib/site_perl/5.27.8/WWW/Mechanize.pm line 117
	WWW::Mechanize::get(Test::WWW::Mechanize::PSGI=HASH(0x55c445694070), "/wishlist") called at /opt/perl-5.27.8/lib/site_perl/5.27.8/Test/WWW/Mechanize.pm line 160
	Test::WWW::Mechanize::get_ok(Test::WWW::Mechanize::PSGI=HASH(0x55c445694070), "/wishlist") called at t/03_mech.t line 82
Secret string too short at /home/cpansand/.cpan/build/2018012103/HTTP-Session2-1.09-0/blib/lib/HTTP/Session2/Base.pm line 79.
	HTTP::Session2::Base::__ANON__(HTTP::Session2::ServerStore=HASH(0x55c445803b38), "s3cret") called at t/03_mech.t line 121
	main::server_session(HASH(0x55c4458036d0)) called at t/03_mech.t line 17
	main::__ANON__(HASH(0x55c4458036d0)) called at /opt/perl-5.27.8/lib/site_perl/5.27.8/Test/WWW/Mechanize/PSGI.pm line 43
	Test::WWW::Mechanize::PSGI::try {...} () called at /opt/perl-5.27.8/lib/site_perl/5.27.8/Try/Tiny.pm line 102
	eval {...} called at /opt/perl-5.27.8/lib/site_perl/5.27.8/Try/Tiny.pm line 93
	Try::Tiny::try(CODE(0x55c445803910), Try::Tiny::Catch=REF(0x55c445803568)) called at /opt/perl-5.27.8/lib/site_perl/5.27.8/Test/WWW/Mechanize/PSGI.pm line 50
	Test::WWW::Mechanize::PSGI::simple_request(Test::WWW::Mechanize::PSGI=HASH(0x55c445694070), HTTP::Request=HASH(0x55c445802fb0), undef, undef) called at /opt/perl-5.27.8/lib/site_perl/5.27.8/LWP/UserAgent.pm line 297
	LWP::UserAgent::request(Test::WWW::Mechanize::PSGI=HASH(0x55c445694070), HTTP::Request=HASH(0x55c445802fb0)) called at /opt/perl-5.27.8/lib/site_perl/5.27.8/WWW/Mechanize.pm line 1413
	WWW::Mechanize::_make_request(Test::WWW::Mechanize::PSGI=HASH(0x55c445694070), HTTP::Request=HASH(0x55c445802fb0)) called at /opt/perl-5.27.8/lib/site_perl/5.27.8/WWW/Mechanize.pm line 1253
	WWW::Mechanize::request(Test::WWW::Mechanize::PSGI=HASH(0x55c445694070), HTTP::Request=HASH(0x55c445802fb0)) called at /opt/perl-5.27.8/lib/site_perl/5.27.8/LWP/UserAgent.pm line 478
	LWP::UserAgent::post(Test::WWW::Mechanize::PSGI=HASH(0x55c445694070), "/account/login?john", HASH(0x55c44529bd58)) called at /opt/perl-5.27.8/lib/site_perl/5.27.8/Test/WWW/Mechanize.pm line 237
	Test::WWW::Mechanize::post_ok(Test::WWW::Mechanize::PSGI=HASH(0x55c445694070), "/account/login?john") called at t/03_mech.t line 84
Secret string too short at /home/cpansand/.cpan/build/2018012103/HTTP-Session2-1.09-0/blib/lib/HTTP/Session2/Base.pm line 79.
	HTTP::Session2::Base::__ANON__(HTTP::Session2::ServerStore=HASH(0x55c445803b98), "s3cret") called at t/03_mech.t line 121
	main::server_session(HASH(0x55c445808d30)) called at t/03_mech.t line 17
	main::__ANON__(HASH(0x55c445808d30)) called at /opt/perl-5.27.8/lib/site_perl/5.27.8/Test/WWW/Mechanize/PSGI.pm line 43
	Test::WWW::Mechanize::PSGI::try {...} () called at /opt/perl-5.27.8/lib/site_perl/5.27.8/Try/Tiny.pm line 102
	eval {...} called at /opt/perl-5.27.8/lib/site_perl/5.27.8/Try/Tiny.pm line 93
	Try::Tiny::try(CODE(0x55c445803478), Try::Tiny::Catch=REF(0x55c445803d60)) called at /opt/perl-5.27.8/lib/site_perl/5.27.8/Test/WWW/Mechanize/PSGI.pm line 50
	Test::WWW::Mechanize::PSGI::simple_request(Test::WWW::Mechanize::PSGI=HASH(0x55c445694070), HTTP::Request=HASH(0x55c445803838), undef, undef) called at /opt/perl-5.27.8/lib/site_perl/5.27.8/LWP/UserAgent.pm line 297
	LWP::UserAgent::request(Test::WWW::Mechanize::PSGI=HASH(0x55c445694070), HTTP::Request=HASH(0x55c445803838)) called at /opt/perl-5.27.8/lib/site_perl/5.27.8/WWW/Mechanize.pm line 1413
	WWW::Mechanize::_make_request(Test::WWW::Mechanize::PSGI=HASH(0x55c445694070), HTTP::Request=HASH(0x55c445803838)) called at /opt/perl-5.27.8/lib/site_perl/5.27.8/WWW/Mechanize.pm line 1253
	WWW::Mechanize::request(Test::WWW::Mechanize::PSGI=HASH(0x55c445694070), HTTP::Request=HASH(0x55c445803838)) called at /opt/perl-5.27.8/lib/site_perl/5.27.8/LWP/UserAgent.pm line 435
	LWP::UserAgent::get(Test::WWW::Mechanize::PSGI=HASH(0x55c445694070), "http://localhost/wishlist") called at /opt/perl-5.27.8/lib/site_perl/5.27.8/WWW/Mechanize.pm line 117
	WWW::Mechanize::get(Test::WWW::Mechanize::PSGI=HASH(0x55c445694070), "/wishlist") called at /opt/perl-5.27.8/lib/site_perl/5.27.8/Test/WWW/Mechanize.pm line 160
	Test::WWW::Mechanize::get_ok(Test::WWW::Mechanize::PSGI=HASH(0x55c445694070), "/wishlist", "Wishlist is still available") called at t/03_mech.t line 85
Secret string too short at /home/cpansand/.cpan/build/2018012103/HTTP-Session2-1.09-0/blib/lib/HTTP/Session2/Base.pm line 79.
	HTTP::Session2::Base::__ANON__(HTTP::Session2::ServerStore=HASH(0x55c445809288), "s3cret") called at t/03_mech.t line 121
	main::server_session(HASH(0x55c445809300)) called at t/03_mech.t line 17
	main::__ANON__(HASH(0x55c445809300)) called at /opt/perl-5.27.8/lib/site_perl/5.27.8/Test/WWW/Mechanize/PSGI.pm line 43
	Test::WWW::Mechanize::PSGI::try {...} () called at /opt/perl-5.27.8/lib/site_perl/5.27.8/Try/Tiny.pm line 102
	eval {...} called at /opt/perl-5.27.8/lib/site_perl/5.27.8/Try/Tiny.pm line 93
	Try::Tiny::try(CODE(0x55c4456e3828), Try::Tiny::Catch=REF(0x55c445808c70)) called at /opt/perl-5.27.8/lib/site_perl/5.27.8/Test/WWW/Mechanize/PSGI.pm line 50
	Test::WWW::Mechanize::PSGI::simple_request(Test::WWW::Mechanize::PSGI=HASH(0x55c445694070), HTTP::Request=HASH(0x55c445809420), undef, undef) called at /opt/perl-5.27.8/lib/site_perl/5.27.8/LWP/UserAgent.pm line 297
	LWP::UserAgent::request(Test::WWW::Mechanize::PSGI=HASH(0x55c445694070), HTTP::Request=HASH(0x55c445809420)) called at /opt/perl-5.27.8/lib/site_perl/5.27.8/WWW/Mechanize.pm line 1413
	WWW::Mechanize::_make_request(Test::WWW::Mechanize::PSGI=HASH(0x55c445694070), HTTP::Request=HASH(0x55c445809420)) called at /opt/perl-5.27.8/lib/site_perl/5.27.8/WWW/Mechanize.pm line 1253
	WWW::Mechanize::request(Test::WWW::Mechanize::PSGI=HASH(0x55c445694070), HTTP::Request=HASH(0x55c445809420)) called at /opt/perl-5.27.8/lib/site_perl/5.27.8/LWP/UserAgent.pm line 478
	LWP::UserAgent::post(Test::WWW::Mechanize::PSGI=HASH(0x55c445694070), "/wishlist?baz") called at t/03_mech.t line 87
Secret string too short at /home/cpansand/.cpan/build/2018012103/HTTP-Session2-1.09-0/blib/lib/HTTP/Session2/Base.pm line 79.
	HTTP::Session2::Base::__ANON__(HTTP::Session2::ServerStore=HASH(0x55c445808d00), "s3cret") called at t/03_mech.t line 121
	main::server_session(HASH(0x55c445809150)) called at t/03_mech.t line 17
	main::__ANON__(HASH(0x55c445809150)) called at /opt/perl-5.27.8/lib/site_perl/5.27.8/Test/WWW/Mechanize/PSGI.pm line 43
	Test::WWW::Mechanize::PSGI::try {...} () called at /opt/perl-5.27.8/lib/site_perl/5.27.8/Try/Tiny.pm line 102
	eval {...} called at /opt/perl-5.27.8/lib/site_perl/5.27.8/Try/Tiny.pm line 93
	Try::Tiny::try(CODE(0x55c445809210), Try::Tiny::Catch=REF(0x55c445809030)) called at /opt/perl-5.27.8/lib/site_perl/5.27.8/Test/WWW/Mechanize/PSGI.pm line 50
	Test::WWW::Mechanize::PSGI::simple_request(Test::WWW::Mechanize::PSGI=HASH(0x55c445694070), HTTP::Request=HASH(0x55c445803d30), undef, undef) called at /opt/perl-5.27.8/lib/site_perl/5.27.8/LWP/UserAgent.pm line 297
	LWP::UserAgent::request(Test::WWW::Mechanize::PSGI=HASH(0x55c445694070), HTTP::Request=HASH(0x55c445803d30)) called at /opt/perl-5.27.8/lib/site_perl/5.27.8/WWW/Mechanize.pm line 1413
	WWW::Mechanize::_make_request(Test::WWW::Mechanize::PSGI=HASH(0x55c445694070), HTTP::Request=HASH(0x55c445803d30)) called at /opt/perl-5.27.8/lib/site_perl/5.27.8/WWW/Mechanize.pm line 1253
	WWW::Mechanize::request(Test::WWW::Mechanize::PSGI=HASH(0x55c445694070), HTTP::Request=HASH(0x55c445803d30)) called at /opt/perl-5.27.8/lib/site_perl/5.27.8/LWP/UserAgent.pm line 478
	LWP::UserAgent::post(Test::WWW::Mechanize::PSGI=HASH(0x55c445694070), "/wishlist?baz", HASH(0x55c44529bd58)) called at /opt/perl-5.27.8/lib/site_perl/5.27.8/Test/WWW/Mechanize.pm line 237
	Test::WWW::Mechanize::post_ok(Test::WWW::Mechanize::PSGI=HASH(0x55c445694070), "/wishlist?baz") called at t/03_mech.t line 90
Secret string too short at /home/cpansand/.cpan/build/2018012103/HTTP-Session2-1.09-0/blib/lib/HTTP/Session2/Base.pm line 79.
	HTTP::Session2::Base::__ANON__(HTTP::Session2::ServerStore=HASH(0x55c44580c280), "s3cret") called at t/03_mech.t line 121
	main::server_session(HASH(0x55c44580c1f0)) called at t/03_mech.t line 17
	main::__ANON__(HASH(0x55c44580c1f0)) called at /opt/perl-5.27.8/lib/site_perl/5.27.8/Test/WWW/Mechanize/PSGI.pm line 43
	Test::WWW::Mechanize::PSGI::try {...} () called at /opt/perl-5.27.8/lib/site_perl/5.27.8/Try/Tiny.pm line 102
	eval {...} called at /opt/perl-5.27.8/lib/site_perl/5.27.8/Try/Tiny.pm line 93
	Try::Tiny::try(CODE(0x55c445809660), Try::Tiny::Catch=REF(0x55c4458096a8)) called at /opt/perl-5.27.8/lib/site_perl/5.27.8/Test/WWW/Mechanize/PSGI.pm line 50
	Test::WWW::Mechanize::PSGI::simple_request(Test::WWW::Mechanize::PSGI=HASH(0x55c445694070), HTTP::Request=HASH(0x55c4458093d8), undef, undef) called at /opt/perl-5.27.8/lib/site_perl/5.27.8/LWP/UserAgent.pm line 297
	LWP::UserAgent::request(Test::WWW::Mechanize::PSGI=HASH(0x55c445694070), HTTP::Request=HASH(0x55c4458093d8)) called at /opt/perl-5.27.8/lib/site_perl/5.27.8/WWW/Mechanize.pm line 1413
	WWW::Mechanize::_make_request(Test::WWW::Mechanize::PSGI=HASH(0x55c445694070), HTTP::Request=HASH(0x55c4458093d8)) called at /opt/perl-5.27.8/lib/site_perl/5.27.8/WWW/Mechanize.pm line 1253
	WWW::Mechanize::request(Test::WWW::Mechanize::PSGI=HASH(0x55c445694070), HTTP::Request=HASH(0x55c4458093d8)) called at /opt/perl-5.27.8/lib/site_perl/5.27.8/LWP/UserAgent.pm line 435
	LWP::UserAgent::get(Test::WWW::Mechanize::PSGI=HASH(0x55c445694070), "http://localhost/wishlist") called at /opt/perl-5.27.8/lib/site_perl/5.27.8/WWW/Mechanize.pm line 117
	WWW::Mechanize::get(Test::WWW::Mechanize::PSGI=HASH(0x55c445694070), "/wishlist") called at /opt/perl-5.27.8/lib/site_perl/5.27.8/Test/WWW/Mechanize.pm line 160
	Test::WWW::Mechanize::get_ok(Test::WWW::Mechanize::PSGI=HASH(0x55c445694070), "/wishlist", "Wishlist is still available") called at t/03_mech.t line 91
Secret string too short at /home/cpansand/.cpan/build/2018012103/HTTP-Session2-1.09-0/blib/lib/HTTP/Session2/Base.pm line 79.
	HTTP::Session2::Base::__ANON__(HTTP::Session2::ServerStore=HASH(0x55c44580c8e0), "s3cret") called at t/03_mech.t line 121
	main::server_session(HASH(0x55c44580c4d8)) called at t/03_mech.t line 17
	main::__ANON__(HASH(0x55c44580c4d8)) called at /opt/perl-5.27.8/lib/site_perl/5.27.8/Test/WWW/Mechanize/PSGI.pm line 43
	Test::WWW::Mechanize::PSGI::try {...} () called at /opt/perl-5.27.8/lib/site_perl/5.27.8/Try/Tiny.pm line 102
	eval {...} called at /opt/perl-5.27.8/lib/site_perl/5.27.8/Try/Tiny.pm line 93
	Try::Tiny::try(CODE(0x55c44580c4a8), Try::Tiny::Catch=REF(0x55c4458096d8)) called at /opt/perl-5.27.8/lib/site_perl/5.27.8/Test/WWW/Mechanize/PSGI.pm line 50
	Test::WWW::Mechanize::PSGI::simple_request(Test::WWW::Mechanize::PSGI=HASH(0x55c445694070), HTTP::Request=HASH(0x55c445809588), undef, undef) called at /opt/perl-5.27.8/lib/site_perl/5.27.8/LWP/UserAgent.pm line 297
	LWP::UserAgent::request(Test::WWW::Mechanize::PSGI=HASH(0x55c445694070), HTTP::Request=HASH(0x55c445809588)) called at /opt/perl-5.27.8/lib/site_perl/5.27.8/WWW/Mechanize.pm line 1413
	WWW::Mechanize::_make_request(Test::WWW::Mechanize::PSGI=HASH(0x55c445694070), HTTP::Request=HASH(0x55c445809588)) called at /opt/perl-5.27.8/lib/site_perl/5.27.8/WWW/Mechanize.pm line 1253
	WWW::Mechanize::request(Test::WWW::Mechanize::PSGI=HASH(0x55c445694070), HTTP::Request=HASH(0x55c445809588)) called at /opt/perl-5.27.8/lib/site_perl/5.27.8/LWP/UserAgent.pm line 435
	LWP::UserAgent::get(Test::WWW::Mechanize::PSGI=HASH(0x55c445694070), "http://localhost/my/name") called at /opt/perl-5.27.8/lib/site_perl/5.27.8/WWW/Mechanize.pm line 117
	WWW::Mechanize::get(Test::WWW::Mechanize::PSGI=HASH(0x55c445694070), "/my/name") called at /opt/perl-5.27.8/lib/site_perl/5.27.8/Test/WWW/Mechanize.pm line 160
	Test::WWW::Mechanize::get_ok(Test::WWW::Mechanize::PSGI=HASH(0x55c445694070), "/my/name") called at t/03_mech.t line 93
Secret string too short at /home/cpansand/.cpan/build/2018012103/HTTP-Session2-1.09-0/blib/lib/HTTP/Session2/Base.pm line 79.
	HTTP::Session2::Base::__ANON__(HTTP::Session2::ServerStore=HASH(0x55c44580cbf8), "s3cret") called at t/03_mech.t line 121
	main::server_session(HASH(0x55c44580cb38)) called at t/03_mech.t line 17
	main::__ANON__(HASH(0x55c44580cb38)) called at /opt/perl-5.27.8/lib/site_perl/5.27.8/Test/WWW/Mechanize/PSGI.pm line 43
	Test::WWW::Mechanize::PSGI::try {...} () called at /opt/perl-5.27.8/lib/site_perl/5.27.8/Try/Tiny.pm line 102
	eval {...} called at /opt/perl-5.27.8/lib/site_perl/5.27.8/Try/Tiny.pm line 93
	Try::Tiny::try(CODE(0x55c44580c6a0), Try::Tiny::Catch=REF(0x55c44580c628)) called at /opt/perl-5.27.8/lib/site_perl/5.27.8/Test/WWW/Mechanize/PSGI.pm line 50
	Test::WWW::Mechanize::PSGI::simple_request(Test::WWW::Mechanize::PSGI=HASH(0x55c445694070), HTTP::Request=HASH(0x55c44580c5c8), undef, undef) called at /opt/perl-5.27.8/lib/site_perl/5.27.8/LWP/UserAgent.pm line 297
	LWP::UserAgent::request(Test::WWW::Mechanize::PSGI=HASH(0x55c445694070), HTTP::Request=HASH(0x55c44580c5c8)) called at /opt/perl-5.27.8/lib/site_perl/5.27.8/WWW/Mechanize.pm line 1413
	WWW::Mechanize::_make_request(Test::WWW::Mechanize::PSGI=HASH(0x55c445694070), HTTP::Request=HASH(0x55c44580c5c8)) called at /opt/perl-5.27.8/lib/site_perl/5.27.8/WWW/Mechanize.pm line 1253
	WWW::Mechanize::request(Test::WWW::Mechanize::PSGI=HASH(0x55c445694070), HTTP::Request=HASH(0x55c44580c5c8)) called at /opt/perl-5.27.8/lib/site_perl/5.27.8/LWP/UserAgent.pm line 478
	LWP::UserAgent::post(Test::WWW::Mechanize::PSGI=HASH(0x55c445694070), "/account/logout?john") called at t/03_mech.t line 97
Secret string too short at /home/cpansand/.cpan/build/2018012103/HTTP-Session2-1.09-0/blib/lib/HTTP/Session2/Base.pm line 79.
	HTTP::Session2::Base::__ANON__(HTTP::Session2::ClientStore=HASH(0x55c4457ca830), "s3cret") called at t/03_mech.t line 127
	main::client_session(HASH(0x55c44580c8e0)) called at t/03_mech.t line 17
	main::__ANON__(HASH(0x55c44580c8e0)) called at /opt/perl-5.27.8/lib/site_perl/5.27.8/Test/WWW/Mechanize/PSGI.pm line 43
	Test::WWW::Mechanize::PSGI::try {...} () called at /opt/perl-5.27.8/lib/site_perl/5.27.8/Try/Tiny.pm line 102
	eval {...} called at /opt/perl-5.27.8/lib/site_perl/5.27.8/Try/Tiny.pm line 93
	Try::Tiny::try(CODE(0x55c445743e68), Try::Tiny::Catch=REF(0x55c44580ccd0)) called at /opt/perl-5.27.8/lib/site_perl/5.27.8/Test/WWW/Mechanize/PSGI.pm line 50
	Test::WWW::Mechanize::PSGI::simple_request(Test::WWW::Mechanize::PSGI=HASH(0x55c445694358), HTTP::Request=HASH(0x55c4457f8e30), undef, undef) called at /opt/perl-5.27.8/lib/site_perl/5.27.8/LWP/UserAgent.pm line 297
	LWP::UserAgent::request(Test::WWW::Mechanize::PSGI=HASH(0x55c445694358), HTTP::Request=HASH(0x55c4457f8e30)) called at /opt/perl-5.27.8/lib/site_perl/5.27.8/WWW/Mechanize.pm line 1413
	WWW::Mechanize::_make_request(Test::WWW::Mechanize::PSGI=HASH(0x55c445694358), HTTP::Request=HASH(0x55c4457f8e30)) called at /opt/perl-5.27.8/lib/site_perl/5.27.8/WWW/Mechanize.pm line 1253
	WWW::Mechanize::request(Test::WWW::Mechanize::PSGI=HASH(0x55c445694358), HTTP::Request=HASH(0x55c4457f8e30)) called at /opt/perl-5.27.8/lib/site_perl/5.27.8/LWP/UserAgent.pm line 435
	LWP::UserAgent::get(Test::WWW::Mechanize::PSGI=HASH(0x55c445694358), "/") called at /opt/perl-5.27.8/lib/site_perl/5.27.8/WWW/Mechanize.pm line 117
	WWW::Mechanize::get(Test::WWW::Mechanize::PSGI=HASH(0x55c445694358), "/") called at /opt/perl-5.27.8/lib/site_perl/5.27.8/Test/WWW/Mechanize.pm line 160
	Test::WWW::Mechanize::get_ok(Test::WWW::Mechanize::PSGI=HASH(0x55c445694358), "/") called at t/03_mech.t line 74
Secret string too short at /home/cpansand/.cpan/build/2018012103/HTTP-Session2-1.09-0/blib/lib/HTTP/Session2/Base.pm line 79.
	HTTP::Session2::Base::__ANON__(HTTP::Session2::ClientStore=HASH(0x55c4456c3648), "s3cret") called at t/03_mech.t line 127
	main::client_session(HASH(0x55c4457ca9e0)) called at t/03_mech.t line 17
	main::__ANON__(HASH(0x55c4457ca9e0)) called at /opt/perl-5.27.8/lib/site_perl/5.27.8/Test/WWW/Mechanize/PSGI.pm line 43
	Test::WWW::Mechanize::PSGI::try {...} () called at /opt/perl-5.27.8/lib/site_perl/5.27.8/Try/Tiny.pm line 102
	eval {...} called at /opt/perl-5.27.8/lib/site_perl/5.27.8/Try/Tiny.pm line 93
	Try::Tiny::try(CODE(0x55c4457ca4e8), Try::Tiny::Catch=REF(0x55c4456940b8)) called at /opt/perl-5.27.8/lib/site_perl/5.27.8/Test/WWW/Mechanize/PSGI.pm line 50
	Test::WWW::Mechanize::PSGI::simple_request(Test::WWW::Mechanize::PSGI=HASH(0x55c445694358), HTTP::Request=HASH(0x55c44580cda8), undef, undef) called at /opt/perl-5.27.8/lib/site_perl/5.27.8/LWP/UserAgent.pm line 297
	LWP::UserAgent::request(Test::WWW::Mechanize::PSGI=HASH(0x55c445694358), HTTP::Request=HASH(0x55c44580cda8)) called at /opt/perl-5.27.8/lib/site_perl/5.27.8/WWW/Mechanize.pm line 1413
	WWW::Mechanize::_make_request(Test::WWW::Mechanize::PSGI=HASH(0x55c445694358), HTTP::Request=HASH(0x55c44580cda8)) called at /opt/perl-5.27.8/lib/site_perl/5.27.8/WWW/Mechanize.pm line 1253
	WWW::Mechanize::request(Test::WWW::Mechanize::PSGI=HASH(0x55c445694358), HTTP::Request=HASH(0x55c44580cda8)) called at /opt/perl-5.27.8/lib/site_perl/5.27.8/LWP/UserAgent.pm line 478
	LWP::UserAgent::post(Test::WWW::Mechanize::PSGI=HASH(0x55c445694358), "/wishlist?foo", HASH(0x55c44529bd58)) called at /opt/perl-5.27.8/lib/site_perl/5.27.8/Test/WWW/Mechanize.pm line 237
	Test::WWW::Mechanize::post_ok(Test::WWW::Mechanize::PSGI=HASH(0x55c445694358), "/wishlist?foo") called at t/03_mech.t line 75
Do not use HTTP::Session2::ClientStore. Use HTTP::Session2::ServerStore or HTTP::Session2::ClientStore2 instead. at /home/cpansand/.cpan/build/2018012103/HTTP-Session2-1.09-0/blib/lib/HTTP/Session2/ClientStore.pm line 25.
Secret string too short at /home/cpansand/.cpan/build/2018012103/HTTP-Session2-1.09-0/blib/lib/HTTP/Session2/Base.pm line 79.
	HTTP::Session2::Base::__ANON__(HTTP::Session2::ClientStore=HASH(0x55c4458032e0), "s3cret") called at t/03_mech.t line 127
	main::client_session(HASH(0x55c4457f9268)) called at t/03_mech.t line 17
	main::__ANON__(HASH(0x55c4457f9268)) called at /opt/perl-5.27.8/lib/site_perl/5.27.8/Test/WWW/Mechanize/PSGI.pm line 43
	Test::WWW::Mechanize::PSGI::try {...} () called at /opt/perl-5.27.8/lib/site_perl/5.27.8/Try/Tiny.pm line 102
	eval {...} called at /opt/perl-5.27.8/lib/site_perl/5.27.8/Try/Tiny.pm line 93
	Try::Tiny::try(CODE(0x55c4457ca470), Try::Tiny::Catch=REF(0x55c4457d2048)) called at /opt/perl-5.27.8/lib/site_perl/5.27.8/Test/WWW/Mechanize/PSGI.pm line 50
	Test::WWW::Mechanize::PSGI::simple_request(Test::WWW::Mechanize::PSGI=HASH(0x55c445694358), HTTP::Request=HASH(0x55c44580c250), undef, undef) called at /opt/perl-5.27.8/lib/site_perl/5.27.8/LWP/UserAgent.pm line 297
	LWP::UserAgent::request(Test::WWW::Mechanize::PSGI=HASH(0x55c445694358), HTTP::Request=HASH(0x55c44580c250)) called at /opt/perl-5.27.8/lib/site_perl/5.27.8/WWW/Mechanize.pm line 1413
	WWW::Mechanize::_make_request(Test::WWW::Mechanize::PSGI=HASH(0x55c445694358), HTTP::Request=HASH(0x55c44580c250)) called at /opt/perl-5.27.8/lib/site_perl/5.27.8/WWW/Mechanize.pm line 1253
	WWW::Mechanize::request(Test::WWW::Mechanize::PSGI=HASH(0x55c445694358), HTTP::Request=HASH(0x55c44580c250)) called at /opt/perl-5.27.8/lib/site_perl/5.27.8/LWP/UserAgent.pm line 435
	LWP::UserAgent::get(Test::WWW::Mechanize::PSGI=HASH(0x55c445694358), "http://localhost/wishlist") called at /opt/perl-5.27.8/lib/site_perl/5.27.8/WWW/Mechanize.pm line 117
	WWW::Mechanize::get(Test::WWW::Mechanize::PSGI=HASH(0x55c445694358), "/wishlist") called at /opt/perl-5.27.8/lib/site_perl/5.27.8/Test/WWW/Mechanize.pm line 160
	Test::WWW::Mechanize::get_ok(Test::WWW::Mechanize::PSGI=HASH(0x55c445694358), "/wishlist") called at t/03_mech.t line 76
Do not use HTTP::Session2::ClientStore. Use HTTP::Session2::ServerStore or HTTP::Session2::ClientStore2 instead. at /home/cpansand/.cpan/build/2018012103/HTTP-Session2-1.09-0/blib/lib/HTTP/Session2/ClientStore.pm line 35.
Secret string too short at /home/cpansand/.cpan/build/2018012103/HTTP-Session2-1.09-0/blib/lib/HTTP/Session2/Base.pm line 79.
	HTTP::Session2::Base::__ANON__(HTTP::Session2::ClientStore=HASH(0x55c445803748), "s3cret") called at t/03_mech.t line 127
	main::client_session(HASH(0x55c4458038c8)) called at t/03_mech.t line 17
	main::__ANON__(HASH(0x55c4458038c8)) called at /opt/perl-5.27.8/lib/site_perl/5.27.8/Test/WWW/Mechanize/PSGI.pm line 43
	Test::WWW::Mechanize::PSGI::try {...} () called at /opt/perl-5.27.8/lib/site_perl/5.27.8/Try/Tiny.pm line 102
	eval {...} called at /opt/perl-5.27.8/lib/site_perl/5.27.8/Try/Tiny.pm line 93
	Try::Tiny::try(CODE(0x55c444371840), Try::Tiny::Catch=REF(0x55c4457f94d8)) called at /opt/perl-5.27.8/lib/site_perl/5.27.8/Test/WWW/Mechanize/PSGI.pm line 50
	Test::WWW::Mechanize::PSGI::simple_request(Test::WWW::Mechanize::PSGI=HASH(0x55c445694358), HTTP::Request=HASH(0x55c445803448), undef, undef) called at /opt/perl-5.27.8/lib/site_perl/5.27.8/LWP/UserAgent.pm line 297
	LWP::UserAgent::request(Test::WWW::Mechanize::PSGI=HASH(0x55c445694358), HTTP::Request=HASH(0x55c445803448)) called at /opt/perl-5.27.8/lib/site_perl/5.27.8/WWW/Mechanize.pm line 1413
	WWW::Mechanize::_make_request(Test::WWW::Mechanize::PSGI=HASH(0x55c445694358), HTTP::Request=HASH(0x55c445803448)) called at /opt/perl-5.27.8/lib/site_perl/5.27.8/WWW/Mechanize.pm line 1253
	WWW::Mechanize::request(Test::WWW::Mechanize::PSGI=HASH(0x55c445694358), HTTP::Request=HASH(0x55c445803448)) called at /opt/perl-5.27.8/lib/site_perl/5.27.8/LWP/UserAgent.pm line 478
	LWP::UserAgent::post(Test::WWW::Mechanize::PSGI=HASH(0x55c445694358), "/wishlist?bar") called at t/03_mech.t line 78
Do not use HTTP::Session2::ClientStore. Use HTTP::Session2::ServerStore or HTTP::Session2::ClientStore2 instead. at /home/cpansand/.cpan/build/2018012103/HTTP-Session2-1.09-0/blib/lib/HTTP/Session2/ClientStore.pm line 35.
Secret string too short at /home/cpansand/.cpan/build/2018012103/HTTP-Session2-1.09-0/blib/lib/HTTP/Session2/Base.pm line 79.
	HTTP::Session2::Base::__ANON__(HTTP::Session2::ClientStore=HASH(0x55c445803a78), "s3cret") called at t/03_mech.t line 127
	main::client_session(HASH(0x55c445808a90)) called at t/03_mech.t line 17
	main::__ANON__(HASH(0x55c445808a90)) called at /opt/perl-5.27.8/lib/site_perl/5.27.8/Test/WWW/Mechanize/PSGI.pm line 43
	Test::WWW::Mechanize::PSGI::try {...} () called at /opt/perl-5.27.8/lib/site_perl/5.27.8/Try/Tiny.pm line 102
	eval {...} called at /opt/perl-5.27.8/lib/site_perl/5.27.8/Try/Tiny.pm line 93
	Try::Tiny::try(CODE(0x55c445802ed8), Try::Tiny::Catch=REF(0x55c445803a30)) called at /opt/perl-5.27.8/lib/site_perl/5.27.8/Test/WWW/Mechanize/PSGI.pm line 50
	Test::WWW::Mechanize::PSGI::simple_request(Test::WWW::Mechanize::PSGI=HASH(0x55c445694358), HTTP::Request=HASH(0x55c4457ca2d8), undef, undef) called at /opt/perl-5.27.8/lib/site_perl/5.27.8/LWP/UserAgent.pm line 297
	LWP::UserAgent::request(Test::WWW::Mechanize::PSGI=HASH(0x55c445694358), HTTP::Request=HASH(0x55c4457ca2d8)) called at /opt/perl-5.27.8/lib/site_perl/5.27.8/WWW/Mechanize.pm line 1413
	WWW::Mechanize::_make_request(Test::WWW::Mechanize::PSGI=HASH(0x55c445694358), HTTP::Request=HASH(0x55c4457ca2d8)) called at /opt/perl-5.27.8/lib/site_perl/5.27.8/WWW/Mechanize.pm line 1253
	WWW::Mechanize::request(Test::WWW::Mechanize::PSGI=HASH(0x55c445694358), HTTP::Request=HASH(0x55c4457ca2d8)) called at /opt/perl-5.27.8/lib/site_perl/5.27.8/LWP/UserAgent.pm line 478
	LWP::UserAgent::post(Test::WWW::Mechanize::PSGI=HASH(0x55c445694358), "/wishlist?bar", HASH(0x55c44529bd58)) called at /opt/perl-5.27.8/lib/site_perl/5.27.8/Test/WWW/Mechanize.pm line 237
	Test::WWW::Mechanize::post_ok(Test::WWW::Mechanize::PSGI=HASH(0x55c445694358), "/wishlist?bar") called at t/03_mech.t line 81
Do not use HTTP::Session2::ClientStore. Use HTTP::Session2::ServerStore or HTTP::Session2::ClientStore2 instead. at /home/cpansand/.cpan/build/2018012103/HTTP-Session2-1.09-0/blib/lib/HTTP/Session2/ClientStore.pm line 35.
Do not use HTTP::Session2::ClientStore. Use HTTP::Session2::ServerStore or HTTP::Session2::ClientStore2 instead. at /home/cpansand/.cpan/build/2018012103/HTTP-Session2-1.09-0/blib/lib/HTTP/Session2/ClientStore.pm line 25.
Secret string too short at /home/cpansand/.cpan/build/2018012103/HTTP-Session2-1.09-0/blib/lib/HTTP/Session2/Base.pm line 79.
	HTTP::Session2::Base::__ANON__(HTTP::Session2::ClientStore=HASH(0x55c445466798), "s3cret") called at t/03_mech.t line 127
	main::client_session(HASH(0x55c4457f90d0)) called at t/03_mech.t line 17
	main::__ANON__(HASH(0x55c4457f90d0)) called at /opt/perl-5.27.8/lib/site_perl/5.27.8/Test/WWW/Mechanize/PSGI.pm line 43
	Test::WWW::Mechanize::PSGI::try {...} () called at /opt/perl-5.27.8/lib/site_perl/5.27.8/Try/Tiny.pm line 102
	eval {...} called at /opt/perl-5.27.8/lib/site_perl/5.27.8/Try/Tiny.pm line 93
	Try::Tiny::try(CODE(0x55c445802f38), Try::Tiny::Catch=REF(0x55c445803d90)) called at /opt/perl-5.27.8/lib/site_perl/5.27.8/Test/WWW/Mechanize/PSGI.pm line 50
	Test::WWW::Mechanize::PSGI::simple_request(Test::WWW::Mechanize::PSGI=HASH(0x55c445694358), HTTP::Request=HASH(0x55c445803658), undef, undef) called at /opt/perl-5.27.8/lib/site_perl/5.27.8/LWP/UserAgent.pm line 297
	LWP::UserAgent::request(Test::WWW::Mechanize::PSGI=HASH(0x55c445694358), HTTP::Request=HASH(0x55c445803658)) called at /opt/perl-5.27.8/lib/site_perl/5.27.8/WWW/Mechanize.pm line 1413
	WWW::Mechanize::_make_request(Test::WWW::Mechanize::PSGI=HASH(0x55c445694358), HTTP::Request=HASH(0x55c445803658)) called at /opt/perl-5.27.8/lib/site_perl/5.27.8/WWW/Mechanize.pm line 1253
	WWW::Mechanize::request(Test::WWW::Mechanize::PSGI=HASH(0x55c445694358), HTTP::Request=HASH(0x55c445803658)) called at /opt/perl-5.27.8/lib/site_perl/5.27.8/LWP/UserAgent.pm line 435
	LWP::UserAgent::get(Test::WWW::Mechanize::PSGI=HASH(0x55c445694358), "http://localhost/wishlist") called at /opt/perl-5.27.8/lib/site_perl/5.27.8/WWW/Mechanize.pm line 117
	WWW::Mechanize::get(Test::WWW::Mechanize::PSGI=HASH(0x55c445694358), "/wishlist") called at /opt/perl-5.27.8/lib/site_perl/5.27.8/Test/WWW/Mechanize.pm line 160
	Test::WWW::Mechanize::get_ok(Test::WWW::Mechanize::PSGI=HASH(0x55c445694358), "/wishlist") called at t/03_mech.t line 82
Do not use HTTP::Session2::ClientStore. Use HTTP::Session2::ServerStore or HTTP::Session2::ClientStore2 instead. at /home/cpansand/.cpan/build/2018012103/HTTP-Session2-1.09-0/blib/lib/HTTP/Session2/ClientStore.pm line 35.
Secret string too short at /home/cpansand/.cpan/build/2018012103/HTTP-Session2-1.09-0/blib/lib/HTTP/Session2/Base.pm line 79.
	HTTP::Session2::Base::__ANON__(HTTP::Session2::ClientStore=HASH(0x55c445808df0), "s3cret") called at t/03_mech.t line 127
	main::client_session(HASH(0x55c445809018)) called at t/03_mech.t line 17
	main::__ANON__(HASH(0x55c445809018)) called at /opt/perl-5.27.8/lib/site_perl/5.27.8/Test/WWW/Mechanize/PSGI.pm line 43
	Test::WWW::Mechanize::PSGI::try {...} () called at /opt/perl-5.27.8/lib/site_perl/5.27.8/Try/Tiny.pm line 102
	eval {...} called at /opt/perl-5.27.8/lib/site_perl/5.27.8/Try/Tiny.pm line 93
	Try::Tiny::try(CODE(0x55c4457f90e8), Try::Tiny::Catch=REF(0x55c445809780)) called at /opt/perl-5.27.8/lib/site_perl/5.27.8/Test/WWW/Mechanize/PSGI.pm line 50
	Test::WWW::Mechanize::PSGI::simple_request(Test::WWW::Mechanize::PSGI=HASH(0x55c445694358), HTTP::Request=HASH(0x55c445743e08), undef, undef) called at /opt/perl-5.27.8/lib/site_perl/5.27.8/LWP/UserAgent.pm line 297
	LWP::UserAgent::request(Test::WWW::Mechanize::PSGI=HASH(0x55c445694358), HTTP::Request=HASH(0x55c445743e08)) called at /opt/perl-5.27.8/lib/site_perl/5.27.8/WWW/Mechanize.pm line 1413
	WWW::Mechanize::_make_request(Test::WWW::Mechanize::PSGI=HASH(0x55c445694358), HTTP::Request=HASH(0x55c445743e08)) called at /opt/perl-5.27.8/lib/site_perl/5.27.8/WWW/Mechanize.pm line 1253
	WWW::Mechanize::request(Test::WWW::Mechanize::PSGI=HASH(0x55c445694358), HTTP::Request=HASH(0x55c445743e08)) called at /opt/perl-5.27.8/lib/site_perl/5.27.8/LWP/UserAgent.pm line 478
	LWP::UserAgent::post(Test::WWW::Mechanize::PSGI=HASH(0x55c445694358), "/account/login?john", HASH(0x55c44529bd58)) called at /opt/perl-5.27.8/lib/site_perl/5.27.8/Test/WWW/Mechanize.pm line 237
	Test::WWW::Mechanize::post_ok(Test::WWW::Mechanize::PSGI=HASH(0x55c445694358), "/account/login?john") called at t/03_mech.t line 84
Do not use HTTP::Session2::ClientStore. Use HTTP::Session2::ServerStore or HTTP::Session2::ClientStore2 instead. at /home/cpansand/.cpan/build/2018012103/HTTP-Session2-1.09-0/blib/lib/HTTP/Session2/ClientStore.pm line 35.
Do not use HTTP::Session2::ClientStore. Use HTTP::Session2::ServerStore or HTTP::Session2::ClientStore2 instead. at /home/cpansand/.cpan/build/2018012103/HTTP-Session2-1.09-0/blib/lib/HTTP/Session2/ClientStore.pm line 35.
Do not use HTTP::Session2::ClientStore. Use HTTP::Session2::ServerStore or HTTP::Session2::ClientStore2 instead. at /home/cpansand/.cpan/build/2018012103/HTTP-Session2-1.09-0/blib/lib/HTTP/Session2/ClientStore.pm line 25.
Secret string too short at /home/cpansand/.cpan/build/2018012103/HTTP-Session2-1.09-0/blib/lib/HTTP/Session2/Base.pm line 79.
	HTTP::Session2::Base::__ANON__(HTTP::Session2::ClientStore=HASH(0x55c445803628), "s3cret") called at t/03_mech.t line 127
	main::client_session(HASH(0x55c4457f9328)) called at t/03_mech.t line 17
	main::__ANON__(HASH(0x55c4457f9328)) called at /opt/perl-5.27.8/lib/site_perl/5.27.8/Test/WWW/Mechanize/PSGI.pm line 43
	Test::WWW::Mechanize::PSGI::try {...} () called at /opt/perl-5.27.8/lib/site_perl/5.27.8/Try/Tiny.pm line 102
	eval {...} called at /opt/perl-5.27.8/lib/site_perl/5.27.8/Try/Tiny.pm line 93
	Try::Tiny::try(CODE(0x55c4458032f8), Try::Tiny::Catch=REF(0x55c445809180)) called at /opt/perl-5.27.8/lib/site_perl/5.27.8/Test/WWW/Mechanize/PSGI.pm line 50
	Test::WWW::Mechanize::PSGI::simple_request(Test::WWW::Mechanize::PSGI=HASH(0x55c445694358), HTTP::Request=HASH(0x55c445803af0), undef, undef) called at /opt/perl-5.27.8/lib/site_perl/5.27.8/LWP/UserAgent.pm line 297
	LWP::UserAgent::request(Test::WWW::Mechanize::PSGI=HASH(0x55c445694358), HTTP::Request=HASH(0x55c445803af0)) called at /opt/perl-5.27.8/lib/site_perl/5.27.8/WWW/Mechanize.pm line 1413
	WWW::Mechanize::_make_request(Test::WWW::Mechanize::PSGI=HASH(0x55c445694358), HTTP::Request=HASH(0x55c445803af0)) called at /opt/perl-5.27.8/lib/site_perl/5.27.8/WWW/Mechanize.pm line 1253
	WWW::Mechanize::request(Test::WWW::Mechanize::PSGI=HASH(0x55c445694358), HTTP::Request=HASH(0x55c445803af0)) called at /opt/perl-5.27.8/lib/site_perl/5.27.8/LWP/UserAgent.pm line 435
	LWP::UserAgent::get(Test::WWW::Mechanize::PSGI=HASH(0x55c445694358), "http://localhost/wishlist") called at /opt/perl-5.27.8/lib/site_perl/5.27.8/WWW/Mechanize.pm line 117
	WWW::Mechanize::get(Test::WWW::Mechanize::PSGI=HASH(0x55c445694358), "/wishlist") called at /opt/perl-5.27.8/lib/site_perl/5.27.8/Test/WWW/Mechanize.pm line 160
	Test::WWW::Mechanize::get_ok(Test::WWW::Mechanize::PSGI=HASH(0x55c445694358), "/wishlist", "Wishlist is still available") called at t/03_mech.t line 85
Do not use HTTP::Session2::ClientStore. Use HTTP::Session2::ServerStore or HTTP::Session2::ClientStore2 instead. at /home/cpansand/.cpan/build/2018012103/HTTP-Session2-1.09-0/blib/lib/HTTP/Session2/ClientStore.pm line 35.
Secret string too short at /home/cpansand/.cpan/build/2018012103/HTTP-Session2-1.09-0/blib/lib/HTTP/Session2/Base.pm line 79.
	HTTP::Session2::Base::__ANON__(HTTP::Session2::ClientStore=HASH(0x55c44580c958), "s3cret") called at t/03_mech.t line 127
	main::client_session(HASH(0x55c44580c8c8)) called at t/03_mech.t line 17
	main::__ANON__(HASH(0x55c44580c8c8)) called at /opt/perl-5.27.8/lib/site_perl/5.27.8/Test/WWW/Mechanize/PSGI.pm line 43
	Test::WWW::Mechanize::PSGI::try {...} () called at /opt/perl-5.27.8/lib/site_perl/5.27.8/Try/Tiny.pm line 102
	eval {...} called at /opt/perl-5.27.8/lib/site_perl/5.27.8/Try/Tiny.pm line 93
	Try::Tiny::try(CODE(0x55c4458033b8), Try::Tiny::Catch=REF(0x55c44580c868)) called at /opt/perl-5.27.8/lib/site_perl/5.27.8/Test/WWW/Mechanize/PSGI.pm line 50
	Test::WWW::Mechanize::PSGI::simple_request(Test::WWW::Mechanize::PSGI=HASH(0x55c445694358), HTTP::Request=HASH(0x55c44580cca0), undef, undef) called at /opt/perl-5.27.8/lib/site_perl/5.27.8/LWP/UserAgent.pm line 297
	LWP::UserAgent::request(Test::WWW::Mechanize::PSGI=HASH(0x55c445694358), HTTP::Request=HASH(0x55c44580cca0)) called at /opt/perl-5.27.8/lib/site_perl/5.27.8/WWW/Mechanize.pm line 1413
	WWW::Mechanize::_make_request(Test::WWW::Mechanize::PSGI=HASH(0x55c445694358), HTTP::Request=HASH(0x55c44580cca0)) called at /opt/perl-5.27.8/lib/site_perl/5.27.8/WWW/Mechanize.pm line 1253
	WWW::Mechanize::request(Test::WWW::Mechanize::PSGI=HASH(0x55c445694358), HTTP::Request=HASH(0x55c44580cca0)) called at /opt/perl-5.27.8/lib/site_perl/5.27.8/LWP/UserAgent.pm line 478
	LWP::UserAgent::post(Test::WWW::Mechanize::PSGI=HASH(0x55c445694358), "/wishlist?baz") called at t/03_mech.t line 87
Do not use HTTP::Session2::ClientStore. Use HTTP::Session2::ServerStore or HTTP::Session2::ClientStore2 instead. at /home/cpansand/.cpan/build/2018012103/HTTP-Session2-1.09-0/blib/lib/HTTP/Session2/ClientStore.pm line 35.
Secret string too short at /home/cpansand/.cpan/build/2018012103/HTTP-Session2-1.09-0/blib/lib/HTTP/Session2/Base.pm line 79.
	HTTP::Session2::Base::__ANON__(HTTP::Session2::ClientStore=HASH(0x55c445809198), "s3cret") called at t/03_mech.t line 127
	main::client_session(HASH(0x55c445803958)) called at t/03_mech.t line 17
	main::__ANON__(HASH(0x55c445803958)) called at /opt/perl-5.27.8/lib/site_perl/5.27.8/Test/WWW/Mechanize/PSGI.pm line 43
	Test::WWW::Mechanize::PSGI::try {...} () called at /opt/perl-5.27.8/lib/site_perl/5.27.8/Try/Tiny.pm line 102
	eval {...} called at /opt/perl-5.27.8/lib/site_perl/5.27.8/Try/Tiny.pm line 93
	Try::Tiny::try(CODE(0x55c4458094e0), Try::Tiny::Catch=REF(0x55c4457ca548)) called at /opt/perl-5.27.8/lib/site_perl/5.27.8/Test/WWW/Mechanize/PSGI.pm line 50
	Test::WWW::Mechanize::PSGI::simple_request(Test::WWW::Mechanize::PSGI=HASH(0x55c445694358), HTTP::Request=HASH(0x55c445809660), undef, undef) called at /opt/perl-5.27.8/lib/site_perl/5.27.8/LWP/UserAgent.pm line 297
	LWP::UserAgent::request(Test::WWW::Mechanize::PSGI=HASH(0x55c445694358), HTTP::Request=HASH(0x55c445809660)) called at /opt/perl-5.27.8/lib/site_perl/5.27.8/WWW/Mechanize.pm line 1413
	WWW::Mechanize::_make_request(Test::WWW::Mechanize::PSGI=HASH(0x55c445694358), HTTP::Request=HASH(0x55c445809660)) called at /opt/perl-5.27.8/lib/site_perl/5.27.8/WWW/Mechanize.pm line 1253
	WWW::Mechanize::request(Test::WWW::Mechanize::PSGI=HASH(0x55c445694358), HTTP::Request=HASH(0x55c445809660)) called at /opt/perl-5.27.8/lib/site_perl/5.27.8/LWP/UserAgent.pm line 478
	LWP::UserAgent::post(Test::WWW::Mechanize::PSGI=HASH(0x55c445694358), "/wishlist?baz", HASH(0x55c44529bd58)) called at /opt/perl-5.27.8/lib/site_perl/5.27.8/Test/WWW/Mechanize.pm line 237
	Test::WWW::Mechanize::post_ok(Test::WWW::Mechanize::PSGI=HASH(0x55c445694358), "/wishlist?baz") called at t/03_mech.t line 90
Do not use HTTP::Session2::ClientStore. Use HTTP::Session2::ServerStore or HTTP::Session2::ClientStore2 instead. at /home/cpansand/.cpan/build/2018012103/HTTP-Session2-1.09-0/blib/lib/HTTP/Session2/ClientStore.pm line 35.
Do not use HTTP::Session2::ClientStore. Use HTTP::Session2::ServerStore or HTTP::Session2::ClientStore2 instead. at /home/cpansand/.cpan/build/2018012103/HTTP-Session2-1.09-0/blib/lib/HTTP/Session2/ClientStore.pm line 25.
Secret string too short at /home/cpansand/.cpan/build/2018012103/HTTP-Session2-1.09-0/blib/lib/HTTP/Session2/Base.pm line 79.
	HTTP::Session2::Base::__ANON__(HTTP::Session2::ClientStore=HASH(0x55c4458120e0), "s3cret") called at t/03_mech.t line 127
	main::client_session(HASH(0x55c4457f8d58)) called at t/03_mech.t line 17
	main::__ANON__(HASH(0x55c4457f8d58)) called at /opt/perl-5.27.8/lib/site_perl/5.27.8/Test/WWW/Mechanize/PSGI.pm line 43
	Test::WWW::Mechanize::PSGI::try {...} () called at /opt/perl-5.27.8/lib/site_perl/5.27.8/Try/Tiny.pm line 102
	eval {...} called at /opt/perl-5.27.8/lib/site_perl/5.27.8/Try/Tiny.pm line 93
	Try::Tiny::try(CODE(0x55c4458098d0), Try::Tiny::Catch=REF(0x55c445694010)) called at /opt/perl-5.27.8/lib/site_perl/5.27.8/Test/WWW/Mechanize/PSGI.pm line 50
	Test::WWW::Mechanize::PSGI::simple_request(Test::WWW::Mechanize::PSGI=HASH(0x55c445694358), HTTP::Request=HASH(0x55c445811f60), undef, undef) called at /opt/perl-5.27.8/lib/site_perl/5.27.8/LWP/UserAgent.pm line 297
	LWP::UserAgent::request(Test::WWW::Mechanize::PSGI=HASH(0x55c445694358), HTTP::Request=HASH(0x55c445811f60)) called at /opt/perl-5.27.8/lib/site_perl/5.27.8/WWW/Mechanize.pm line 1413
	WWW::Mechanize::_make_request(Test::WWW::Mechanize::PSGI=HASH(0x55c445694358), HTTP::Request=HASH(0x55c445811f60)) called at /opt/perl-5.27.8/lib/site_perl/5.27.8/WWW/Mechanize.pm line 1253
	WWW::Mechanize::request(Test::WWW::Mechanize::PSGI=HASH(0x55c445694358), HTTP::Request=HASH(0x55c445811f60)) called at /opt/perl-5.27.8/lib/site_perl/5.27.8/LWP/UserAgent.pm line 435
	LWP::UserAgent::get(Test::WWW::Mechanize::PSGI=HASH(0x55c445694358), "http://localhost/wishlist") called at /opt/perl-5.27.8/lib/site_perl/5.27.8/WWW/Mechanize.pm line 117
	WWW::Mechanize::get(Test::WWW::Mechanize::PSGI=HASH(0x55c445694358), "/wishlist") called at /opt/perl-5.27.8/lib/site_perl/5.27.8/Test/WWW/Mechanize.pm line 160
	Test::WWW::Mechanize::get_ok(Test::WWW::Mechanize::PSGI=HASH(0x55c445694358), "/wishlist", "Wishlist is still available") called at t/03_mech.t line 91
Do not use HTTP::Session2::ClientStore. Use HTTP::Session2::ServerStore or HTTP::Session2::ClientStore2 instead. at /home/cpansand/.cpan/build/2018012103/HTTP-Session2-1.09-0/blib/lib/HTTP/Session2/ClientStore.pm line 35.
Secret string too short at /home/cpansand/.cpan/build/2018012103/HTTP-Session2-1.09-0/blib/lib/HTTP/Session2/Base.pm line 79.
	HTTP::Session2::Base::__ANON__(HTTP::Session2::ClientStore=HASH(0x55c4458126f8), "s3cret") called at t/03_mech.t line 127
	main::client_session(HASH(0x55c445811fc0)) called at t/03_mech.t line 17
	main::__ANON__(HASH(0x55c445811fc0)) called at /opt/perl-5.27.8/lib/site_perl/5.27.8/Test/WWW/Mechanize/PSGI.pm line 43
	Test::WWW::Mechanize::PSGI::try {...} () called at /opt/perl-5.27.8/lib/site_perl/5.27.8/Try/Tiny.pm line 102
	eval {...} called at /opt/perl-5.27.8/lib/site_perl/5.27.8/Try/Tiny.pm line 93
	Try::Tiny::try(CODE(0x55c44580c820), Try::Tiny::Catch=REF(0x55c445808d78)) called at /opt/perl-5.27.8/lib/site_perl/5.27.8/Test/WWW/Mechanize/PSGI.pm line 50
	Test::WWW::Mechanize::PSGI::simple_request(Test::WWW::Mechanize::PSGI=HASH(0x55c445694358), HTTP::Request=HASH(0x55c44580c0b8), undef, undef) called at /opt/perl-5.27.8/lib/site_perl/5.27.8/LWP/UserAgent.pm line 297
	LWP::UserAgent::request(Test::WWW::Mechanize::PSGI=HASH(0x55c445694358), HTTP::Request=HASH(0x55c44580c0b8)) called at /opt/perl-5.27.8/lib/site_perl/5.27.8/WWW/Mechanize.pm line 1413
	WWW::Mechanize::_make_request(Test::WWW::Mechanize::PSGI=HASH(0x55c445694358), HTTP::Request=HASH(0x55c44580c0b8)) called at /opt/perl-5.27.8/lib/site_perl/5.27.8/WWW/Mechanize.pm line 1253
	WWW::Mechanize::request(Test::WWW::Mechanize::PSGI=HASH(0x55c445694358), HTTP::Request=HASH(0x55c44580c0b8)) called at /opt/perl-5.27.8/lib/site_perl/5.27.8/LWP/UserAgent.pm line 435
	LWP::UserAgent::get(Test::WWW::Mechanize::PSGI=HASH(0x55c445694358), "http://localhost/my/name") called at /opt/perl-5.27.8/lib/site_perl/5.27.8/WWW/Mechanize.pm line 117
	WWW::Mechanize::get(Test::WWW::Mechanize::PSGI=HASH(0x55c445694358), "/my/name") called at /opt/perl-5.27.8/lib/site_perl/5.27.8/Test/WWW/Mechanize.pm line 160
	Test::WWW::Mechanize::get_ok(Test::WWW::Mechanize::PSGI=HASH(0x55c445694358), "/my/name") called at t/03_mech.t line 93
Do not use HTTP::Session2::ClientStore. Use HTTP::Session2::ServerStore or HTTP::Session2::ClientStore2 instead. at /home/cpansand/.cpan/build/2018012103/HTTP-Session2-1.09-0/blib/lib/HTTP/Session2/ClientStore.pm line 35.
Secret string too short at /home/cpansand/.cpan/build/2018012103/HTTP-Session2-1.09-0/blib/lib/HTTP/Session2/Base.pm line 79.
	HTTP::Session2::Base::__ANON__(HTTP::Session2::ClientStore=HASH(0x55c445812c98), "s3cret") called at t/03_mech.t line 127
	main::client_session(HASH(0x55c4458127e8)) called at t/03_mech.t line 17
	main::__ANON__(HASH(0x55c4458127e8)) called at /opt/perl-5.27.8/lib/site_perl/5.27.8/Test/WWW/Mechanize/PSGI.pm line 43
	Test::WWW::Mechanize::PSGI::try {...} () called at /opt/perl-5.27.8/lib/site_perl/5.27.8/Try/Tiny.pm line 102
	eval {...} called at /opt/perl-5.27.8/lib/site_perl/5.27.8/Try/Tiny.pm line 93
	Try::Tiny::try(CODE(0x55c4458128f0), Try::Tiny::Catch=REF(0x55c4458125a8)) called at /opt/perl-5.27.8/lib/site_perl/5.27.8/Test/WWW/Mechanize/PSGI.pm line 50
	Test::WWW::Mechanize::PSGI::simple_request(Test::WWW::Mechanize::PSGI=HASH(0x55c445694358), HTTP::Request=HASH(0x55c445812458), undef, undef) called at /opt/perl-5.27.8/lib/site_perl/5.27.8/LWP/UserAgent.pm line 297
	LWP::UserAgent::request(Test::WWW::Mechanize::PSGI=HASH(0x55c445694358), HTTP::Request=HASH(0x55c445812458)) called at /opt/perl-5.27.8/lib/site_perl/5.27.8/WWW/Mechanize.pm line 1413
	WWW::Mechanize::_make_request(Test::WWW::Mechanize::PSGI=HASH(0x55c445694358), HTTP::Request=HASH(0x55c445812458)) called at /opt/perl-5.27.8/lib/site_perl/5.27.8/WWW/Mechanize.pm line 1253
	WWW::Mechanize::request(Test::WWW::Mechanize::PSGI=HASH(0x55c445694358), HTTP::Request=HASH(0x55c445812458)) called at /opt/perl-5.27.8/lib/site_perl/5.27.8/LWP/UserAgent.pm line 478
	LWP::UserAgent::post(Test::WWW::Mechanize::PSGI=HASH(0x55c445694358), "/account/logout?john") called at t/03_mech.t line 97
Do not use HTTP::Session2::ClientStore. Use HTTP::Session2::ServerStore or HTTP::Session2::ClientStore2 instead. at /home/cpansand/.cpan/build/2018012103/HTTP-Session2-1.09-0/blib/lib/HTTP/Session2/ClientStore.pm line 35.
Do not use HTTP::Session2::ClientStore. Use HTTP::Session2::ServerStore or HTTP::Session2::ClientStore2 instead. at /home/cpansand/.cpan/build/2018012103/HTTP-Session2-1.09-0/blib/lib/HTTP/Session2/ClientStore.pm line 35.
t/03_mech.t ................. ok
Do not use HTTP::Session2::ClientStore. Use HTTP::Session2::ServerStore or HTTP::Session2::ClientStore2 instead. at /home/cpansand/.cpan/build/2018012103/HTTP-Session2-1.09-0/blib/lib/HTTP/Session2/ClientStore.pm line 25.
t/04_plack_response.t ....... ok
Secret string too short at /home/cpansand/.cpan/build/2018012103/HTTP-Session2-1.09-0/blib/lib/HTTP/Session2/Base.pm line 79.
	HTTP::Session2::Base::__ANON__(HTTP::Session2::ClientStore=HASH(0x56481c1a9ad8), "s3cret") called at t/05_keep_me_signed_in.t line 20
Do not use HTTP::Session2::ClientStore. Use HTTP::Session2::ServerStore or HTTP::Session2::ClientStore2 instead. at /home/cpansand/.cpan/build/2018012103/HTTP-Session2-1.09-0/blib/lib/HTTP/Session2/ClientStore.pm line 25.
t/05_keep_me_signed_in.t .... ok
Secret string too short at /home/cpansand/.cpan/build/2018012103/HTTP-Session2-1.09-0/blib/lib/HTTP/Session2/Base.pm line 79.
	HTTP::Session2::Base::__ANON__(HTTP::Session2::Base=HASH(0x560f949179c8), "i am secret") called at t/06_base_abstract.t line 7
t/06_base_abstract.t ........ ok
Secret string too short at /home/cpansand/.cpan/build/2018012103/HTTP-Session2-1.09-0/blib/lib/HTTP/Session2/Base.pm line 79.
	HTTP::Session2::Base::__ANON__(HTTP::Session2::ClientStore=HASH(0x5586679240c8), "secret") called at t/07_client_store.t line 23
	main::__ANON__() called at /opt/perl-5.27.8/lib/site_perl/5.27.8/Test/Builder.pm line 337
	eval {...} called at /opt/perl-5.27.8/lib/site_perl/5.27.8/Test/Builder.pm line 337
	Test::Builder::subtest(Test::Builder=HASH(0x558666b951b0), "get/set/remove", CODE(0x5586674ca888)) called at /opt/perl-5.27.8/lib/site_perl/5.27.8/Test/More.pm line 807
	Test::More::subtest("get/set/remove", CODE(0x5586674ca888)) called at t/07_client_store.t line 31
Secret string too short at /home/cpansand/.cpan/build/2018012103/HTTP-Session2-1.09-0/blib/lib/HTTP/Session2/Base.pm line 79.
	HTTP::Session2::Base::__ANON__(HTTP::Session2::ClientStore=HASH(0x5586672e9bb0), "secret") called at t/07_client_store.t line 35
	main::__ANON__() called at /opt/perl-5.27.8/lib/site_perl/5.27.8/Test/Builder.pm line 337
	eval {...} called at /opt/perl-5.27.8/lib/site_perl/5.27.8/Test/Builder.pm line 337
	Test::Builder::subtest(Test::Builder=HASH(0x558666b951b0), "validate_token", CODE(0x5586678ea7f8)) called at /opt/perl-5.27.8/lib/site_perl/5.27.8/Test/More.pm line 807
	Test::More::subtest("validate_token", CODE(0x5586678ea7f8)) called at t/07_client_store.t line 71
Do not use HTTP::Session2::ClientStore. Use HTTP::Session2::ServerStore or HTTP::Session2::ClientStore2 instead. at /home/cpansand/.cpan/build/2018012103/HTTP-Session2-1.09-0/blib/lib/HTTP/Session2/ClientStore.pm line 25.
Secret string too short at /home/cpansand/.cpan/build/2018012103/HTTP-Session2-1.09-0/blib/lib/HTTP/Session2/Base.pm line 79.
	HTTP::Session2::Base::__ANON__(HTTP::Session2::ClientStore=HASH(0x558667931798), "secret") called at t/07_client_store.t line 51
	main::__ANON__() called at /opt/perl-5.27.8/lib/site_perl/5.27.8/Test/Builder.pm line 337
	eval {...} called at /opt/perl-5.27.8/lib/site_perl/5.27.8/Test/Builder.pm line 337
	Test::Builder::subtest(Test::Builder=HASH(0x558666b951b0), "bad", CODE(0x558667930e98)) called at /opt/perl-5.27.8/lib/site_perl/5.27.8/Test/More.pm line 807
	Test::More::subtest("bad", CODE(0x558667930e98)) called at t/07_client_store.t line 57
	main::__ANON__() called at /opt/perl-5.27.8/lib/site_perl/5.27.8/Test/Builder.pm line 337
	eval {...} called at /opt/perl-5.27.8/lib/site_perl/5.27.8/Test/Builder.pm line 337
	Test::Builder::subtest(Test::Builder=HASH(0x558666b951b0), "validate_token", CODE(0x5586678ea7f8)) called at /opt/perl-5.27.8/lib/site_perl/5.27.8/Test/More.pm line 807
	Test::More::subtest("validate_token", CODE(0x5586678ea7f8)) called at t/07_client_store.t line 71
Do not use HTTP::Session2::ClientStore. Use HTTP::Session2::ServerStore or HTTP::Session2::ClientStore2 instead. at /home/cpansand/.cpan/build/2018012103/HTTP-Session2-1.09-0/blib/lib/HTTP/Session2/ClientStore.pm line 35.
Secret string too short at /home/cpansand/.cpan/build/2018012103/HTTP-Session2-1.09-0/blib/lib/HTTP/Session2/Base.pm line 79.
	HTTP::Session2::Base::__ANON__(HTTP::Session2::ClientStore=HASH(0x55866793b8f8), "secret") called at t/07_client_store.t line 65
	main::__ANON__() called at /opt/perl-5.27.8/lib/site_perl/5.27.8/Test/Builder.pm line 337
	eval {...} called at /opt/perl-5.27.8/lib/site_perl/5.27.8/Test/Builder.pm line 337
	Test::Builder::subtest(Test::Builder=HASH(0x558666b951b0), "good", CODE(0x558667930e98)) called at /opt/perl-5.27.8/lib/site_perl/5.27.8/Test/More.pm line 807
	Test::More::subtest("good", CODE(0x558667930e98)) called at t/07_client_store.t line 70
	main::__ANON__() called at /opt/perl-5.27.8/lib/site_perl/5.27.8/Test/Builder.pm line 337
	eval {...} called at /opt/perl-5.27.8/lib/site_perl/5.27.8/Test/Builder.pm line 337
	Test::Builder::subtest(Test::Builder=HASH(0x558666b951b0), "validate_token", CODE(0x5586678ea7f8)) called at /opt/perl-5.27.8/lib/site_perl/5.27.8/Test/More.pm line 807
	Test::More::subtest("validate_token", CODE(0x5586678ea7f8)) called at t/07_client_store.t line 71
Do not use HTTP::Session2::ClientStore. Use HTTP::Session2::ServerStore or HTTP::Session2::ClientStore2 instead. at /home/cpansand/.cpan/build/2018012103/HTTP-Session2-1.09-0/blib/lib/HTTP/Session2/ClientStore.pm line 35.
Secret string too short at /home/cpansand/.cpan/build/2018012103/HTTP-Session2-1.09-0/blib/lib/HTTP/Session2/Base.pm line 79.
	HTTP::Session2::Base::__ANON__(HTTP::Session2::ClientStore=HASH(0x55866792ec00), "secret") called at t/07_client_store.t line 76
	main::__ANON__() called at /opt/perl-5.27.8/lib/site_perl/5.27.8/Test/Builder.pm line 337
	eval {...} called at /opt/perl-5.27.8/lib/site_perl/5.27.8/Test/Builder.pm line 337
	Test::Builder::subtest(Test::Builder=HASH(0x558666b951b0), "ignore_old", CODE(0x558667911130)) called at /opt/perl-5.27.8/lib/site_perl/5.27.8/Test/More.pm line 807
	Test::More::subtest("ignore_old", CODE(0x558667911130)) called at t/07_client_store.t line 106
Do not use HTTP::Session2::ClientStore. Use HTTP::Session2::ServerStore or HTTP::Session2::ClientStore2 instead. at /home/cpansand/.cpan/build/2018012103/HTTP-Session2-1.09-0/blib/lib/HTTP/Session2/ClientStore.pm line 25.
Secret string too short at /home/cpansand/.cpan/build/2018012103/HTTP-Session2-1.09-0/blib/lib/HTTP/Session2/Base.pm line 79.
	HTTP::Session2::Base::__ANON__(HTTP::Session2::ClientStore=HASH(0x55866793f2b8), "secret") called at t/07_client_store.t line 87
	main::__ANON__() called at /opt/perl-5.27.8/lib/site_perl/5.27.8/Test/Builder.pm line 337
	eval {...} called at /opt/perl-5.27.8/lib/site_perl/5.27.8/Test/Builder.pm line 337
	Test::Builder::subtest(Test::Builder=HASH(0x558666b951b0), "ignore_old disabled", CODE(0x55866793c168)) called at /opt/perl-5.27.8/lib/site_perl/5.27.8/Test/More.pm line 807
	Test::More::subtest("ignore_old disabled", CODE(0x55866793c168)) called at t/07_client_store.t line 95
	main::__ANON__() called at /opt/perl-5.27.8/lib/site_perl/5.27.8/Test/Builder.pm line 337
	eval {...} called at /opt/perl-5.27.8/lib/site_perl/5.27.8/Test/Builder.pm line 337
	Test::Builder::subtest(Test::Builder=HASH(0x558666b951b0), "ignore_old", CODE(0x558667911130)) called at /opt/perl-5.27.8/lib/site_perl/5.27.8/Test/More.pm line 807
	Test::More::subtest("ignore_old", CODE(0x558667911130)) called at t/07_client_store.t line 106
Do not use HTTP::Session2::ClientStore. Use HTTP::Session2::ServerStore or HTTP::Session2::ClientStore2 instead. at /home/cpansand/.cpan/build/2018012103/HTTP-Session2-1.09-0/blib/lib/HTTP/Session2/ClientStore.pm line 35.
Secret string too short at /home/cpansand/.cpan/build/2018012103/HTTP-Session2-1.09-0/blib/lib/HTTP/Session2/Base.pm line 79.
	HTTP::Session2::Base::__ANON__(HTTP::Session2::ClientStore=HASH(0x558667941ce0), "secret") called at t/07_client_store.t line 97
	main::__ANON__() called at /opt/perl-5.27.8/lib/site_perl/5.27.8/Test/Builder.pm line 337
	eval {...} called at /opt/perl-5.27.8/lib/site_perl/5.27.8/Test/Builder.pm line 337
	Test::Builder::subtest(Test::Builder=HASH(0x558666b951b0), "ignore_old enabled", CODE(0x55866793c168)) called at /opt/perl-5.27.8/lib/site_perl/5.27.8/Test/More.pm line 807
	Test::More::subtest("ignore_old enabled", CODE(0x55866793c168)) called at t/07_client_store.t line 105
	main::__ANON__() called at /opt/perl-5.27.8/lib/site_perl/5.27.8/Test/Builder.pm line 337
	eval {...} called at /opt/perl-5.27.8/lib/site_perl/5.27.8/Test/Builder.pm line 337
	Test::Builder::subtest(Test::Builder=HASH(0x558666b951b0), "ignore_old", CODE(0x558667911130)) called at /opt/perl-5.27.8/lib/site_perl/5.27.8/Test/More.pm line 807
	Test::More::subtest("ignore_old", CODE(0x558667911130)) called at t/07_client_store.t line 106
t/07_client_store.t ......... ok
Secret string too short at /home/cpansand/.cpan/build/2018012103/HTTP-Session2-1.09-0/blib/lib/HTTP/Session2/Base.pm line 79.
	HTTP::Session2::Base::__ANON__(HTTP::Session2::Expired=HASH(0x55a1b66cd9a0), 33333) called at t/08_expired.t line 7
t/08_expired.t .............. ok
# /dev/urandom available
# /dev/urandom(1): HaVUlascOQSBd9MTzZF2zVeHfQicdrT
# /dev/urandom(2): TA2b114JBdL-nU3fRCMsgHtBq72qQvu
# perl:            569389ce06c0aa0d806be4ac257dedc
t/09_random.t ............... ok
t/11_secret_string.t ........ ok
Secret string too short at /home/cpansand/.cpan/build/2018012103/HTTP-Session2-1.09-0/blib/lib/HTTP/Session2/Base.pm line 79.
	HTTP::Session2::Base::__ANON__(HTTP::Session2::ClientStore2=HASH(0x5638ccae9700), "s3cret") called at t/client_store2/01_basic.t line 24
	main::__ANON__("client -> server: request without cookie", CODE(0x5638ccae9538)) called at t/client_store2/01_basic.t line 30
	main::__ANON__() called at /opt/perl-5.27.8/lib/site_perl/5.27.8/Test/Builder.pm line 337
	eval {...} called at /opt/perl-5.27.8/lib/site_perl/5.27.8/Test/Builder.pm line 337
	Test::Builder::subtest(Test::Builder=HASH(0x5638cc0f4bf0), "First request", CODE(0x5638cc0ae190)) called at /opt/perl-5.27.8/lib/site_perl/5.27.8/Test/More.pm line 807
	Test::More::subtest("First request", CODE(0x5638cc0ae190)) called at t/client_store2/01_basic.t line 9
	main::scenario("First request", CODE(0x5638cc0ae190)) called at t/client_store2/01_basic.t line 36
Secret string too short at /home/cpansand/.cpan/build/2018012103/HTTP-Session2-1.09-0/blib/lib/HTTP/Session2/Base.pm line 79.
	HTTP::Session2::Base::__ANON__(HTTP::Session2::ClientStore2=HASH(0x5638ccaf7aa8), "s3cret") called at t/client_store2/01_basic.t line 41
	main::__ANON__("client -> server: request without cookie", CODE(0x5638ccaf7c58)) called at t/client_store2/01_basic.t line 47
	main::__ANON__() called at /opt/perl-5.27.8/lib/site_perl/5.27.8/Test/Builder.pm line 337
	eval {...} called at /opt/perl-5.27.8/lib/site_perl/5.27.8/Test/Builder.pm line 337
	Test::Builder::subtest(Test::Builder=HASH(0x5638cc0f4bf0), "Store something without login", CODE(0x5638cc0ae190)) called at /opt/perl-5.27.8/lib/site_perl/5.27.8/Test/More.pm line 807
	Test::More::subtest("Store something without login", CODE(0x5638cc0ae190)) called at t/client_store2/01_basic.t line 9
	main::scenario("Store something without login", CODE(0x5638cc0ae190)) called at t/client_store2/01_basic.t line 63
Secret string too short at /home/cpansand/.cpan/build/2018012103/HTTP-Session2-1.09-0/blib/lib/HTTP/Session2/Base.pm line 79.
	HTTP::Session2::Base::__ANON__(HTTP::Session2::ClientStore2=HASH(0x5638ccaff918), "s3cret") called at t/client_store2/01_basic.t line 69
	main::__ANON__("client -> server: request without cookie", CODE(0x5638ccaffa50)) called at t/client_store2/01_basic.t line 76
	main::__ANON__() called at /opt/perl-5.27.8/lib/site_perl/5.27.8/Test/Builder.pm line 337
	eval {...} called at /opt/perl-5.27.8/lib/site_perl/5.27.8/Test/Builder.pm line 337
	Test::Builder::subtest(Test::Builder=HASH(0x5638cc0f4bf0), "Login", CODE(0x5638cc0ae190)) called at /opt/perl-5.27.8/lib/site_perl/5.27.8/Test/More.pm line 807
	Test::More::subtest("Login", CODE(0x5638cc0ae190)) called at t/client_store2/01_basic.t line 9
	main::scenario("Login", CODE(0x5638cc0ae190)) called at t/client_store2/01_basic.t line 96
Ciphertext does not begin with a valid header for 'salt' header mode at /home/cpansand/.cpan/build/2018012103/HTTP-Session2-1.09-0/blib/lib/HTTP/Session2/ClientStore2.pm line 81.
Ciphertext does not begin with a valid header for 'salt' header mode at /home/cpansand/.cpan/build/2018012103/HTTP-Session2-1.09-0/blib/lib/HTTP/Session2/ClientStore2.pm line 81.
Secret string too short at /home/cpansand/.cpan/build/2018012103/HTTP-Session2-1.09-0/blib/lib/HTTP/Session2/Base.pm line 79.
	HTTP::Session2::Base::__ANON__(HTTP::Session2::ClientStore2=HASH(0x5638ccb0d4c0), "s3cret") called at t/client_store2/01_basic.t line 102
	main::__ANON__("client -> server: request without cookie", CODE(0x5638ccb0d118)) called at t/client_store2/01_basic.t line 109
	main::__ANON__() called at /opt/perl-5.27.8/lib/site_perl/5.27.8/Test/Builder.pm line 337
	eval {...} called at /opt/perl-5.27.8/lib/site_perl/5.27.8/Test/Builder.pm line 337
	Test::Builder::subtest(Test::Builder=HASH(0x5638cc0f4bf0), "In a login session", CODE(0x5638cc0ae190)) called at /opt/perl-5.27.8/lib/site_perl/5.27.8/Test/More.pm line 807
	Test::More::subtest("In a login session", CODE(0x5638cc0ae190)) called at t/client_store2/01_basic.t line 9
	main::scenario("In a login session", CODE(0x5638cc0ae190)) called at t/client_store2/01_basic.t line 118
Ciphertext does not begin with a valid header for 'salt' header mode at /home/cpansand/.cpan/build/2018012103/HTTP-Session2-1.09-0/blib/lib/HTTP/Session2/ClientStore2.pm line 81.
Secret string too short at /home/cpansand/.cpan/build/2018012103/HTTP-Session2-1.09-0/blib/lib/HTTP/Session2/Base.pm line 79.
	HTTP::Session2::Base::__ANON__(HTTP::Session2::ClientStore2=HASH(0x5638ccb0ddc0), "s3cret") called at t/client_store2/01_basic.t line 123
	main::__ANON__("client -> server: request without cookie", CODE(0x5638ccb0f338)) called at t/client_store2/01_basic.t line 130
	main::__ANON__() called at /opt/perl-5.27.8/lib/site_perl/5.27.8/Test/Builder.pm line 337
	eval {...} called at /opt/perl-5.27.8/lib/site_perl/5.27.8/Test/Builder.pm line 337
	Test::Builder::subtest(Test::Builder=HASH(0x5638cc0f4bf0), "Logout", CODE(0x5638cc0ae190)) called at /opt/perl-5.27.8/lib/site_perl/5.27.8/Test/More.pm line 807
	Test::More::subtest("Logout", CODE(0x5638cc0ae190)) called at t/client_store2/01_basic.t line 9
	main::scenario("Logout", CODE(0x5638cc0ae190)) called at t/client_store2/01_basic.t line 143
Ciphertext does not begin with a valid header for 'salt' header mode at /home/cpansand/.cpan/build/2018012103/HTTP-Session2-1.09-0/blib/lib/HTTP/Session2/ClientStore2.pm line 81.
t/client_store2/01_basic.t .. ok
t/client_store2/02_mech.t ... ok
t/client_store2/03_colon.t .. ok
All tests successful.
Files=14, Tests=83,  1 wallclock secs ( 0.04 usr  0.07 sys +  0.92 cusr  0.21 csys =  1.24 CPU)
Result: PASS

------------------------------
PREREQUISITES
------------------------------

Prerequisite modules loaded:

requires:

    Module                     Need     Have    
    -------------------------- -------- --------
    Cookie::Baker              0        0.08    
    Crypt::CBC                 0        2.33    
    Data::MessagePack          0        1.00    
    Digest::HMAC               0        1.03    
    Digest::SHA                0        6.01    
    Digest::SHA1               0        2.13    
    MIME::Base64               3.11     3.15    
    Mouse                      0        v2.5.1  
    parent                     0        0.236   
    perl                       5.008005 5.027008
    Time::HiRes                0        1.9753  

build_requires:

    Module                     Need     Have    
    -------------------------- -------- --------
    Crypt::Rijndael            0        1.13    
    Plack::Request             0        1.0045  
    Plack::Response            0        1.0045  
    Test::More                 0.98     1.302120
    Test::WWW::Mechanize::PSGI 0        0.38    

configure_requires:

    Module                     Need     Have    
    -------------------------- -------- --------
    Module::Build              0.38     0.4224  


------------------------------
ENVIRONMENT AND OTHER CONTEXT
------------------------------

Environment variables:

    LANG = C
    LC_ALL = de_DE.UTF-8
    PATH = /usr/local/bin:/usr/bin:/bin:/usr/local/sbin:/usr/sbin:/sbin:/home/cpansand/bin/linux-gnu:/home/cpansand/bin/sh:/home/cpansand/bin:/usr/games:/home/cpansand/devel:/home/eserte/src/srezic-misc/scripts
    PERL5LIB = 
    PERL5OPT = 
    PERL5_CPANPLUS_IS_RUNNING = 487
    PERL5_CPAN_IS_RUNNING = 487
    PERL5_CPAN_IS_RUNNING_IN_RECURSION = 29813,487
    PERLDOC = -MPod::Perldoc::ToTextOverstrike
    PERL_BATCH = yes
    PERL_CANARY_STABILITY_NOPROMPT = 1
    PERL_CPAN_REPORTER_CONFIG = /var/tmp/cpansmoker-1023/2018012100/cpanreporter_000_config.ini
    PERL_EXTUTILS_AUTOINSTALL = --defaultdeps
    PERL_PARALLEL_SMOKER = yes
    PERL_USE_UNSAFE_INC = 1
    SHELL = /usr/bin/zsh
    TERM = screen
    TMPDIR = /var/tmp/cpansmoker-1023/2018012100

Perl special variables (and OS-specific diagnostics, for MSWin32):

    $^X = /opt/perl-5.27.8/bin/perl5.27.8
    $UID/$EUID = 1023 / 1023
    $GID = 1023 1023
    $EGID = 1023 1023

Perl module toolchain versions installed:

    Module              Have    
    ------------------- --------
    CPAN                2.16    
    CPAN::Meta          2.150010
    Cwd                 3.72    
    ExtUtils::CBuilder  0.280230
    ExtUtils::Command   7.30    
    ExtUtils::Install   2.14    
    ExtUtils::MakeMaker 7.30    
    ExtUtils::Manifest  1.70    
    ExtUtils::ParseXS   3.36    
    File::Spec          3.72    
    JSON                2.97001 
    JSON::PP            2.97001 
    Module::Build       0.4224  
    Module::Signature   0.81    
    Parse::CPAN::Meta   2.150010
    Test::Harness       3.39    
    Test::More          1.302120
    YAML                1.24    
    YAML::Syck          1.30    
    version             0.9918  


--

Summary of my perl5 (revision 5 version 27 subversion 8) configuration:
   
  Platform:
    osname=linux
    osvers=4.9.0-3-amd64
    archname=x86_64-linux
    uname='linux debian9 4.9.0-3-amd64 #1 smp debian 4.9.30-2+deb9u5 (2017-09-19) x86_64 gnulinux '
    config_args='-ds -e -Dprefix=/opt/perl-5.27.8 -Dusedevel -Dusemallocwrap=no -Dcf_email=srezic@cpan.org'
    hint=recommended
    useposix=true
    d_sigaction=define
    useithreads=undef
    usemultiplicity=undef
    use64bitint=define
    use64bitall=define
    uselongdouble=undef
    usemymalloc=n
    default_inc_excludes_dot=define
    bincompat5005=undef
  Compiler:
    cc='cc'
    ccflags ='-fwrapv -fno-strict-aliasing -pipe -fstack-protector-strong -I/usr/local/include -D_LARGEFILE_SOURCE -D_FILE_OFFSET_BITS=64 -D_FORTIFY_SOURCE=2'
    optimize='-O2'
    cppflags='-fwrapv -fno-strict-aliasing -pipe -fstack-protector-strong -I/usr/local/include'
    ccversion=''
    gccversion='6.3.0 20170516'
    gccosandvers=''
    intsize=4
    longsize=8
    ptrsize=8
    doublesize=8
    byteorder=12345678
    doublekind=3
    d_longlong=define
    longlongsize=8
    d_longdbl=define
    longdblsize=16
    longdblkind=3
    ivtype='long'
    ivsize=8
    nvtype='double'
    nvsize=8
    Off_t='off_t'
    lseeksize=8
    alignbytes=8
    prototype=define
  Linker and Libraries:
    ld='cc'
    ldflags =' -fstack-protector-strong -L/usr/local/lib'
    libpth=/usr/local/lib /usr/lib/gcc/x86_64-linux-gnu/6/include-fixed /usr/include/x86_64-linux-gnu /usr/lib /lib/x86_64-linux-gnu /lib/../lib /usr/lib/x86_64-linux-gnu /usr/lib/../lib /lib
    libs=-lpthread -lnsl -lgdbm -ldb -ldl -lm -lcrypt -lutil -lc -lgdbm_compat
    perllibs=-lpthread -lnsl -ldl -lm -lcrypt -lutil -lc
    libc=libc-2.24.so
    so=so
    useshrplib=false
    libperl=libperl.a
    gnulibc_version='2.24'
  Dynamic Linking:
    dlsrc=dl_dlopen.xs
    dlext=so
    d_dlsymun=undef
    ccdlflags='-Wl,-E'
    cccdlflags='-fPIC'
    lddlflags='-shared -O2 -L/usr/local/lib -fstack-protector-strong'


Characteristics of this binary (from libperl): 
  Compile-time options:
    HAS_TIMES
    PERLIO_LAYERS
    PERL_COPY_ON_WRITE
    PERL_DONT_CREATE_GVSV
    PERL_OP_PARENT
    PERL_PRESERVE_IVUV
    PERL_USE_DEVEL
    USE_64_BIT_ALL
    USE_64_BIT_INT
    USE_LARGE_FILES
    USE_LOCALE
    USE_LOCALE_COLLATE
    USE_LOCALE_CTYPE
    USE_LOCALE_NUMERIC
    USE_LOCALE_TIME
    USE_PERLIO
    USE_PERL_ATOF
  Built under linux
  Compiled at Jan 20 2018 08:22:29
  %ENV:
    PERL5LIB=""
    PERL5OPT=""
    PERL5_CPANPLUS_IS_RUNNING="487"
    PERL5_CPAN_IS_RUNNING="487"
    PERL5_CPAN_IS_RUNNING_IN_RECURSION="29813,487"
    PERLDOC="-MPod::Perldoc::ToTextOverstrike"
    PERL_BATCH="yes"
    PERL_CANARY_STABILITY_NOPROMPT="1"
    PERL_CPAN_REPORTER_CONFIG="/var/tmp/cpansmoker-1023/2018012100/cpanreporter_000_config.ini"
    PERL_EXTUTILS_AUTOINSTALL="--defaultdeps"
    PERL_PARALLEL_SMOKER="yes"
    PERL_USE_UNSAFE_INC="1"
  @INC:
    /opt/perl-5.27.8/lib/site_perl/5.27.8/x86_64-linux
    /opt/perl-5.27.8/lib/site_perl/5.27.8
    /opt/perl-5.27.8/lib/5.27.8/x86_64-linux
    /opt/perl-5.27.8/lib/5.27.8
    .