Catalyst-Authentication-Store-Proxy v0.0.1 Perl 5 v5.10.1 i86pc-solaris-64int

Status
Pass
From
Jost Krieger
Dist
Catalyst-Authentication-Store-Proxy v0.0.1
Platform
Perl 5 v5.10.1 i86pc-solaris-64int
Date
2011-11-03 12:26:05
ID
001005fe-0617-11e1-b250-d9b94d35b10c
This distribution has been tested as part of the CPAN Testers
project, supporting the Perl programming language.  See
http://wiki.cpantesters.org/ for more information or email
questions to cpan-testers-discuss@perl.org


--
Dear Moritz Onken,

This is a computer-generated report for Catalyst-Authentication-Store-Proxy-0.0.1
on perl 5.10.1, created by CPAN-Reporter-1.2002.

Thank you for uploading your work to CPAN.  Congratulations!
All tests were successful.

Sections of this report:

    * Tester comments
    * Program output
    * Prerequisites
    * Environment and other context

------------------------------
TESTER COMMENTS
------------------------------

Additional comments from tester:

this report is from an automated smoke testing program
and was not reviewed by a human for accuracy

------------------------------
PROGRAM OUTPUT
------------------------------

Output from './Build test':

t/00-compile.t ................ ok
# 
# 
# perl: v5.10.1 (wanted any version) on solaris from /export/home/cpantest/perl5/bin/perl
# 
# Catalyst::Utils                               => <undef>    (want any version)
# File::Find                                    => 1.14       (want any version)
# File::Temp                                    => 0.22       (want any version)
# Module::Build                                 => 0.38       (want 0.3601) 
# Moose                                         => 2.0205     (want any version)
# Test::More                                    => 0.98       (want 0.88)   
# strict                                        => 1.04       (want any version)
# warnings                                      => 1.06       (want any version)
# 
# Thanks for using my code.  I hope it works for you.
# If not, please try and include this output in the bug report.
# That will help me reproduce the issue and solve you problem.
# 
t/000-report-versions-tiny.t .. ok
t/release-has-version.t ....... skipped: these tests are for release candidate testing
t/release-kwalitee.t .......... skipped: these tests are for release candidate testing
t/release-minimum-version.t ... skipped: these tests are for release candidate testing
t/release-pod-coverage.t ...... skipped: these tests are for release candidate testing
t/release-pod-syntax.t ........ skipped: these tests are for release candidate testing
All tests successful.
Files=7, Tests=2,  3 wallclock secs ( 0.08 usr  0.06 sys +  0.97 cusr  0.27 csys =  1.38 CPU)
Result: PASS

------------------------------
PREREQUISITES
------------------------------

Prerequisite modules loaded:

requires:

    Module          Need   Have  
    --------------- ------ ------
    Catalyst::Utils 0      0     
    Moose           0      2.0205

build_requires:

    Module          Need   Have  
    --------------- ------ ------
    File::Find      0      1.14  
    File::Temp      0      0.22  
    Module::Build   0.3601 0.3800
    strict          0      1.04  
    Test::More      0.88   0.98  
    warnings        0      1.06  

configure_requires:

    Module          Need   Have  
    --------------- ------ ------
    Module::Build   0.3601 0.3800


------------------------------
ENVIRONMENT AND OTHER CONTEXT
------------------------------

Environment variables:

    AUTOMATED_TESTING = 1
    LANG = C
    LD_LIBRARY_PATH = /usr/local/lib:
    PATH = /export/home/cpantest/perl5/bin:/usr/local/bin:/usr/bin
    PERL5LIB = 
    PERL5OPT = 
    PERL5_CPANPLUS_IS_RUNNING = 18199
    PERL5_CPAN_IS_RUNNING = 18199
    PERL5_CPAN_IS_RUNNING_IN_RECURSION = 16635,18199
    PERL_CR_SMOKER_CURRENT = Catalyst-Authentication-Store-Proxy-0.0.1
    PERL_EXTUTILS_AUTOINSTALL = --defaultdeps
    PERL_MM_USE_DEFAULT = 1
    SHELL = /usr/bin/bash
    TERM = xterm

Perl special variables (and OS-specific diagnostics, for MSWin32):

    $^X = /export/home/cpantest/perl5/bin/perl
    $UID/$EUID = 100 / 100
    $GID = 1 1
    $EGID = 1 1

Perl module toolchain versions installed:

    Module              Have    
    ------------------- --------
    CPAN                1.9800  
    CPAN::Meta          2.112621
    Cwd                 3.33    
    ExtUtils::CBuilder  0.280202
    ExtUtils::Command   1.17    
    ExtUtils::Install   1.54    
    ExtUtils::MakeMaker 6.62    
    ExtUtils::Manifest  1.60    
    ExtUtils::ParseXS   3.05    
    File::Spec          3.33    
    JSON                2.53    
    JSON::PP            2.27200 
    Module::Build       0.3800  
    Module::Signature   n/a     
    Parse::CPAN::Meta   1.4401  
    Test::Harness       3.23    
    Test::More          0.98    
    YAML                0.77    
    YAML::Syck          1.17    
    version             0.94    


--

Summary of my perl5 (revision 5 version 10 subversion 1) configuration:
   
  Platform:
    osname=solaris, osvers=2.10, archname=i86pc-solaris-64int
    uname='sunos vmrz0046 5.10 generic_141445-09 i86pc i386 i86pc '
    config_args='-Dcc=gcc -Dprefix=~/perl5 -Duse64bitint -d'
    hint=recommended, useposix=true, d_sigaction=define
    useithreads=undef, usemultiplicity=undef
    useperlio=define, d_sfio=undef, uselargefiles=define, usesocks=undef
    use64bitint=define, use64bitall=undef, uselongdouble=undef
    usemymalloc=n, bincompat5005=undef
  Compiler:
    cc='gcc', ccflags ='-DPTR_IS_LONG -fno-strict-aliasing -pipe -I/usr/local/include -D_LARGEFILE_SOURCE -D_FILE_OFFSET_BITS=64 -DPERL_USE_SAFE_PUTENV -DPERL_USE_SAFE_PUTENV',
    optimize='-O',
    cppflags='-DPTR_IS_LONG -fno-strict-aliasing -pipe -I/usr/local/include'
    ccversion='', gccversion='3.4.6', gccosandvers='solaris2.10'
    intsize=4, longsize=4, ptrsize=4, doublesize=8, byteorder=12345678
    d_longlong=define, longlongsize=8, d_longdbl=define, longdblsize=12
    ivtype='long long', ivsize=8, nvtype='double', nvsize=8, Off_t='off_t', lseeksize=8
    alignbytes=4, prototype=define
  Linker and Libraries:
    ld='gcc', ldflags =' -L/usr/local/lib '
    libpth=/usr/local/lib /usr/lib /usr/ccs/lib
    libs=-lsocket -lnsl -ldl -lm -lc
    perllibs=-lsocket -lnsl -ldl -lm -lc
    libc=/lib/libc.so, so=so, useshrplib=false, libperl=libperl.a
    gnulibc_version=''
  Dynamic Linking:
    dlsrc=dl_dlopen.xs, dlext=so, d_dlsymun=undef, ccdlflags=' '
    cccdlflags='-fPIC', lddlflags='-G -L/usr/local/lib'


Characteristics of this binary (from libperl): 
  Compile-time options: PERL_DONT_CREATE_GVSV PERL_MALLOC_WRAP
                        PERL_USE_SAFE_PUTENV USE_64_BIT_INT USE_LARGE_FILES
                        USE_PERLIO
  Built under solaris
  Compiled at Mar  1 2011 16:15:56
  %ENV:
    PERL5LIB=""
    PERL5OPT=""
    PERL5_CPANPLUS_IS_RUNNING="18199"
    PERL5_CPAN_IS_RUNNING="18199"
    PERL5_CPAN_IS_RUNNING_IN_RECURSION="16635,18199"
    PERL_CR_SMOKER_CURRENT="Catalyst-Authentication-Store-Proxy-0.0.1"
    PERL_EXTUTILS_AUTOINSTALL="--defaultdeps"
    PERL_MM_USE_DEFAULT="1"
  @INC:
    /export/home/cpantest/perl5/lib/5.10.1/i86pc-solaris-64int
    /export/home/cpantest/perl5/lib/5.10.1
    /export/home/cpantest/perl5/lib/site_perl/5.10.1/i86pc-solaris-64int
    /export/home/cpantest/perl5/lib/site_perl/5.10.1
    /export/home/cpantest/perl5/lib/site_perl/5.10.0/i86pc-solaris-64int
    /export/home/cpantest/perl5/lib/site_perl/5.10.0
    /export/home/cpantest/perl5/lib/site_perl
    .