Dist-Zilla-Plugin-CopyFilesFromBuild v0.103510 Perl 5 v5.8.9 darwin-2level

Status
Pass
From
Karen Etheridge
Dist
Dist-Zilla-Plugin-CopyFilesFromBuild v0.103510
Platform
Perl 5 v5.8.9 darwin-2level
Date
2014-04-29 00:12:50
ID
000b727c-cf33-11e3-8c3d-f248e36b6ce9
This distribution has been tested as part of the CPAN Testers
project, supporting the Perl programming language.  See
http://wiki.cpantesters.org/ for more information or email
questions to cpan-testers-discuss@perl.org


--
Dear RTHOMPSON,

This is a computer-generated report for Dist-Zilla-Plugin-CopyFilesFromBuild-0.103510
on perl 5.8.9, created by App::cpanminus::reporter 0.10 (1.7001).

Thank you for uploading your work to CPAN.  Congratulations!
All tests were successful.

Sections of this report:

    * Tester comments
    * Program output
    * Prerequisites
    * Environment and other context

------------------------------
TESTER COMMENTS
------------------------------

Additional comments from tester:

none provided

------------------------------
PROGRAM OUTPUT
------------------------------

Output from '':

Building and testing Dist-Zilla-Plugin-CopyFilesFromBuild-0.103510
cp lib/Dist/Zilla/Plugin/CopyFilesFromBuild.pm blib/lib/Dist/Zilla/Plugin/CopyFilesFromBuild.pm
Manifying blib/man3/Dist::Zilla::Plugin::CopyFilesFromBuild.3
PERL_DL_NONLAZY=1 /Users/ether/perl5/perlbrew/perls/perl-5.8.9/bin/perl "-MExtUtils::Command::MM" "-MTest::Harness" "-e" "undef *Test::Harness::Switches; test_harness(0, 'blib/lib', 'blib/arch')" t/*.t
t/release-kwalitee.t ...... skipped: these tests are for release candidate testing
# Testing with Perl 5.008009, /Users/ether/perl5/perlbrew/perls/perl-5.8.9/bin/perl
#     Carp version is 1.26
t/author-critic.t ......... skipped: these tests are for testing by the author
#     Dist::Zilla::Role::AfterBuild version is 5.015
t/release-has-version.t ... skipped: these tests are for release candidate testing
#     English version is 1.03
#     ExtUtils::MakeMaker version is 6.9702
t/release-pod-coverage.t .. skipped: these tests are for release candidate testing
#     File::Copy version is 2.13
t/release-pod-syntax.t .... skipped: these tests are for release candidate testing
t/release-portability.t ... skipped: these tests are for release candidate testing
t/release-unused-vars.t ... skipped: these tests are for release candidate testing
#     File::Find version is 1.13
#     File::Temp version is 0.22
#     List::AllUtils version is 0.08
#     Moose version is 2.0604
#     Moose::Autobox version is 0.15
#     MooseX::Has::Sugar version is 1.000000
#     Scalar::Util version is 1.38
t/00-compile.t ............ ok
#     Set::Scalar version is 1.29
#     Test::More version is 1.005000006
#     utf8 version is 1.07
t/000-report-versions.t ... ok
All tests successful.
Files=9, Tests=16,  1 wallclock secs ( 0.07 usr  0.04 sys +  2.81 cusr  0.29 csys =  3.21 CPU)
Result: PASS

------------------------------
PREREQUISITES
------------------------------

Prerequisite modules loaded:

    No requirements found

------------------------------
ENVIRONMENT AND OTHER CONTEXT
------------------------------

Environment variables:

    LANG = en_CA.UTF-8
    PATH = /Users/ether/perl5/perlbrew/bin:/Users/ether/perl5/perlbrew/perls/perl-5.8.9/bin:/Users/ether/bin:/Users/ether/git/misc/install/tequila/bin:/Users/ether/git/misc/install/generic/bin:/opt/local/bin:/opt/local/sbin:/Users/ether/src/CE/devtools:/Users/ether/git/CE/devtools:/Users/ether/src/CE/bin:/Users/ether/git/CE/bin:/usr/bin:/bin:/usr/sbin:/sbin:/usr/local/bin:/usr/X11/bin:/opt/local/share/git-core/contrib/workdir
    PERLBREW_BASHRC_VERSION = 0.67
    PERLBREW_HOME = /Users/ether/.perlbrew
    PERLBREW_MANPATH = /Users/ether/perl5/perlbrew/perls/perl-5.8.9/man
    PERLBREW_PATH = /Users/ether/perl5/perlbrew/bin:/Users/ether/perl5/perlbrew/perls/perl-5.8.9/bin
    PERLBREW_PERL = perl-5.8.9
    PERLBREW_ROOT = /Users/ether/perl5/perlbrew
    PERLBREW_VERSION = 0.67
    PERLDOC_PAGER = less -sicMr
    PERL_AUTOINSTALL_PREFER_CPAN = 1
    SHELL = /bin/bash
    TERM = xterm-color
    TMPDIR = /var/folders/+h/+hzG2W8MHem4qQiRP616jE+++TQ/-Tmp-/

Perl special variables (and OS-specific diagnostics, for MSWin32):

    EGID = 20 20 402 204 100 98 81 80 79 61 12 404 401 403
    EUID = 503
    EXECUTABLE_NAME = /Users/ether/perl5/perlbrew/perls/perl-5.8.9/bin/perl
    GID = 20 20 402 204 100 98 81 80 79 61 12 404 401 403
    UID = 503

Perl module toolchain versions installed:

    Module              Have        
    ------------------- ------------
    CPAN                1.9301      
    CPAN::Meta          2.141170    
    Cwd                 3.40        
    ExtUtils::CBuilder  0.280210    
    ExtUtils::Command   1.16        
    ExtUtils::Install   1.54        
    ExtUtils::MakeMaker 6.97_02     
    ExtUtils::Manifest  1.60        
    ExtUtils::ParseXS   3.15        
    File::Spec          3.40        
    JSON                2.53        
    JSON::PP            2.27203     
    Module::Build       0.4205      
    Module::Signature   n/a         
    Parse::CPAN::Meta   1.4414      
    Test::Harness       3.30        
    Test::More          1.005000_006
    YAML                0.90        
    YAML::Syck          1.27        
    version             0.9901      


--

Summary of my perl5 (revision 5 version 8 subversion 9) configuration:
  Platform:
    osname=darwin, osvers=10.8.0, archname=darwin-2level
    uname='darwin tequila 10.8.0 darwin kernel version 10.8.0: tue jun 7 16:33:36 pdt 2011; root:xnu-1504.15.3~1release_i386 i386 '
    config_args='-de -Dprefix=/Users/ether/perl5/perlbrew/perls/perl-5.8.9 -Aeval:scriptdir=/Users/ether/perl5/perlbrew/perls/perl-5.8.9/bin'
    hint=recommended, useposix=true, d_sigaction=define
    usethreads=undef use5005threads=undef useithreads=undef usemultiplicity=undef
    useperlio=define d_sfio=undef uselargefiles=define usesocks=undef
    use64bitint=define use64bitall=define uselongdouble=undef
    usemymalloc=n, bincompat5005=undef
  Compiler:
    cc='cc', ccflags ='-fno-common -DPERL_DARWIN -fno-strict-aliasing -pipe -I/usr/local/include -I/opt/local/include',
    optimize='-O3',
    cppflags='-fno-common -DPERL_DARWIN -fno-strict-aliasing -pipe -I/usr/local/include -I/opt/local/include'
    ccversion='', gccversion='4.2.1 (Apple Inc. build 5666) (dot 3)', gccosandvers=''
    intsize=4, longsize=8, ptrsize=8, doublesize=8, byteorder=12345678
    d_longlong=define, longlongsize=8, d_longdbl=define, longdblsize=16
    ivtype='long', ivsize=8, nvtype='double', nvsize=8, Off_t='off_t', lseeksize=8
    alignbytes=8, prototype=define
  Linker and Libraries:
    ld='env MACOSX_DEPLOYMENT_TARGET=10.3 cc', ldflags =' -L/usr/local/lib -L/opt/local/lib'
    libpth=/usr/local/lib /opt/local/lib /usr/lib
    libs=-lgdbm -ldbm -ldl -lm -lutil -lc
    perllibs=-ldl -lm -lutil -lc
    libc=, so=dylib, useshrplib=false, libperl=libperl.a
    gnulibc_version=''
  Dynamic Linking:
    dlsrc=dl_dlopen.xs, dlext=bundle, d_dlsymun=undef, ccdlflags=' '
    cccdlflags=' ', lddlflags=' -bundle -undefined dynamic_lookup -L/usr/local/lib -L/opt/local/lib'


Characteristics of this binary (from libperl): 
  Compile-time options: PERL_MALLOC_WRAP USE_64_BIT_ALL USE_64_BIT_INT
                        USE_FAST_STDIO USE_LARGE_FILES USE_PERLIO
  Built under darwin
  Compiled at Oct 20 2012 16:32:58
  %ENV:
    PERLBREW_BASHRC_VERSION="0.67"
    PERLBREW_HOME="/Users/ether/.perlbrew"
    PERLBREW_MANPATH="/Users/ether/perl5/perlbrew/perls/perl-5.8.9/man"
    PERLBREW_PATH="/Users/ether/perl5/perlbrew/bin:/Users/ether/perl5/perlbrew/perls/perl-5.8.9/bin"
    PERLBREW_PERL="perl-5.8.9"
    PERLBREW_ROOT="/Users/ether/perl5/perlbrew"
    PERLBREW_VERSION="0.67"
    PERLDOC_PAGER="less -sicMr"
    PERL_AUTOINSTALL_PREFER_CPAN="1"
  @INC:
    /Users/ether/perl5/perlbrew/perls/perl-5.8.9/lib/5.8.9/darwin-2level
    /Users/ether/perl5/perlbrew/perls/perl-5.8.9/lib/5.8.9
    /Users/ether/perl5/perlbrew/perls/perl-5.8.9/lib/site_perl/5.8.9/darwin-2level
    /Users/ether/perl5/perlbrew/perls/perl-5.8.9/lib/site_perl/5.8.9
    .