Report for IO-Socket-IP-0.34

Back
From: metabase:user:322078bc-2aae-11df-837a-5e0a49663a4f
Subject: PASS IO-Socket-IP-0.34 v5.12.5 OpenBSD
Date: 2014-12-07T12:17:17Z

This distribution has been tested as part of the CPAN Testers
project, supporting the Perl programming language.  See
http://wiki.cpantesters.org/ for more information or email
questions to cpan-testers-discuss@perl.org


--

Dear Paul Evans,

This is a computer-generated error report created automatically by
CPANPLUS, version 0.9152. Testers personal comments may appear
at the end of this report.


Thank you for uploading your work to CPAN.  Congratulations!
All tests were successful.

TEST RESULTS:

Below is the error stack from stage 'make test':

Attempt to free unreferenced scalar: SV 0x1d61c9d52c88 at /home/cpan/pit/bare/conf/perl-5.12.5/.cpanplus/5.12.5/build/IO-Socket-IP-0.34/blib/lib/IO/Socket/IP.pm line 41.
t/00use.t ........................... ok
Attempt to free unreferenced scalar: SV 0xb690c55c10 at /home/cpan/pit/bare/conf/perl-5.12.5/.cpanplus/5.12.5/build/IO-Socket-IP-0.34/blib/lib/IO/Socket/IP.pm line 41.
t/01local-client-v4.t ............... ok
Attempt to free unreferenced scalar: SV 0x15c88dd55c10 at /home/cpan/pit/bare/conf/perl-5.12.5/.cpanplus/5.12.5/build/IO-Socket-IP-0.34/blib/lib/IO/Socket/IP.pm line 41.
t/02local-server-v4.t ............... ok
Attempt to free unreferenced scalar: SV 0x138043f55410 at /home/cpan/pit/bare/conf/perl-5.12.5/.cpanplus/5.12.5/build/IO-Socket-IP-0.34/blib/lib/IO/Socket/IP.pm line 41.
t/03local-cross-v4.t ................ ok
Attempt to free unreferenced scalar: SV 0x34bbb055c10 at /home/cpan/pit/bare/conf/perl-5.12.5/.cpanplus/5.12.5/build/IO-Socket-IP-0.34/blib/lib/IO/Socket/IP.pm line 41.
t/04local-client-v6.t ............... ok
Attempt to free unreferenced scalar: SV 0x54504d55c10 at /home/cpan/pit/bare/conf/perl-5.12.5/.cpanplus/5.12.5/build/IO-Socket-IP-0.34/blib/lib/IO/Socket/IP.pm line 41.
t/05local-server-v6.t ............... ok
Attempt to free unreferenced scalar: SV 0x18e470f55410 at /home/cpan/pit/bare/conf/perl-5.12.5/.cpanplus/5.12.5/build/IO-Socket-IP-0.34/blib/lib/IO/Socket/IP.pm line 41.
t/06local-cross-v6.t ................ ok
Attempt to free unreferenced scalar: SV 0x17416e055c10 at /home/cpan/pit/bare/conf/perl-5.12.5/.cpanplus/5.12.5/build/IO-Socket-IP-0.34/blib/lib/IO/Socket/IP.pm line 41.
t/10args.t .......................... ok
Attempt to free unreferenced scalar: SV 0x127992e55410 at /home/cpan/pit/bare/conf/perl-5.12.5/.cpanplus/5.12.5/build/IO-Socket-IP-0.34/blib/lib/IO/Socket/IP.pm line 41.
t/11sockopts.t ...................... ok
Attempt to free unreferenced scalar: SV 0xa0516155410 at /home/cpan/pit/bare/conf/perl-5.12.5/.cpanplus/5.12.5/build/IO-Socket-IP-0.34/blib/lib/IO/Socket/IP.pm line 41.
Attempt to free unreferenced scalar: SV 0xa0515f4bd90 at t/12port-fallback.t line 16.
t/12port-fallback.t ................. ok
Attempt to free unreferenced scalar: SV 0x102136b55410 at /home/cpan/pit/bare/conf/perl-5.12.5/.cpanplus/5.12.5/build/IO-Socket-IP-0.34/blib/lib/IO/Socket/IP.pm line 41.
t/13addrinfo.t ...................... ok
Attempt to free unreferenced scalar: SV 0x160194954c10 at /home/cpan/pit/bare/conf/perl-5.12.5/.cpanplus/5.12.5/build/IO-Socket-IP-0.34/blib/lib/IO/Socket/IP.pm line 41.
t/14fileno.t ........................ ok
Attempt to free unreferenced scalar: SV 0x182668759c40 at /home/cpan/pit/bare/conf/perl-5.12.5/.cpanplus/5.12.5/build/IO-Socket-IP-0.34/blib/lib/IO/Socket/IP.pm line 41.
t/15io-socket.t ..................... ok
Attempt to free unreferenced scalar: SV 0x16880a55c70 at /home/cpan/pit/bare/conf/perl-5.12.5/.cpanplus/5.12.5/build/IO-Socket-IP-0.34/blib/lib/IO/Socket/IP.pm line 41.
t/16v6only.t ........................ ok
Attempt to free unreferenced scalar: SV 0x1a6d11555410 at /home/cpan/pit/bare/conf/perl-5.12.5/.cpanplus/5.12.5/build/IO-Socket-IP-0.34/blib/lib/IO/Socket/IP.pm line 41.
Attempt to free unreferenced scalar: SV 0x1a6d1134bd90 at t/17gai-flags.t line 16.
t/17gai-flags.t ..................... ok
Attempt to free unreferenced scalar: SV 0x114d1954c10 at /home/cpan/pit/bare/conf/perl-5.12.5/.cpanplus/5.12.5/build/IO-Socket-IP-0.34/blib/lib/IO/Socket/IP.pm line 41.
t/18fdopen.t ........................ ok
Attempt to free unreferenced scalar: SV 0x152338f55410 at /home/cpan/pit/bare/conf/perl-5.12.5/.cpanplus/5.12.5/build/IO-Socket-IP-0.34/blib/lib/IO/Socket/IP.pm line 41.
t/19no-addrs.t ...................... ok
Attempt to free unreferenced scalar: SV 0x5b2bcf54c10 at /home/cpan/pit/bare/conf/perl-5.12.5/.cpanplus/5.12.5/build/IO-Socket-IP-0.34/blib/lib/IO/Socket/IP.pm line 41.
t/20subclass.t ...................... ok
Attempt to free unreferenced scalar: SV 0xd91bb054c10 at /home/cpan/pit/bare/conf/perl-5.12.5/.cpanplus/5.12.5/build/IO-Socket-IP-0.34/blib/lib/IO/Socket/IP.pm line 41.
t/21as-inet.t ....................... ok
Attempt to free unreferenced scalar: SV 0x137f20954c10 at /home/cpan/pit/bare/conf/perl-5.12.5/.cpanplus/5.12.5/build/IO-Socket-IP-0.34/blib/lib/IO/Socket/IP.pm line 41.
t/22timeout.t ....................... ok
Attempt to free unreferenced scalar: SV 0xb8a10155c10 at /home/cpan/pit/bare/conf/perl-5.12.5/.cpanplus/5.12.5/build/IO-Socket-IP-0.34/blib/lib/IO/Socket/IP.pm line 41.
t/30nonblocking-connect.t ........... ok
Attempt to free unreferenced scalar: SV 0x83d10c55c10 at /home/cpan/pit/bare/conf/perl-5.12.5/.cpanplus/5.12.5/build/IO-Socket-IP-0.34/blib/lib/IO/Socket/IP.pm line 41.
t/31nonblocking-connect-internet.t .. ok
t/99pod.t ........................... skipped: Test::Pod 1.00 required for testing POD
All tests successful.
Files=23, Tests=214,  2 wallclock secs ( 0.02 usr  0.18 sys +  1.08 cusr  0.38 csys =  1.66 CPU)
Result: PASS


PREREQUISITES:

Here is a list of prerequisites you specified and versions we
managed to load:

	  Module Name                        Have     Want
	  IO::Socket                         1.31        0
	! Socket                          1.87_01     1.97
	  Test::More                     1.001006     0.88

Perl module toolchain versions installed:
	Module Name                        Have
	CPANPLUS                         0.9152
	CPANPLUS::Dist::Build              0.78
	Cwd                                3.47
	ExtUtils::CBuilder             0.280219
	ExtUtils::Command                  1.16
	ExtUtils::Install                  1.68
	ExtUtils::MakeMaker                6.98
	ExtUtils::Manifest                 1.66
	ExtUtils::ParseXS                  3.24
	File::Spec                         3.47
	Module::Build                    0.4210
	Pod::Parser                        1.37
	Pod::Simple                        3.14
	Test::Harness                      3.33
	Test::More                     1.001006
	version                          0.9909

******************************** NOTE ********************************
The comments above are created mechanically, possibly without manual
checking by the sender.  As there are many people performing automatic
tests on each upload to CPAN, it is likely that you will receive
identical messages about the same problem.

If you believe that the message is mistaken, please reply to the first
one with correction and/or additional informations, and do not take
it personally.  We appreciate your patience. :)
**********************************************************************

Additional comments:


This report was machine-generated by CPANPLUS::Dist::YACSmoke 0.90.
Powered by minismokebox version 0.58

------------------------------
ENVIRONMENT AND OTHER CONTEXT
------------------------------

Environment variables:

    AUTOMATED_TESTING = 1
    NONINTERACTIVE_TESTING = 1
    PATH = /home/cpan/bin:/bin:/sbin:/usr/bin:/usr/sbin:/usr/X11R6/bin:/usr/local/bin:/usr/local/sbin:/usr/games:.
    PERL5LIB = :/home/cpan/pit/bare/conf/perl-5.12.5/.cpanplus/5.12.5/build/ExtUtils-Constant-0.23/blib/lib:/home/cpan/pit/bare/conf/perl-5.12.5/.cpanplus/5.12.5/build/ExtUtils-Constant-0.23/blib/arch:/home/cpan/pit/bare/conf/perl-5.12.5/.cpanplus/5.12.5/build/Socket-2.016/blib/lib:/home/cpan/pit/bare/conf/perl-5.12.5/.cpanplus/5.12.5/build/Socket-2.016/blib/arch:/home/cpan/pit/bare/conf/perl-5.12.5/.cpanplus/5.12.5/build/IO-Socket-IP-0.34/blib/lib:/home/cpan/pit/bare/conf/perl-5.12.5/.cpanplus/5.12.5/build/IO-Socket-IP-0.34/blib/arch
    PERL5_CPANPLUS_IS_RUNNING = 10263
    PERL5_CPANPLUS_IS_VERSION = 0.9152
    PERL5_MINISMOKEBOX = 0.58
    PERL5_YACSMOKE_BASE = /home/cpan/pit/bare/conf/perl-5.12.5
    PERL_EXTUTILS_AUTOINSTALL = --defaultdeps
    PERL_MM_USE_DEFAULT = 1
    SHELL = /usr/local/bin/bash
    TERM = screen

Perl special variables (and OS-specific diagnostics, for MSWin32):

    Perl: $^X = /home/cpan/pit/bare/perl-5.12.5/bin/perl
    UID:  $<  = 1001
    EUID: $>  = 1001
    GID:  $(  = 1001 1001
    EGID: $)  = 1001 1001


-------------------------------


--

Summary of my perl5 (revision 5 version 12 subversion 5) configuration:
   
  Platform:
    osname=openbsd, osvers=5.5, archname=OpenBSD.amd64-openbsd
    uname='openbsd oedolyn.bingosnet.co.uk 5.5 generic#271 amd64 '
    config_args='-des -Dprefix=/home/cpan/pit/bare/perl-5.12.5'
    hint=recommended, useposix=true, d_sigaction=define
    useithreads=undef, usemultiplicity=undef
    useperlio=define, d_sfio=undef, uselargefiles=define, usesocks=undef
    use64bitint=define, use64bitall=define, uselongdouble=undef
    usemymalloc=y, bincompat5005=undef
  Compiler:
    cc='cc', ccflags ='-fno-strict-aliasing -pipe -fstack-protector -I/usr/local/include',
    optimize='-O2',
    cppflags='-fno-strict-aliasing -pipe -fstack-protector -I/usr/local/include'
    ccversion='', gccversion='4.2.1 20070719 ', gccosandvers='openbsd5.5'
    intsize=4, longsize=8, ptrsize=8, doublesize=8, byteorder=12345678
    d_longlong=define, longlongsize=8, d_longdbl=define, longdblsize=16
    ivtype='long', ivsize=8, nvtype='double', nvsize=8, Off_t='off_t', lseeksize=8
    alignbytes=8, prototype=define
  Linker and Libraries:
    ld='cc', ldflags ='-Wl,-E  -fstack-protector -L/usr/local/lib'
    libpth=/usr/local/lib /usr/lib
    libs=-lgdbm -lm -lutil -lc
    perllibs=-lm -lutil -lc
    libc=/usr/lib/libc.so.73.1, so=so, useshrplib=false, libperl=libperl.a
    gnulibc_version=''
  Dynamic Linking:
    dlsrc=dl_dlopen.xs, dlext=so, d_dlsymun=undef, ccdlflags=' '
    cccdlflags='-DPIC -fPIC ', lddlflags='-shared -fPIC  -L/usr/local/lib -fstack-protector'


Characteristics of this binary (from libperl): 
  Compile-time options: MYMALLOC PERL_DONT_CREATE_GVSV PERL_MALLOC_WRAP
                        USE_64_BIT_ALL USE_64_BIT_INT USE_LARGE_FILES
                        USE_PERLIO USE_PERL_ATOF
  Built under openbsd
  Compiled at May  8 2014 14:58:08
  %ENV:
    PERL5LIB=":/home/cpan/pit/bare/conf/perl-5.12.5/.cpanplus/5.12.5/build/ExtUtils-Constant-0.23/blib/lib:/home/cpan/pit/bare/conf/perl-5.12.5/.cpanplus/5.12.5/build/ExtUtils-Constant-0.23/blib/arch:/home/cpan/pit/bare/conf/perl-5.12.5/.cpanplus/5.12.5/build/Socket-2.016/blib/lib:/home/cpan/pit/bare/conf/perl-5.12.5/.cpanplus/5.12.5/build/Socket-2.016/blib/arch:/home/cpan/pit/bare/conf/perl-5.12.5/.cpanplus/5.12.5/build/IO-Socket-IP-0.34/blib/lib:/home/cpan/pit/bare/conf/perl-5.12.5/.cpanplus/5.12.5/build/IO-Socket-IP-0.34/blib/arch"
    PERL5_CPANPLUS_IS_RUNNING="10263"
    PERL5_CPANPLUS_IS_VERSION="0.9152"
    PERL5_MINISMOKEBOX="0.58"
    PERL5_YACSMOKE_BASE="/home/cpan/pit/bare/conf/perl-5.12.5"
    PERL_EXTUTILS_AUTOINSTALL="--defaultdeps"
    PERL_MM_USE_DEFAULT="1"
  @INC:
    /home/cpan/pit/bare/conf/perl-5.12.5/.cpanplus/5.12.5/build/ExtUtils-Constant-0.23/blib/lib
    /home/cpan/pit/bare/conf/perl-5.12.5/.cpanplus/5.12.5/build/ExtUtils-Constant-0.23/blib/arch
    /home/cpan/pit/bare/conf/perl-5.12.5/.cpanplus/5.12.5/build/Socket-2.016/blib/lib
    /home/cpan/pit/bare/conf/perl-5.12.5/.cpanplus/5.12.5/build/Socket-2.016/blib/arch
    /home/cpan/pit/bare/conf/perl-5.12.5/.cpanplus/5.12.5/build/IO-Socket-IP-0.34/blib/lib
    /home/cpan/pit/bare/conf/perl-5.12.5/.cpanplus/5.12.5/build/IO-Socket-IP-0.34/blib/arch
    /home/cpan/pit/bare/perl-5.12.5/lib/site_perl/5.12.5/OpenBSD.amd64-openbsd
    /home/cpan/pit/bare/perl-5.12.5/lib/site_perl/5.12.5
    /home/cpan/pit/bare/perl-5.12.5/lib/5.12.5/OpenBSD.amd64-openbsd
    /home/cpan/pit/bare/perl-5.12.5/lib/5.12.5
    .