Back
From: metabase:user:313312cf-6cf6-1014-a8bd-27a0416a2910
Subject: PASS XS-Install-1.2.21 5.26.1
Date: 2020-11-01T09:39:07Z
This distribution has been tested as part of the CPAN Testers
project, supporting the Perl programming language. See
http://wiki.cpantesters.org/ for more information or email
questions to cpan-testers-discuss@perl.org
--
Dear Oleg Pronin,
This is a computer-generated report for XS-Install-1.2.21
on perl 5.26.1, created by CPAN-Reporter-1.2018.
Thank you for uploading your work to CPAN. Congratulations!
All tests were successful.
Sections of this report:
* Tester comments
* Program output
* Prerequisites
* Environment and other context
------------------------------
TESTER COMMENTS
------------------------------
Additional comments from tester:
none provided
------------------------------
PROGRAM OUTPUT
------------------------------
Output from 'c:\Strawberry\c\bin\gmake.exe test':
"C:\Strawberry\perl\bin\perl.exe" "-MExtUtils::Command::MM" "-MTest::Harness" "-e" "undef *Test::Harness::Switches; test_harness(0, 'blib\lib', 'blib\arch')" t/*.t
t/00-use.t ................. ok
t/01-all_from.t ............ ok
t/02-configure_requires.t .. ok
t/03-xs.t .................. ok
t/04-c.t ................... ok
t/06-src.t ................. ok
t/07-cplus.t ............... skipped: set TEST_FULL=1 to enable this test
t/09-payload.t ............. ok
t/10-bin_share.t ........... ok
t/11-nonxs.t ............... ok
t/12-parsexs.t ............. skipped: set TEST_FULL=1 to enable parsexs tests
t/13-dependent.t ........... ok
All tests successful.
Files=12, Tests=41, 10 wallclock secs ( 0.16 usr + 0.05 sys = 0.20 CPU)
Result: PASS
------------------------------
PREREQUISITES
------------------------------
Prerequisite modules loaded:
requires:
Module Need Have
------------------- -------- --------
Exporter 5.58 5.74
ExtUtils::MakeMaker 7.12 7.50
ExtUtils::ParseXS 3.24 3.35
perl 5.010000 5.026001
build_requires:
Module Need Have
------------------- -------- --------
Test::Deep 0 1.127
Test::More 0 1.302183
Test::Simple 0.96 1.302183
------------------------------
ENVIRONMENT AND OTHER CONTEXT
------------------------------
Environment variables:
COMSPEC = C:\WINDOWS\system32\cmd.exe
NONINTERACTIVE_TESTING = 1
NUMBER_OF_PROCESSORS = 4
PATH = C:\home\bathtub1\perl5\bin;C:\WINDOWS\system32;C:\WINDOWS;C:\WINDOWS\System32\Wbem;C:\WINDOWS\System32\WindowsPowerShell\v1.0\;C:\Strawberry\c\bin;C:\Strawberry\perl\site\bin;C:\Strawberry\perl\bin
PERL5LIB = C:\home\bathtub1\perl5\lib\perl5
PERL5OPT =
PERL5_CPANPLUS_IS_RUNNING = 7716
PERL5_CPAN_IS_RUNNING = 7716
PERL_LOCAL_LIB_ROOT = C:\home\bathtub1\perl5
PERL_MB_OPT = --install_base "C:\\home\\bathtub1\\perl5"
PERL_MM_OPT = INSTALL_BASE=C:\\home\\bathtub1\\perl5
PERL_MM_USE_DEFAULT = 1
PERL_USE_UNSAFE_INC = 1
PROCESSOR_IDENTIFIER = Intel64 Family 6 Model 58 Stepping 9, GenuineIntel
TEMP = C:\Users\USER\AppData\Local\Temp
TERM = dumb
Perl special variables (and OS-specific diagnostics, for MSWin32):
$^X = C:\Strawberry\perl\bin\perl.exe
$UID/$EUID = 0 / 0
$GID = 0
$EGID = 0
Win32::GetOSName = Win8.1
Win32::GetOSVersion = , 6, 3, 9600, 2, 0, 0, 256, 1
Win32::FsType = NTFS
Win32::IsAdminUser = 0
Perl module toolchain versions installed:
Module Have
------------------- --------
CPAN 2.28
CPAN::Meta 2.150010
Cwd 3.67
ExtUtils::CBuilder 0.280234
ExtUtils::Command 7.50
ExtUtils::Install 2.18
ExtUtils::MakeMaker 7.50
ExtUtils::Manifest 1.70
ExtUtils::ParseXS 3.35
File::Spec 3.67
JSON 4.02
JSON::PP 4.05
Module::Build 0.42_28
Module::Signature 0.87
Parse::CPAN::Meta 2.150010
Test::Harness 3.39
Test::More 1.302183
YAML 1.23
YAML::Syck 1.34
version 0.9928
--
Summary of my perl5 (revision 5 version 26 subversion 1) configuration:
Platform:
osname=MSWin32
osvers=6.3
archname=MSWin32-x64-multi-thread
uname='Win32 strawberry-perl 5.26.1.1 #1 Sun Sep 24 05:32:33 2017 x64'
config_args='undef'
hint=recommended
useposix=true
d_sigaction=undef
useithreads=define
usemultiplicity=define
use64bitint=define
use64bitall=undef
uselongdouble=undef
usemymalloc=n
default_inc_excludes_dot=define
bincompat5005=undef
Compiler:
cc='gcc'
ccflags =' -s -O2 -DWIN32 -DWIN64 -DCONSERVATIVE -D__USE_MINGW_ANSI_STDIO -DPERL_TEXTMODE_SCRIPTS -DPERL_IMPLICIT_CONTEXT -DPERL_IMPLICIT_SYS -DUSE_PERLIO -fwrapv -fno-strict-aliasing -mms-bitfields'
optimize='-s -O2'
cppflags='-DWIN32'
ccversion=''
gccversion='7.1.0'
gccosandvers=''
intsize=4
longsize=4
ptrsize=8
doublesize=8
byteorder=12345678
doublekind=3
d_longlong=define
longlongsize=8
d_longdbl=define
longdblsize=16
longdblkind=3
ivtype='long long'
ivsize=8
nvtype='double'
nvsize=8
Off_t='long long'
lseeksize=8
alignbytes=8
prototype=define
Linker and Libraries:
ld='g++'
ldflags ='-s -L"c:\Strawberry\perl\lib\CORE" -L"c:\Strawberry\c\lib"'
libpth=c:\Strawberry\c\lib c:\Strawberry\c\x86_64-w64-mingw32\lib c:\Strawberry\c\lib\gcc\x86_64-w64-mingw32\7.1.0
libs= -lmoldname -lkernel32 -luser32 -lgdi32 -lwinspool -lcomdlg32 -ladvapi32 -lshell32 -lole32 -loleaut32 -lnetapi32 -luuid -lws2_32 -lmpr -lwinmm -lversion -lodbc32 -lodbccp32 -lcomctl32
perllibs= -lmoldname -lkernel32 -luser32 -lgdi32 -lwinspool -lcomdlg32 -ladvapi32 -lshell32 -lole32 -loleaut32 -lnetapi32 -luuid -lws2_32 -lmpr -lwinmm -lversion -lodbc32 -lodbccp32 -lcomctl32
libc=
so=dll
useshrplib=true
libperl=libperl526.a
gnulibc_version=''
Dynamic Linking:
dlsrc=dl_win32.xs
dlext=xs.dll
d_dlsymun=undef
ccdlflags=' '
cccdlflags=' '
lddlflags='-mdll -s -L"c:\Strawberry\perl\lib\CORE" -L"c:\Strawberry\c\lib"'
Characteristics of this binary (from libperl):
Compile-time options:
HAS_TIMES
HAVE_INTERP_INTERN
MULTIPLICITY
PERLIO_LAYERS
PERL_COPY_ON_WRITE
PERL_DONT_CREATE_GVSV
PERL_IMPLICIT_CONTEXT
PERL_IMPLICIT_SYS
PERL_MALLOC_WRAP
PERL_OP_PARENT
PERL_PRESERVE_IVUV
USE_64_BIT_INT
USE_ITHREADS
USE_LARGE_FILES
USE_LOCALE
USE_LOCALE_COLLATE
USE_LOCALE_CTYPE
USE_LOCALE_NUMERIC
USE_LOCALE_TIME
USE_PERLIO
USE_PERL_ATOF
Built under MSWin32
Compiled at Sep 24 2017 05:47:34
%ENV:
PERL5LIB="C:\home\bathtub1\perl5\lib\perl5"
PERL5_CPANPLUS_IS_RUNNING="7716"
PERL5_CPAN_IS_RUNNING="7716"
PERL_LOCAL_LIB_ROOT="C:\home\bathtub1\perl5"
PERL_MB_OPT="--install_base "C:\\home\\bathtub1\\perl5""
PERL_MM_OPT="INSTALL_BASE=C:\\home\\bathtub1\\perl5"
PERL_MM_USE_DEFAULT="1"
PERL_USE_UNSAFE_INC="1"
@INC:
C:\home\bathtub1\perl5\lib\perl5/5.26.1/MSWin32-x64-multi-thread
C:\home\bathtub1\perl5\lib\perl5/5.26.1
C:\home\bathtub1\perl5\lib\perl5/MSWin32-x64-multi-thread
C:\home\bathtub1\perl5\lib\perl5
C:/Strawberry/perl/site/lib
C:/Strawberry/perl/vendor/lib
C:/Strawberry/perl/lib
.