Report for Marpa-R2-2.019_000

Back
From: metabase:user:30f0bd62-2aae-11df-837a-5e0a49663a4f
Subject: PASS Marpa-R2-2.019_000 v5.14.1 OpenBSD
Date: 2012-09-04T15:19:51Z

This distribution has been tested as part of the CPAN Testers
project, supporting the Perl programming language.  See
http://wiki.cpantesters.org/ for more information or email
questions to cpan-testers-discuss@perl.org


--
Dear Jeffrey Kegler,

This is a computer-generated report for Marpa-R2-2.019_000
on perl 5.14.1, created by CPAN-Reporter-1.2002.

Thank you for uploading your work to CPAN.  Congratulations!
All tests were successful.

Sections of this report:

    * Tester comments
    * Program output
    * Prerequisites
    * Environment and other context

------------------------------
TESTER COMMENTS
------------------------------

Additional comments from tester:

this report is from an automated smoke testing program
and was not reviewed by a human for accuracy

------------------------------
PROGRAM OUTPUT
------------------------------

Output from './Build test':

Writing version files
t/00-load.t ............ ok
t/ah2.t ................ ok
t/ah_numeric.t ......... ok
t/balanced.t ........... ok
t/bocage.t ............. ok
t/catalan.t ............ ok
t/chaf.t ............... ok
t/code_diag.t .......... ok
t/context.t ............ ok
t/counter.t ............ ok
t/curly.t .............. skipped: PPI not installed
t/curly2.t ............. skipped: PPI not installed
t/debug.t .............. ok
t/debug_leo.t .......... ok
t/debug_seq.t .......... ok
t/deprecated1.t ........ ok
t/duplicate_parse.t .... ok
t/equation.t ........... ok
t/final_nonnullable.t .. ok
t/gabend.t ............. ok
t/implementation.t ..... ok
t/infinite.t ........... ok
t/infinite2.t .......... ok
t/infinite_plex.t ...... ok
t/initial_nulls.t ...... ok
t/jirotka.t ............ ok
t/leo.t ................ ok
t/leo2.t ............... ok
t/leo3.t ............... ok
t/leo_cycle.t .......... ok
t/leo_example.t ........ ok
t/limits.t ............. ok
t/minus.t .............. ok
t/null_example.t ....... ok
t/null_infinite1.t ..... ok
t/null_infinite4.t ..... ok
t/null_value.t ......... ok
t/pascal.t ............. ok
t/perl.t ............... skipped: PPI not installed
t/rabend.t ............. ok
t/randal.t ............. ok
t/rewrite.t ............ ok
t/sequence.t ........... ok
t/sequence2.t .......... ok
t/syn_engine.t ......... ok
t/thin_eq.t ............ ok
t/timeflies.t .......... ok
t/use.t ................ skipped: PPI not installed
t/wall.t ............... ok
# Using Marpa::R2::HTML 2.019
# Using Marpa::R2 2.019 2012-09-04T17:19:40
html/t/00-load.t ....... ok
html/t/copy.t .......... ok
html/t/examples.t ...... ok
html/t/fmt.t ........... ok
html/t/parse.t ......... ok
html/t/score.t ......... ok
html/t/synopsis.t ...... ok
html/t/tang.t .......... ok
All tests successful.
Files=57, Tests=452,  9 wallclock secs ( 0.27 usr  0.32 sys +  8.54 cusr  0.75 csys =  9.88 CPU)
Result: PASS

------------------------------
PREREQUISITES
------------------------------

Prerequisite modules loaded:

requires:

    Module             Need   Have    
    ------------------ ------ --------
    Carp               1.08   1.20    
    Data::Dumper       2.125  2.131   
    List::Util         1.21   1.23    
    Scalar::Util       1.21   1.23    

build_requires:

    Module             Need   Have    
    ------------------ ------ --------
    ExtUtils::CBuilder 0.27   0.280203
    Test::More         0.94   0.98    

configure_requires:

    Module             Need   Have    
    ------------------ ------ --------
    Module::Build      0.3601 0.3800  


------------------------------
ENVIRONMENT AND OTHER CONTEXT
------------------------------

Environment variables:

    AUTOMATED_TESTING = 1
    PATH = /home/sts/bin:/bin:/sbin:/usr/bin:/usr/sbin:/usr/X11R6/bin:/usr/local/bin:/usr/local/sbin:/usr/games:.
    PERL5LIB = 
    PERL5OPT = 
    PERL5_CPANPLUS_IS_RUNNING = 10318
    PERL5_CPAN_IS_RUNNING = 10318
    PERL5_CPAN_IS_RUNNING_IN_RECURSION = 13104,10318
    PERL_CR_SMOKER_CURRENT = Marpa-R2-2.019_000
    PERL_EXTUTILS_AUTOINSTALL = --defaultdeps
    PERL_MM_USE_DEFAULT = 1
    SHELL = /usr/local/bin/bash
    TERM = screen
    TMPDIR = /home/sts/cpansmoke/tmp

Perl special variables (and OS-specific diagnostics, for MSWin32):

    $^X = /home/sts/cpansmoke/perl-5.14.1/bin/perl
    $UID/$EUID = 1000 / 1000
    $GID = 10 10 0
    $EGID = 10 10 0

Perl module toolchain versions installed:

    Module              Have    
    ------------------- --------
    CPAN                1.9800  
    CPAN::Meta          2.110440
    Cwd                 3.36    
    ExtUtils::CBuilder  0.280203
    ExtUtils::Command   1.17    
    ExtUtils::Install   1.56    
    ExtUtils::MakeMaker 6.57_05 
    ExtUtils::Manifest  1.58    
    ExtUtils::ParseXS   2.2210  
    File::Spec          3.33    
    JSON                2.53    
    JSON::PP            2.27105 
    Module::Build       0.3800  
    Module::Signature   n/a     
    Parse::CPAN::Meta   1.4401  
    Test::Harness       3.23    
    Test::More          0.98    
    YAML                0.73    
    YAML::Syck          n/a     
    version             0.88    


--

Summary of my perl5 (revision 5 version 14 subversion 1) configuration:
   
  Platform:
    osname=openbsd, osvers=4.9, archname=OpenBSD.i386-openbsd-thread-multi
    uname='openbsd cpansmoke3 4.9 generic.mp#794 i386 '
    config_args='-des -Dusethreads -Dprefix=/home/sts/cpansmoke/perl-5.14.1'
    hint=recommended, useposix=true, d_sigaction=define
    useithreads=define, usemultiplicity=define
    useperlio=define, d_sfio=undef, uselargefiles=define, usesocks=undef
    use64bitint=undef, use64bitall=undef, uselongdouble=undef
    usemymalloc=y, bincompat5005=undef
  Compiler:
    cc='cc', ccflags ='-pthread -fno-strict-aliasing -pipe -fstack-protector -I/usr/local/include',
    optimize='-O2',
    cppflags='-pthread -fno-strict-aliasing -pipe -fstack-protector -I/usr/local/include'
    ccversion='', gccversion='4.2.1 20070719 ', gccosandvers='openbsd4.9'
    intsize=4, longsize=4, ptrsize=4, doublesize=8, byteorder=1234
    d_longlong=define, longlongsize=8, d_longdbl=define, longdblsize=12
    ivtype='long', ivsize=4, nvtype='double', nvsize=8, Off_t='off_t', lseeksize=8
    alignbytes=4, prototype=define
  Linker and Libraries:
    ld='cc', ldflags ='-pthread -Wl,-E  -fstack-protector -L/usr/local/lib'
    libpth=/usr/local/lib /usr/lib
    libs=-lgdbm -lm -lutil -lc
    perllibs=-lm -lutil -lc
    libc=/usr/lib/libc.so.58.0, so=so, useshrplib=false, libperl=libperl.a
    gnulibc_version=''
  Dynamic Linking:
    dlsrc=dl_dlopen.xs, dlext=so, d_dlsymun=undef, ccdlflags=' '
    cccdlflags='-DPIC -fPIC ', lddlflags='-shared -fPIC  -L/usr/local/lib -fstack-protector'


Characteristics of this binary (from libperl): 
  Compile-time options: MULTIPLICITY MYMALLOC PERL_DONT_CREATE_GVSV
                        PERL_IMPLICIT_CONTEXT PERL_MALLOC_WRAP
                        PERL_PRESERVE_IVUV USE_ITHREADS USE_LARGE_FILES
                        USE_PERLIO USE_PERL_ATOF USE_REENTRANT_API
  Built under openbsd
  Compiled at Jun 29 2011 16:46:07
  %ENV:
    PERL5LIB=""
    PERL5OPT=""
    PERL5_CPANPLUS_IS_RUNNING="10318"
    PERL5_CPAN_IS_RUNNING="10318"
    PERL5_CPAN_IS_RUNNING_IN_RECURSION="13104,10318"
    PERL_CR_SMOKER_CURRENT="Marpa-R2-2.019_000"
    PERL_EXTUTILS_AUTOINSTALL="--defaultdeps"
    PERL_MM_USE_DEFAULT="1"
  @INC:
    /home/sts/cpansmoke/perl-5.14.1/lib/site_perl/5.14.1/OpenBSD.i386-openbsd-thread-multi
    /home/sts/cpansmoke/perl-5.14.1/lib/site_perl/5.14.1
    /home/sts/cpansmoke/perl-5.14.1/lib/5.14.1/OpenBSD.i386-openbsd-thread-multi
    /home/sts/cpansmoke/perl-5.14.1/lib/5.14.1
    .