Back
From: metabase:user:31d414ea-2aae-11df-837a-5e0a49663a4f
Subject: PASS REST-Cypher-0.0.4 v5.20.0 GNU/Linux
Date: 2015-11-02T15:25:28Z
This distribution has been tested as part of the CPAN Testers
project, supporting the Perl programming language. See
http://wiki.cpantesters.org/ for more information or email
questions to cpan-testers-discuss@perl.org
--
Dear Chisel,
This is a computer-generated report for REST-Cypher-0.0.4
on perl 5.20.0, created by CPAN-Reporter-1.2014.
Thank you for uploading your work to CPAN. Congratulations!
All tests were successful.
Sections of this report:
* Tester comments
* Program output
* Prerequisites
* Environment and other context
------------------------------
TESTER COMMENTS
------------------------------
Additional comments from tester:
this report is from an automated smoke testing program
and was not reviewed by a human for accuracy
------------------------------
PROGRAM OUTPUT
------------------------------
Output from '/usr/bin/make test':
PERL_DL_NONLAZY=1 "/home/david/cpantesting/perl-5.20.0/bin/perl" "-MExtUtils::Command::MM" "-MTest::Harness" "-e" "undef *Test::Harness::Switches; test_harness(0, 'blib/lib', 'blib/arch')" t/*.t
t/00-load.t ................ ok
t/00.agent.t ............... skipped: PERL_CYPHER_NEO4J_ADDRESS needs a value
caught error: bless({
error => {
as_string => "500 Can't connect to some.other.server:7474 (Bad hostname)\nContent-Type: text/plain\nClient-Date: Mon, 02 Nov 2015 15:25:24 GMT\nClient-Warning: Internal response\n\nCan't connect to some.other.server:7474 (Bad hostname)\n\nLWP::Protocol::http::Socket: Bad hostname 'some.other.server' at /home/david/cpantesting/perl-5.20.0/lib/site_perl/5.20.0/LWP/Protocol/http.pm line 41.\n",
code => 500,
message => "Can't connect to some.other.server:7474 (Bad hostname)",
},
previous_exception => "Can't connect to some.other.server:7474 (Bad hostname)\n\nLWP::Protocol::http::Socket: Bad hostname 'some.other.server' at /home/david/cpantesting/perl-5.20.0/lib/site_perl/5.20.0/LWP/Protocol/http.pm line 41.\n",
response => bless({
_content => "Can't connect to some.other.server:7474 (Bad hostname)\n\nLWP::Protocol::http::Socket: Bad hostname 'some.other.server' at /home/david/cpantesting/perl-5.20.0/lib/site_perl/5.20.0/LWP/Protocol/http.pm line 41.\n",
_headers => bless({
"::std_case" => {
"client-date" => "Client-Date",
"client-warning" => "Client-Warning",
},
"client-date" => "Mon, 02 Nov 2015 15:25:24 GMT",
"client-warning" => "Internal response",
"content-type" => "text/plain",
}, "HTTP::Headers"),
_msg => "Can't connect to some.other.server:7474 (Bad hostname)",
_rc => 500,
_request => bless({
_content => "{\"params\":null,\"query\":\"MATCH (n:Foo) RETURN count(n)\"}",
_headers => bless({
"authorization" => "Basic bmVvNGo6bmVvNGo=",
"content-length" => 55,
"content-type" => "application/json",
"user-agent" => "REST::Cypher::Agent/0.0.0",
}, "HTTP::Headers"),
_method => "POST",
_uri => bless(do{\(my $o = "http://some.other.server:7474/db/data/cypher")}, "URI::http"),
}, "HTTP::Request"),
}, "HTTP::Response"),
}, "REST::Cypher::Exception::Response") at t/00.cypher.t line 75.
t/00.cypher.t .............. ok
t/author-no-breakpoints.t .. skipped: these tests are for testing by the author
t/author-no-tabs.t ......... skipped: these tests are for testing by the author
t/release-kwalitee.t ....... skipped: these tests are for release candidate testing
t/release-pod-coverage.t ... skipped: these tests are for release candidate testing
t/release-pod-syntax.t ..... skipped: these tests are for release candidate testing
All tests successful.
Files=8, Tests=12, 3 wallclock secs ( 0.03 usr 0.03 sys + 0.78 cusr 0.08 csys = 0.92 CPU)
Result: PASS
------------------------------
PREREQUISITES
------------------------------
Prerequisite modules loaded:
requires:
Module Need Have
---------------------------- ---- --------
JSON::Any 0 1.39
LWP::UserAgent 0 6.06
Moo 0 2.000002
MooseX::Params::Validate 0 0.21
MooX::Types::MooseLike::Base 0 0.29
overload 0 1.22
strict 0 1.08
Throwable 0 0.200013
warnings 0 1.23
build_requires:
Module Need Have
---------------------------- ---- --------
Data::Dump 0 1.22
ExtUtils::MakeMaker 0 7.04
FindBin::libs 0 2.12
HTTP::Status 0 6.03
Pod::Coverage::TrustPod 0 0.100003
Test::Kwalitee 0 1.22
Test::Most 0 0.34
Test::NoTabs 0 1.4
Test::Pod 0 1.51
Test::Pod::Coverage 0 1.10
Test::UseAllModules 0 0.17
Try::Tiny 0 0.22
configure_requires:
Module Need Have
---------------------------- ---- --------
ExtUtils::MakeMaker 0 7.04
------------------------------
ENVIRONMENT AND OTHER CONTEXT
------------------------------
Environment variables:
AUTOMATED_TESTING = 1
NONINTERACTIVE_TESTING = 1
PATH = /usr/local/bin:/usr/bin:/bin:/usr/games
PERL = 5.20.0
PERL5LIB =
PERL5OPT =
PERL5_CPANPLUS_IS_RUNNING = 18679
PERL5_CPAN_IS_RUNNING = 18679
PERLVER = 5.20.0
PERL_INLINE_DIRECTORY = /home/david/.Inline-5.20.0
PERL_MM_USE_DEFAULT = 1
SHELL = /bin/bash
TERM = screen
Perl special variables (and OS-specific diagnostics, for MSWin32):
$^X = /home/david/cpantesting/perl-5.20.0/bin/perl
$UID/$EUID = 1000 / 1000
$GID = 1000 1000
$EGID = 1000 1000
Perl module toolchain versions installed:
Module Have
------------------- --------
CPAN 2.10
CPAN::Meta 2.140640
Cwd 3.47
ExtUtils::CBuilder 0.280216
ExtUtils::Command 1.18
ExtUtils::Install 1.67
ExtUtils::MakeMaker 7.04
ExtUtils::Manifest 1.65
ExtUtils::ParseXS 3.24
File::Spec 3.47
JSON 2.90
JSON::PP 2.27203
Module::Build 0.4205
Module::Signature n/a
Parse::CPAN::Meta 1.4414
Test::Harness 3.30
Test::More 1.001014
YAML n/a
YAML::Syck n/a
version 0.9908
--
Summary of my perl5 (revision 5 version 20 subversion 0) configuration:
Platform:
osname=linux, osvers=3.2.0-4-amd64, archname=x86_64-linux-thread-multi
uname='linux pigsty.barnyard.co.uk 3.2.0-4-amd64 #1 smp debian 3.2.35-2 x86_64 gnulinux '
config_args='-de -Dprefix=/home/david/cpantesting/perl-5.20.0 -Dusethreads -Duse64bitall'
hint=recommended, useposix=true, d_sigaction=define
useithreads=define, usemultiplicity=define
use64bitint=define, use64bitall=define, uselongdouble=undef
usemymalloc=n, bincompat5005=undef
Compiler:
cc='cc', ccflags ='-D_REENTRANT -D_GNU_SOURCE -fno-strict-aliasing -pipe -fstack-protector -I/usr/local/include -D_LARGEFILE_SOURCE -D_FILE_OFFSET_BITS=64',
optimize='-O2',
cppflags='-D_REENTRANT -D_GNU_SOURCE -fno-strict-aliasing -pipe -fstack-protector -I/usr/local/include'
ccversion='', gccversion='4.1.2 20061115 (prerelease) (Debian 4.1.1-21)', gccosandvers=''
intsize=4, longsize=8, ptrsize=8, doublesize=8, byteorder=12345678
d_longlong=define, longlongsize=8, d_longdbl=define, longdblsize=16
ivtype='long', ivsize=8, nvtype='double', nvsize=8, Off_t='off_t', lseeksize=8
alignbytes=8, prototype=define
Linker and Libraries:
ld='cc', ldflags =' -fstack-protector -L/usr/local/lib'
libpth=/usr/local/lib /usr/lib /lib /lib64 /usr/lib64
libs=-lnsl -lgdbm -ldb -ldl -lm -lcrypt -lutil -lpthread -lc -lgdbm_compat
perllibs=-lnsl -ldl -lm -lcrypt -lutil -lpthread -lc
libc=libc-2.3.6.so, so=so, useshrplib=false, libperl=libperl.a
gnulibc_version='2.3.6'
Dynamic Linking:
dlsrc=dl_dlopen.xs, dlext=so, d_dlsymun=undef, ccdlflags='-Wl,-E'
cccdlflags='-fPIC', lddlflags='-shared -O2 -L/usr/local/lib -fstack-protector'
Characteristics of this binary (from libperl):
Compile-time options: HAS_TIMES MULTIPLICITY PERLIO_LAYERS
PERL_DONT_CREATE_GVSV
PERL_HASH_FUNC_ONE_AT_A_TIME_HARD
PERL_IMPLICIT_CONTEXT PERL_MALLOC_WRAP
PERL_NEW_COPY_ON_WRITE PERL_PRESERVE_IVUV
USE_64_BIT_ALL USE_64_BIT_INT USE_ITHREADS
USE_LARGE_FILES USE_LOCALE USE_LOCALE_COLLATE
USE_LOCALE_CTYPE USE_LOCALE_NUMERIC USE_PERLIO
USE_PERL_ATOF USE_REENTRANT_API
Built under linux
Compiled at May 27 2014 16:06:22
%ENV:
PERL="5.20.0"
PERL5LIB=""
PERL5OPT=""
PERL5_CPANPLUS_IS_RUNNING="18679"
PERL5_CPAN_IS_RUNNING="18679"
PERLVER="5.20.0"
PERL_INLINE_DIRECTORY="/home/david/.Inline-5.20.0"
PERL_MM_USE_DEFAULT="1"
@INC:
/home/david/cpantesting/perl-5.20.0/lib/site_perl/5.20.0/x86_64-linux-thread-multi
/home/david/cpantesting/perl-5.20.0/lib/site_perl/5.20.0
/home/david/cpantesting/perl-5.20.0/lib/5.20.0/x86_64-linux-thread-multi
/home/david/cpantesting/perl-5.20.0/lib/5.20.0
.