Report for REST-Cypher-0.0.4

Back
From: metabase:user:30ae4450-2aae-11df-837a-5e0a49663a4f
Subject: PASS REST-Cypher-0.0.4 v5.16.3 
Date: 2015-11-01T03:43:05Z

This distribution has been tested as part of the CPAN Testers
project, supporting the Perl programming language.  See
http://wiki.cpantesters.org/ for more information or email
questions to cpan-testers-discuss@perl.org


--
Dear Chisel,

This is a computer-generated report for REST-Cypher-0.0.4
on perl 5.16.3, created by CPAN-Reporter-1.2014.

Thank you for uploading your work to CPAN.  Congratulations!
All tests were successful.

Sections of this report:

    * Tester comments
    * Program output
    * Prerequisites
    * Environment and other context

------------------------------
TESTER COMMENTS
------------------------------

Additional comments from tester:

this report is from an automated smoke testing program
and was not reviewed by a human for accuracy

------------------------------
PROGRAM OUTPUT
------------------------------

Output from 'C:\strawberry163\c\bin\dmake.exe test':

C:\strawberry163\perl\bin\perl.exe "-MExtUtils::Command::MM" "-e" "test_harness(0, 'blib\lib', 'blib\arch')" t/*.t
t/00-load.t ................ ok
t/00.agent.t ............... skipped: PERL_CYPHER_NEO4J_ADDRESS needs a value
Unrecognized LWP::UserAgent options: default_header at C:\strawberry163\cpan\build\REST-Cypher-0.0.4-h3U6ZP\lib/REST/Cypher/Agent.pm line 54.
caught error: bless({
  error => {
    as_string => "500 Can't connect to some.other.server:7474 (Bad hostname)\nContent-Type: text/plain\nClient-Date: Sun, 01 Nov 2015 03:42:58 GMT\nClient-Warning: Internal response\n\nCan't connect to some.other.server:7474 (Bad hostname)\n\nLWP::Protocol::http::Socket: Bad hostname 'some.other.server' at C:/strawberry163/perl/site/lib/LWP/Protocol/http.pm line 51.\n",
    code => 500,
    message => "Can't connect to some.other.server:7474 (Bad hostname)",
  },
  previous_exception => "Can't connect to some.other.server:7474 (Bad hostname)\n\nLWP::Protocol::http::Socket: Bad hostname 'some.other.server' at C:/strawberry163/perl/site/lib/LWP/Protocol/http.pm line 51.\n",
  response => bless({
    _content => "Can't connect to some.other.server:7474 (Bad hostname)\n\nLWP::Protocol::http::Socket: Bad hostname 'some.other.server' at C:/strawberry163/perl/site/lib/LWP/Protocol/http.pm line 51.\n",
    _headers => bless({
      "::std_case"     => {
                            "client-date"    => "Client-Date",
                            "client-warning" => "Client-Warning",
                          },
      "client-date"    => "Sun, 01 Nov 2015 03:42:58 GMT",
      "client-warning" => "Internal response",
      "content-type"   => "text/plain",
    }, "HTTP::Headers"),
    _msg => "Can't connect to some.other.server:7474 (Bad hostname)",
    _rc => 500,
    _request => bless({
      _content => "{\"params\":null,\"query\":\"MATCH (n:Foo) RETURN count(n)\"}",
      _headers => bless({
                    "authorization"  => "Basic bmVvNGo6bmVvNGo=",
                    "content-length" => 55,
                    "content-type"   => "application/json",
                    "user-agent"     => "REST::Cypher::Agent/0.0.0",
                  }, "HTTP::Headers"),
      _method  => "POST",
      _uri     => bless(do{\(my $o = "http://some.other.server:7474/db/data/cypher")}, "URI::http"),
    }, "HTTP::Request"),
  }, "HTTP::Response"),
}, "REST::Cypher::Exception::Response") at t/00.cypher.t line 75.
t/00.cypher.t .............. ok
t/author-no-breakpoints.t .. skipped: these tests are for testing by the author
t/author-no-tabs.t ......... skipped: these tests are for testing by the author
t/release-kwalitee.t ....... skipped: these tests are for release candidate testing
t/release-pod-coverage.t ... skipped: these tests are for release candidate testing
t/release-pod-syntax.t ..... skipped: these tests are for release candidate testing
All tests successful.
Files=8, Tests=12,  4 wallclock secs ( 0.02 usr +  0.07 sys =  0.09 CPU)
Result: PASS

------------------------------
PREREQUISITES
------------------------------

Prerequisite modules loaded:

requires:

    Module                       Need Have    
    ---------------------------- ---- --------
    JSON::Any                    0    1.32    
    LWP::UserAgent               0    6.05    
    Moo                          0    1.004002
    MooseX::Params::Validate     0    0.18    
    MooX::Types::MooseLike::Base 0    0.25    
    overload                     0    1.18    
    strict                       0    1.07    
    Throwable                    0    0.200010
    warnings                     0    1.13    

build_requires:

    Module                       Need Have    
    ---------------------------- ---- --------
    Data::Dump                   0    1.21    
    ExtUtils::MakeMaker          0    6.64    
  ! FindBin::libs                0    ?      
    HTTP::Status                 0    6.03    
    Pod::Coverage::TrustPod      0    0.100003
    Test::Kwalitee               0    1.18    
    Test::Most                   0    0.33    
    Test::NoTabs                 0    1.3     
    Test::Pod                    0    1.48    
    Test::Pod::Coverage          0    1.08    
    Test::UseAllModules          0    0.14    
    Try::Tiny                    0    0.19    

configure_requires:

    Module                       Need Have    
    ---------------------------- ---- --------
    ExtUtils::MakeMaker          0    6.64    


------------------------------
ENVIRONMENT AND OTHER CONTEXT
------------------------------

Environment variables:

    AUTOMATED_TESTING = 1
    COMSPEC = C:\WINDOWS\system32\cmd.exe
    NUMBER_OF_PROCESSORS = 1
    PATH = C:\WINDOWS\system32;C:\WINDOWS;C:\WINDOWS\System32\Wbem;C:\strawberry163\c\bin;C:\strawberry163\perl\site\bin;C:\strawberry163\perl\bin
    PERL5LIB = 
    PERL5OPT = 
    PERL5_CPANPLUS_IS_RUNNING = 1524
    PERL5_CPAN_IS_RUNNING = 1524
    PERL5_CPAN_IS_RUNNING_IN_RECURSION = 1596,1524
    PERL_CR_SMOKER_CURRENT = REST-Cypher-0.0.4
    PERL_CR_SMOKER_RUNONCE = 1
    PERL_EXTUTILS_AUTOINSTALL = --defaultdeps
    PERL_MM_USE_DEFAULT = 1
    PROCESSOR_IDENTIFIER = x86 Family 16 Model 5 Stepping 3, AuthenticAMD
    TEMP = C:\DOCUME~1\c\LOCALS~1\Temp
    TERM = dumb

Perl special variables (and OS-specific diagnostics, for MSWin32):

    $^X = C:\strawberry163\perl\bin\perl.exe
    $UID/$EUID = 0 / 0
    $GID = 0
    $EGID = 0
    Win32::GetOSName = WinXP/.Net
    Win32::GetOSVersion = Service Pack 3, 5, 1, 2600, 2, 3, 0, 256, 1
    Win32::FsType = NTFS
    Win32::IsAdminUser = 1

Perl module toolchain versions installed:

    Module              Have    
    ------------------- --------
    CPAN                2.10    
    CPAN::Meta          2.140640
    Cwd                 3.40    
    ExtUtils::CBuilder  0.280206
    ExtUtils::Command   1.17    
    ExtUtils::Install   1.58    
    ExtUtils::MakeMaker 6.64    
    ExtUtils::Manifest  1.61    
    ExtUtils::ParseXS   3.24    
    File::Spec          3.40    
    JSON                2.90    
    JSON::PP            2.27203 
    Module::Build       0.4205  
    Module::Signature   0.70    
    Parse::CPAN::Meta   1.4414  
    Test::Harness       3.30    
    Test::More          1.001002
    YAML                0.90    
    YAML::Syck          1.24    
    version             0.9902  


--

Summary of my perl5 (revision 5 version 16 subversion 3) configuration:
   
  Platform:
    osname=MSWin32, osvers=4.0, archname=MSWin32-x86-multi-thread
    uname='Win32 strawberry-perl 5.16.3.1 #1 Tue Mar 12 13:55:20 2013 i386'
    config_args='undef'
    hint=recommended, useposix=true, d_sigaction=undef
    useithreads=define, usemultiplicity=define
    useperlio=define, d_sfio=undef, uselargefiles=define, usesocks=undef
    use64bitint=undef, use64bitall=undef, uselongdouble=undef
    usemymalloc=n, bincompat5005=undef
  Compiler:
    cc='gcc', ccflags =' -s -O2 -DWIN32  -DPERL_TEXTMODE_SCRIPTS -DPERL_IMPLICIT_CONTEXT -DPERL_IMPLICIT_SYS -fno-strict-aliasing -mms-bitfields',
    optimize='-s -O2',
    cppflags='-DWIN32'
    ccversion='', gccversion='4.6.3', gccosandvers=''
    intsize=4, longsize=4, ptrsize=4, doublesize=8, byteorder=1234
    d_longlong=undef, longlongsize=8, d_longdbl=define, longdblsize=12
    ivtype='long', ivsize=4, nvtype='double', nvsize=8, Off_t='long long', lseeksize=8
    alignbytes=8, prototype=define
  Linker and Libraries:
    ld='g++', ldflags ='-s -L"C:\strawberry163\perl\lib\CORE" -L"C:\strawberry163\c\lib"'
    libpth=C:\strawberry163\c\lib C:\strawberry163\c\i686-w64-mingw32\lib
    libs=-lmoldname -lkernel32 -luser32 -lgdi32 -lwinspool -lcomdlg32 -ladvapi32 -lshell32 -lole32 -loleaut32 -lnetapi32 -luuid -lws2_32 -lmpr -lwinmm -lversion -lodbc32 -lodbccp32 -lcomctl32
    perllibs=-lmoldname -lkernel32 -luser32 -lgdi32 -lwinspool -lcomdlg32 -ladvapi32 -lshell32 -lole32 -loleaut32 -lnetapi32 -luuid -lws2_32 -lmpr -lwinmm -lversion -lodbc32 -lodbccp32 -lcomctl32
    libc=, so=dll, useshrplib=true, libperl=libperl516.a
    gnulibc_version=''
  Dynamic Linking:
    dlsrc=dl_win32.xs, dlext=dll, d_dlsymun=undef, ccdlflags=' '
    cccdlflags=' ', lddlflags='-mdll -s -L"C:\strawberry163\perl\lib\CORE" -L"C:\strawberry163\c\lib"'


Characteristics of this binary (from libperl): 
  Compile-time options: HAS_TIMES HAVE_INTERP_INTERN MULTIPLICITY
                        PERLIO_LAYERS PERL_DONT_CREATE_GVSV
                        PERL_IMPLICIT_CONTEXT PERL_IMPLICIT_SYS
                        PERL_MALLOC_WRAP PERL_PRESERVE_IVUV PL_OP_SLAB_ALLOC
                        USE_ITHREADS USE_LARGE_FILES USE_LOCALE
                        USE_LOCALE_COLLATE USE_LOCALE_CTYPE
                        USE_LOCALE_NUMERIC USE_PERLIO USE_PERL_ATOF
  Built under MSWin32
  Compiled at Mar 12 2013 14:01:07
  %ENV:
    PERL5_CPANPLUS_IS_RUNNING="1524"
    PERL5_CPAN_IS_RUNNING="1524"
    PERL5_CPAN_IS_RUNNING_IN_RECURSION="1596,1524"
    PERL_CR_SMOKER_CURRENT="REST-Cypher-0.0.4"
    PERL_CR_SMOKER_RUNONCE="1"
    PERL_EXTUTILS_AUTOINSTALL="--defaultdeps"
    PERL_MM_USE_DEFAULT="1"
  @INC:
    C:/strawberry163/perl/site/lib
    C:/strawberry163/perl/vendor/lib
    C:/strawberry163/perl/lib
    .