Report for POSIX-1003-0.99_01

Back
From: metabase:user:320bfe00-2aae-11df-837a-5e0a49663a4f
Subject: PASS POSIX-1003-0.99_01 v5.16.3 GNU/Linux
Date: 2015-01-30T23:51:07Z

This distribution has been tested as part of the CPAN Testers
project, supporting the Perl programming language.  See
http://wiki.cpantesters.org/ for more information or email
questions to cpan-testers-discuss@perl.org


--
Dear Mark Overmeer,

This is a computer-generated report for POSIX-1003-0.99_01
on perl 5.16.3, created by CPAN-Reporter-1.2011.

Thank you for uploading your work to CPAN.  Congratulations!
All tests were successful.

Sections of this report:

    * Tester comments
    * Program output
    * Prerequisites
    * Environment and other context

------------------------------
TESTER COMMENTS
------------------------------

Additional comments from tester:

this report is from an automated smoke testing program
and was not reviewed by a human for accuracy

------------------------------
PROGRAM OUTPUT
------------------------------

Output from '/usr/bin/make test':

Skip blib/lib/POSIX/1003/Limit.pm (unchanged)
Skip blib/lib/POSIX/1003/Errno.pm (unchanged)
Skip blib/lib/POSIX/1003/Locale.pm (unchanged)
Skip blib/lib/POSIX/1003/Events.pm (unchanged)
Skip blib/lib/POSIX/1003/Limit.pod (unchanged)
cp lib/POSIX/1003/Sysconf.pod blib/lib/POSIX/1003/Sysconf.pod
Skip blib/lib/POSIX/1003/FdIO.pm (unchanged)
Skip blib/lib/POSIX/1003/Time.pm (unchanged)
Skip blib/lib/POSIX/1003/FdIO.pod (unchanged)
Skip blib/lib/POSIX/1003/Socket.pod (unchanged)
Skip blib/lib/POSIX/1003/User.pm (unchanged)
Skip blib/lib/POSIX/1003/Locale.pod (unchanged)
Skip blib/lib/POSIX/1003/Termios.pm (unchanged)
Skip blib/lib/POSIX/1003/OS.pm (unchanged)
Skip blib/lib/POSIX/1003/Socket.pm (unchanged)
Skip blib/lib/POSIX/1003/Errno.pod (unchanged)
Skip blib/lib/POSIX/1003/Time.pod (unchanged)
Skip blib/lib/POSIX/1003/Pathconf.pm (unchanged)
Skip blib/lib/POSIX/1003/Proc.pm (unchanged)
cp lib/POSIX/1003/Symbols.pm blib/lib/POSIX/1003/Symbols.pm
Skip blib/lib/POSIX/1003/Confstr.pod (unchanged)
Skip blib/lib/POSIX/1003/Module.pm (unchanged)
Skip blib/lib/POSIX/1003/Properties.pod (unchanged)
Skip blib/lib/POSIX/1003/Math.pm (unchanged)
Skip blib/lib/POSIX/Overview.pod (unchanged)
Skip blib/lib/POSIX/1003/Events.pod (unchanged)
Skip blib/lib/POSIX/1003/FS.pod (unchanged)
Skip blib/lib/POSIX/1003/Module.pod (unchanged)
Skip blib/lib/POSIX/1003/FS.pm (unchanged)
Skip blib/lib/POSIX/1003/Signals.pm (unchanged)
Skip blib/lib/POSIX/1003/User.pod (unchanged)
Skip blib/lib/POSIX/1003.pm (unchanged)
Skip blib/lib/POSIX/1003/Sysconf.pm (unchanged)
Skip blib/lib/POSIX/1003/Proc.pod (unchanged)
Skip blib/lib/POSIX/1003/OS.pod (unchanged)
Skip blib/lib/POSIX/1003/Fcntl.pod (unchanged)
Skip blib/lib/POSIX/1003/Confstr.pm (unchanged)
Skip blib/lib/POSIX/1003/Math.pod (unchanged)
Skip blib/lib/POSIX/1003/Signals.pod (unchanged)
Skip blib/lib/POSIX/1003/Pathconf.pod (unchanged)
Skip blib/lib/POSIX/1003/Termios.pod (unchanged)
Skip blib/lib/POSIX/1003/Properties.pm (unchanged)
Skip blib/lib/POSIX/1003/Fcntl.pm (unchanged)
Skip blib/lib/POSIX/1003.pod (unchanged)
Skip blib/lib/POSIX/SigSet.pm (unchanged)
Skip blib/lib/POSIX/SigSet.pod (unchanged)
Skip blib/lib/POSIX/SigAction.pod (unchanged)
Skip blib/lib/POSIX/SigAction.pm (unchanged)
"/home/sand/src/perl/repoperls/installed-perls/perl/v5.16.3/a2da/bin/perl" -MExtUtils::Command::MM -e 'cp_nonempty' -- 1003.bs blib/arch/auto/POSIX/1003/1003.bs 644
PERL_DL_NONLAZY=1 "/home/sand/src/perl/repoperls/installed-perls/perl/v5.16.3/a2da/bin/perl" "-MExtUtils::Command::MM" "-MTest::Harness" "-e" "undef *Test::Harness::Switches; test_harness(0, 'blib/lib', 'blib/arch')" t/*.t
POSIX version 1.30
Test::More version 1.301001098
XSLoader version 0.16
t/01use.t ......... ok
t/20math.t ........ ok
t/21fdio.t ........ ok
t/22fs.t .......... ok
t/23locale.t ...... ok
t/24os.t .......... ok
t/25proc.t ........ ok
t/26time.t ........ ok
t/27signals.t ..... ok
t/28user.t ........ ok
t/29errno.t ....... ok
t/30sigaction.t ... ok
t/31termios.t ..... ok
t/32fcntl.t ....... ok
t/60sysconf.t ..... ok
t/61confstr.t ..... ok
t/62pathconf.t .... ok
t/63properties.t .. ok
t/64ulimit.t ...... ok
t/65rlimit.t ...... ok
t/70lazy.t ........ ok
All tests successful.
Files=21, Tests=250,  5 wallclock secs ( 0.09 usr  0.03 sys +  1.35 cusr  0.16 csys =  1.63 CPU)
Result: PASS

------------------------------
PREREQUISITES
------------------------------

Prerequisite modules loaded:

requires:

    Module              Need Have        
    ------------------- ---- ------------
    File::Spec          0    3.47        
    POSIX               0    1.30        
    Test::More          0.47 1.301001_098
    XSLoader            0    0.16        

build_requires:

    Module              Need Have        
    ------------------- ---- ------------
    ExtUtils::MakeMaker 0    7.05_10     

configure_requires:

    Module              Need Have        
    ------------------- ---- ------------
    ExtUtils::MakeMaker 0    7.05_10     


------------------------------
ENVIRONMENT AND OTHER CONTEXT
------------------------------

Environment variables:

    AUTOMATED_TESTING = 1
    LANG = en_US.UTF-8
    LANGUAGE = en_US:en
    PATH = /home/sand/bin:/usr/local/bin:/usr/bin:/bin:/usr/games:/usr/local/perl/bin:/usr/X11/bin:/sbin:/usr/sbin
    PERL5LIB = 
    PERL5OPT = 
    PERL5_CPANPLUS_IS_RUNNING = 22270
    PERL5_CPAN_IS_RUNNING = 22270
    PERL_MM_USE_DEFAULT = 1
    SHELL = /usr/bin/zsh
    TERM = screen

Perl special variables (and OS-specific diagnostics, for MSWin32):

    $^X = /home/sand/src/perl/repoperls/installed-perls/perl/v5.16.3/a2da/bin/perl
    $UID/$EUID = 1005 / 1005
    $GID = 1005 1005
    $EGID = 1005 1005

Perl module toolchain versions installed:

    Module              Have        
    ------------------- ------------
    CPAN                2.05        
    CPAN::Meta          2.143240    
    Cwd                 3.47        
    ExtUtils::CBuilder  0.280220    
    ExtUtils::Command   7.05_10     
    ExtUtils::Install   1.58        
    ExtUtils::MakeMaker 7.05_10     
    ExtUtils::Manifest  1.70        
    ExtUtils::ParseXS   3.24        
    File::Spec          3.47        
    JSON                2.90        
    JSON::PP            2.27203     
    Module::Build       0.4211      
    Module::Signature   0.73        
    Parse::CPAN::Meta   1.4414      
    Test::Harness       3.35        
    Test::More          1.301001_098
    YAML                1.14        
    YAML::Syck          1.29        
    version             0.9912      


--

Summary of my perl5 (revision 5 version 16 subversion 3) configuration:
  Commit id: fd04d42d38f4751b981eb6e9213ee1ab8ef11ea6
  Platform:
    osname=linux, osvers=3.16.0-4-amd64, archname=x86_64-linux-thread-multi-ld
    uname='linux k83 3.16.0-4-amd64 #1 smp debian 3.16.7-ckt2-1 (2014-12-08) x86_64 gnulinux '
    config_args='-Dprefix=/home/sand/src/perl/repoperls/installed-perls/perl/v5.16.3/a2da -Dmyhostname=k83 -Dinstallusrbinperl=n -Uversiononly -Dusedevel -des -Ui_db -Duseithreads -Duselongdouble -DDEBUGGING=-g'
    hint=recommended, useposix=true, d_sigaction=define
    useithreads=define, usemultiplicity=define
    useperlio=define, d_sfio=undef, uselargefiles=define, usesocks=undef
    use64bitint=define, use64bitall=define, uselongdouble=define
    usemymalloc=n, bincompat5005=undef
  Compiler:
    cc='cc', ccflags ='-D_REENTRANT -D_GNU_SOURCE -fno-strict-aliasing -pipe -fstack-protector -I/usr/local/include -D_LARGEFILE_SOURCE -D_FILE_OFFSET_BITS=64',
    optimize='-O2 -g',
    cppflags='-D_REENTRANT -D_GNU_SOURCE -fno-strict-aliasing -pipe -fstack-protector -I/usr/local/include'
    ccversion='', gccversion='4.9.2', gccosandvers=''
    intsize=4, longsize=8, ptrsize=8, doublesize=8, byteorder=12345678
    d_longlong=define, longlongsize=8, d_longdbl=define, longdblsize=16
    ivtype='long', ivsize=8, nvtype='long double', nvsize=16, Off_t='off_t', lseeksize=8
    alignbytes=16, prototype=define
  Linker and Libraries:
    ld='cc', ldflags =' -fstack-protector -L/usr/local/lib'
    libpth=/usr/local/lib /lib/x86_64-linux-gnu /lib/../lib /usr/lib/x86_64-linux-gnu /usr/lib/../lib /lib /usr/lib
    libs=-lnsl -lgdbm -ldb -ldl -lm -lcrypt -lutil -lpthread -lc -lgdbm_compat
    perllibs=-lnsl -ldl -lm -lcrypt -lutil -lpthread -lc
    libc=, so=so, useshrplib=false, libperl=libperl.a
    gnulibc_version='2.19'
  Dynamic Linking:
    dlsrc=dl_dlopen.xs, dlext=so, d_dlsymun=undef, ccdlflags='-Wl,-E'
    cccdlflags='-fPIC', lddlflags='-shared -O2 -g -L/usr/local/lib -fstack-protector'


Characteristics of this binary (from libperl): 
  Compile-time options: HAS_TIMES MULTIPLICITY PERLIO_LAYERS
                        PERL_DONT_CREATE_GVSV PERL_IMPLICIT_CONTEXT
                        PERL_MALLOC_WRAP PERL_PRESERVE_IVUV PERL_USE_DEVEL
                        USE_64_BIT_ALL USE_64_BIT_INT USE_ITHREADS
                        USE_LARGE_FILES USE_LOCALE USE_LOCALE_COLLATE
                        USE_LOCALE_CTYPE USE_LOCALE_NUMERIC USE_LONG_DOUBLE
                        USE_PERLIO USE_PERL_ATOF USE_REENTRANT_API
  Built under linux
  Compiled at Jan 10 2015 09:23:23
  %ENV:
    PERL5LIB=""
    PERL5OPT=""
    PERL5_CPANPLUS_IS_RUNNING="22270"
    PERL5_CPAN_IS_RUNNING="22270"
    PERL_MM_USE_DEFAULT="1"
  @INC:
    /home/sand/src/perl/repoperls/installed-perls/perl/v5.16.3/a2da/lib/site_perl/5.16.3/x86_64-linux-thread-multi-ld
    /home/sand/src/perl/repoperls/installed-perls/perl/v5.16.3/a2da/lib/site_perl/5.16.3
    /home/sand/src/perl/repoperls/installed-perls/perl/v5.16.3/a2da/lib/5.16.3/x86_64-linux-thread-multi-ld
    /home/sand/src/perl/repoperls/installed-perls/perl/v5.16.3/a2da/lib/5.16.3
    .