Report for REST-Cypher-0.0.4

Back
From: metabase:user:320bfe00-2aae-11df-837a-5e0a49663a4f
Subject: PASS REST-Cypher-0.0.4 v5.8.8 GNU/Linux
Date: 2017-06-09T04:33:16Z

This distribution has been tested as part of the CPAN Testers
project, supporting the Perl programming language.  See
http://wiki.cpantesters.org/ for more information or email
questions to cpan-testers-discuss@perl.org


--
Dear Chisel,

This is a computer-generated report for REST-Cypher-0.0.4
on perl 5.8.8, created by CPAN-Reporter-1.2018.

Thank you for uploading your work to CPAN.  Congratulations!
All tests were successful.

Sections of this report:

    * Tester comments
    * Program output
    * Prerequisites
    * Environment and other context

------------------------------
TESTER COMMENTS
------------------------------

Additional comments from tester:

this report is from an automated smoke testing program
and was not reviewed by a human for accuracy

------------------------------
PROGRAM OUTPUT
------------------------------

Output from '/usr/bin/make test':

PERL_DL_NONLAZY=1 "/home/sand/src/perl/repoperls/installed-perls/host/k93msid/perl-5.8.8/89ad/bin/perl" "-MExtUtils::Command::MM" "-MTest::Harness" "-e" "undef *Test::Harness::Switches; test_harness(0, 'blib/lib', 'blib/arch')" t/*.t
t/00-load.t ................ ok
t/00.agent.t ............... skipped: PERL_CYPHER_NEO4J_ADDRESS needs a value
caught error: bless({
  error => {
    as_string => "500 Can't connect to some.other.server:7474\nContent-Type: text/plain\nClient-Date: Fri, 09 Jun 2017 04:32:46 GMT\nClient-Warning: Internal response\n\nCan't connect to some.other.server:7474\n\nName or service not known at /home/sand/src/perl/repoperls/installed-perls/host/k93msid/perl-5.8.8/89ad/lib/site_perl/5.8.8/LWP/Protocol/http.pm line 46.\n",
    code => 500,
    message => "Can't connect to some.other.server:7474",
  },
  previous_exception => "",
  response => bless({
    _content => "Can't connect to some.other.server:7474\n\nName or service not known at /home/sand/src/perl/repoperls/installed-perls/host/k93msid/perl-5.8.8/89ad/lib/site_perl/5.8.8/LWP/Protocol/http.pm line 46.\n",
    _headers => bless({
      "::std_case"     => {
                            "client-date"    => "Client-Date",
                            "client-warning" => "Client-Warning",
                          },
      "client-date"    => "Fri, 09 Jun 2017 04:32:46 GMT",
      "client-warning" => "Internal response",
      "content-type"   => "text/plain",
    }, "HTTP::Headers"),
    _msg => "Can't connect to some.other.server:7474",
    _rc => 500,
    _request => bless({
      _content => "{\"params\":null,\"query\":\"MATCH (n:Foo) RETURN count(n)\"}",
      _headers => bless({
                    "authorization"  => "Basic bmVvNGo6bmVvNGo=",
                    "content-length" => 55,
                    "content-type"   => "application/json",
                    "user-agent"     => "REST::Cypher::Agent/0.0.0",
                  }, "HTTP::Headers"),
      _method  => "POST",
      _uri     => bless(do{\(my $o = "http://some.other.server:7474/db/data/cypher")}, "URI::http"),
    }, "HTTP::Request"),
  }, "HTTP::Response"),
}, "REST::Cypher::Exception::Response") at t/00.cypher.t line 75.
t/00.cypher.t .............. ok
t/author-no-breakpoints.t .. skipped: these tests are for testing by the author
t/author-no-tabs.t ......... skipped: these tests are for testing by the author
t/release-kwalitee.t ....... skipped: these tests are for release candidate testing
t/release-pod-coverage.t ... skipped: these tests are for release candidate testing
t/release-pod-syntax.t ..... skipped: these tests are for release candidate testing
All tests successful.
Files=8, Tests=12,  5 wallclock secs ( 0.03 usr  0.04 sys +  1.24 cusr  0.21 csys =  1.52 CPU)
Result: PASS

------------------------------
PREREQUISITES
------------------------------

Prerequisite modules loaded:

requires:

    Module                       Need Have    
    ---------------------------- ---- --------
    JSON::Any                    0    1.39    
    LWP::UserAgent               0    6.26    
    Moo                          0    2.003002
    MooseX::Params::Validate     0    0.21    
    MooX::Types::MooseLike::Base 0    0.29    
    overload                     0    1.04    
    strict                       0    1.03    
    Throwable                    0    0.200013
    warnings                     0    1.05    

build_requires:

    Module                       Need Have    
    ---------------------------- ---- --------
    Data::Dump                   0    1.23    
    ExtUtils::MakeMaker          0    7.25_04 
    FindBin::libs                0    1.62    
    HTTP::Status                 0    6.11    
    Pod::Coverage::TrustPod      0    0.100003
    Test::Kwalitee               0    1.26    
    Test::Most                   0    0.35    
    Test::NoTabs                 0    2.00    
    Test::Pod                    0    1.51    
    Test::Pod::Coverage          0    1.10    
    Test::UseAllModules          0    0.17    
    Try::Tiny                    0    0.28    

configure_requires:

    Module                       Need Have    
    ---------------------------- ---- --------
    ExtUtils::MakeMaker          0    7.25_04 


------------------------------
ENVIRONMENT AND OTHER CONTEXT
------------------------------

Environment variables:

    AUTOMATED_TESTING = 1
    LANG = en_US.UTF-8
    PATH = /home/sand/bin:/usr/local/bin:/usr/bin:/bin:/usr/games:/usr/local/perl/bin:/usr/X11/bin:/sbin:/usr/sbin
    PERL5LIB = 
    PERL5OPT = 
    PERL5_CPANPLUS_IS_RUNNING = 3900
    PERL5_CPAN_IS_RUNNING = 3900
    PERL_CANARY_STABILITY_NOPROMPT = 1
    PERL_MM_USE_DEFAULT = 1
    PERL_USE_UNSAFE_INC = 1
    SHELL = /usr/bin/zsh
    TERM = screen

Perl special variables (and OS-specific diagnostics, for MSWin32):

    $^X = /home/sand/src/perl/repoperls/installed-perls/host/k93msid/perl-5.8.8/89ad/bin/perl
    $UID/$EUID = 1005 / 1005
    $GID = 1005 1005
    $EGID = 1005 1005

Perl module toolchain versions installed:

    Module              Have    
    ------------------- --------
    CPAN                2.18    
    CPAN::Meta          2.150010
    Cwd                 3.62    
    ExtUtils::CBuilder  0.280224
    ExtUtils::Command   7.25_04 
    ExtUtils::Install   2.14    
    ExtUtils::MakeMaker 7.25_04 
    ExtUtils::Manifest  1.70    
    ExtUtils::ParseXS   3.30    
    File::Spec          3.62    
    JSON                2.90    
    JSON::PP            2.94    
    Module::Build       0.4224  
    Module::Signature   0.81    
    Parse::CPAN::Meta   1.4422  
    Test::Harness       3.39    
    Test::More          1.302085
    YAML                1.23    
    YAML::Syck          1.30    
    version             0.9918  


--

Summary of my perl5 (revision 5 version 8 subversion 8) configuration:
  Platform:
    osname=linux, osvers=4.9.0-2-amd64, archname=x86_64-linux
    uname='linux k93msid 4.9.0-2-amd64 #1 smp debian 4.9.18-1 (2017-03-30) x86_64 gnulinux '
    config_args='-Dprefix=/home/sand/src/perl/repoperls/installed-perls/host/k93msid/perl-5.8.8/89ad -Dmyhostname=k93msid -Dinstallusrbinperl=n -Uversiononly -Dusedevel -des -Ui_db -Dlibswanted=cl pthread socket inet nsl gdbm dbm malloc dl ld sun m crypt sec util c cposix posix ucb BSD gdbm_compat -Uuseithreads -Uuselongdouble -DDEBUGGING=-g'
    hint=recommended, useposix=true, d_sigaction=define
    usethreads=undef use5005threads=undef useithreads=undef usemultiplicity=undef
    useperlio=define d_sfio=undef uselargefiles=define usesocks=undef
    use64bitint=define use64bitall=define uselongdouble=undef
    usemymalloc=n, bincompat5005=undef
  Compiler:
    cc='cc', ccflags ='-fno-strict-aliasing -pipe -Wdeclaration-after-statement -I/usr/local/include -D_LARGEFILE_SOURCE -D_FILE_OFFSET_BITS=64',
    optimize='-O2',
    cppflags='-fno-strict-aliasing -pipe -Wdeclaration-after-statement -I/usr/local/include'
    ccversion='', gccversion='6.3.0 20170406', gccosandvers=''
    intsize=4, longsize=8, ptrsize=8, doublesize=8, byteorder=12345678
    d_longlong=define, longlongsize=8, d_longdbl=define, longdblsize=16
    ivtype='long', ivsize=8, nvtype='double', nvsize=8, Off_t='off_t', lseeksize=8
    alignbytes=8, prototype=define
  Linker and Libraries:
    ld='cc', ldflags =' -L/usr/local/lib'
    libpth=/usr/local/lib /lib/x86_64-linux-gnu /lib/../lib /usr/lib/x86_64-linux-gnu /usr/lib/../lib /lib /usr/lib
    libs=-lpthread -lnsl -ldl -lm -lcrypt -lutil -lc
    perllibs=-lpthread -lnsl -ldl -lm -lcrypt -lutil -lc
    libc=libc-2.24.so, so=so, useshrplib=false, libperl=libperl.a
    gnulibc_version='2.24'
  Dynamic Linking:
    dlsrc=dl_dlopen.xs, dlext=so, d_dlsymun=undef, ccdlflags='-Wl,-E'
    cccdlflags='-fpic', lddlflags='-shared -L/usr/local/lib'


Characteristics of this binary (from libperl): 
  Compile-time options: PERL_MALLOC_WRAP USE_64_BIT_ALL USE_64_BIT_INT
                        USE_LARGE_FILES USE_PERLIO
  Built under linux
  Compiled at Apr 17 2017 10:26:05
  %ENV:
    PERL5LIB=""
    PERL5OPT=""
    PERL5_CPANPLUS_IS_RUNNING="3900"
    PERL5_CPAN_IS_RUNNING="3900"
    PERL_CANARY_STABILITY_NOPROMPT="1"
    PERL_MM_USE_DEFAULT="1"
    PERL_USE_UNSAFE_INC="1"
  @INC:
    /home/sand/src/perl/repoperls/installed-perls/host/k93msid/perl-5.8.8/89ad/lib/5.8.8/x86_64-linux
    /home/sand/src/perl/repoperls/installed-perls/host/k93msid/perl-5.8.8/89ad/lib/5.8.8
    /home/sand/src/perl/repoperls/installed-perls/host/k93msid/perl-5.8.8/89ad/lib/site_perl/5.8.8/x86_64-linux
    /home/sand/src/perl/repoperls/installed-perls/host/k93msid/perl-5.8.8/89ad/lib/site_perl/5.8.8
    /home/sand/src/perl/repoperls/installed-perls/host/k93msid/perl-5.8.8/89ad/lib/site_perl
    .