Report for Net-DHCP-0.692

Back
From: metabase:user:314402c4-2aae-11df-837a-5e0a49663a4f
Subject: PASS Net-DHCP-0.692 v5.12.3 FreeBSD
Date: 2012-09-04T14:56:18Z

This distribution has been tested as part of the CPAN Testers
project, supporting the Perl programming language.  See
http://wiki.cpantesters.org/ for more information or email
questions to cpan-testers-discuss@perl.org


--
Dear Dean Hamstead,

This is a computer-generated report for Net-DHCP-0.692
on perl 5.12.3, created by CPAN-Reporter-1.2006.

Thank you for uploading your work to CPAN.  Congratulations!
All tests were successful.

Sections of this report:

    * Tester comments
    * Program output
    * Prerequisites
    * Environment and other context

------------------------------
TESTER COMMENTS
------------------------------

Additional comments from tester:

none provided

------------------------------
PROGRAM OUTPUT
------------------------------

Output from './Build test':

# Testing Net::DHCP::Packet 0.69, Perl 5.012003, /usr/perl5.12.3/bin/perl5.12.3
t/00.load.t ......................... ok
t/03.manifest.t ..................... skipped: Author test.  Set $ENV{TEST_AUTHOR} to a true value to run.
t/21-net-dhcp-packet-packinet.t ..... ok
t/22-net-dhcp-packet-options.t ...... ok
t/30-net-dhcp-constants-coverage.t .. ok
t/51-net-dhcp-packet-new-basic.t .... ok
t/52-net-dhcp-packet-new-empty.t .... ok
t/53-net-dhcp-packet-new-broken.t ... ok
t/author-critic.t ................... skipped: these tests are for testing by the author
t/author-test-eol.t ................. skipped: these tests are for testing by the author
t/release-distmeta.t ................ skipped: these tests are for release candidate testing
t/release-kwalitee.t ................ skipped: these tests are for release candidate testing
t/release-pod-coverage.t ............ skipped: these tests are for release candidate testing
t/release-pod-syntax.t .............. skipped: these tests are for release candidate testing
All tests successful.
Files=14, Tests=367,  1 wallclock secs ( 0.09 usr  0.05 sys +  0.45 cusr  0.16 csys =  0.76 CPU)
Result: PASS

------------------------------
PREREQUISITES
------------------------------

Prerequisite modules loaded:

requires:

    Module        Need   Have    
    ------------- ------ --------
    Carp          0      1.26    
    constant      0      1.20    
    Exporter      0      5.66    
    List::Util    0      1.25    
    perl          v5.8.0 5.012003
    Scalar::Util  0      1.25    
    Socket        0      2.001   
    strict        0      1.04    
    warnings      0      1.09    

build_requires:

    Module        Need   Have    
    ------------- ------ --------
    File::Spec    0      3.33    
    Module::Build 0.3601 0.4002  
    Test::More    0      0.98    
    Test::Warn    0      0.24    

configure_requires:

    Module        Need   Have    
    ------------- ------ --------
    Module::Build 0.3601 0.4002  


------------------------------
ENVIRONMENT AND OTHER CONTEXT
------------------------------

Environment variables:

    DBIC_NO_WARN_BAD_PERL = 1
    PATH = /usr/local/bin:/usr/X11R6/bin:/usr/X11/bin:/usr/perl5.8.0/bin:/usr/bin:/bin:/usr/local/sbin:/usr/sbin:/sbin:/usr/local/pilot/bin:/home/cpansand/bin/freebsd8.0:/home/cpansand/bin/sh:/home/cpansand/bin:/usr/X386/bin:/usr/games:/home/cpansand/devel:/usr/home/e/eserte/work/srezic-misc/scripts
    PERL5LIB = /usr/local/src/CPAN/build/Math-Random-MT-Auto-6.22-R50KGC/blib/arch:/usr/local/src/CPAN/build/Math-Random-MT-Auto-6.22-R50KGC/blib/lib:/usr/local/src/CPAN/build/CPAN-Local-0.005-iVIjjR/blib/arch:/usr/local/src/CPAN/build/CPAN-Local-0.005-iVIjjR/blib/lib:/usr/local/src/CPAN/build/MooseX-Role-Loggable-0.009-1fmuXN/blib/arch:/usr/local/src/CPAN/build/MooseX-Role-Loggable-0.009-1fmuXN/blib/lib
    PERL5OPT = 
    PERL5_CPANPLUS_IS_RUNNING = 66662
    PERL5_CPAN_IS_RUNNING = 66662
    PERL5_CPAN_IS_RUNNING_IN_RECURSION = 66615,66662
    PERL_BATCH = yes
    PERL_CPAN_REPORTER_CONFIG = /var/tmp/cpansmoker-1023/N1l41QuDNj_config.ini
    PERL_EXTUTILS_AUTOINSTALL = --defaultdeps
    PERL_HTML_DISPLAY_CLASS = HTML::Display::Mozilla
    SHELL = /usr/local/bin/zsh
    TERM = screen
    TMPDIR = /var/tmp/cpansmoker-1023

Perl special variables (and OS-specific diagnostics, for MSWin32):

    $^X = /usr/perl5.12.3/bin/perl5.12.3
    $UID/$EUID = 1023 / 1023
    $GID = 1023 1023
    $EGID = 1023 1023

Perl module toolchain versions installed:

    Module              Have    
    ------------------- --------
    CPAN                1.9800  
    CPAN::Meta          2.120921
    Cwd                 3.33    
    ExtUtils::CBuilder  0.280205
    ExtUtils::Command   1.17    
    ExtUtils::Install   1.55    
    ExtUtils::MakeMaker 6.62    
    ExtUtils::Manifest  1.60    
    ExtUtils::ParseXS   3.15    
    File::Spec          3.33    
    JSON                2.53    
    JSON::PP            2.27200 
    Module::Build       0.4002  
    Module::Signature   0.68    
    Parse::CPAN::Meta   1.4403  
    Test::Harness       3.23    
    Test::More          0.98    
    YAML                0.81    
    YAML::Syck          1.20    
    version             0.96    


--

Summary of my perl5 (revision 5 version 12 subversion 3) configuration:
   
  Platform:
    osname=freebsd, osvers=8.0-release, archname=i386-freebsd
    uname='freebsd biokovo.herceg.de 8.0-release freebsd 8.0-release #0: sat nov 21 15:48:17 utc 2009 root@almeida.cse.buffalo.edu:usrobjusrsrcsysgeneric i386 '
    config_args='-Dprefix=/usr/perl5.12.3 -Dusemymalloc=n -D cc=ccache cc -Dgccansipedantic -Duse64bit -de -D hintfile=myfreebsd'
    hint=recommended, useposix=true, d_sigaction=define
    useithreads=undef, usemultiplicity=undef
    useperlio=define, d_sfio=undef, uselargefiles=define, usesocks=undef
    use64bitint=undef, use64bitall=undef, uselongdouble=undef
    usemymalloc=n, bincompat5005=undef
  Compiler:
    cc='ccache cc', ccflags ='-DHAS_FPSETMASK -DHAS_FLOATINGPOINT_H -fno-strict-aliasing -pipe -fstack-protector -I/usr/local/include',
    optimize='-O2 -mtune=athlon64 -pipe',
    cppflags='-DHAS_FPSETMASK -DHAS_FLOATINGPOINT_H -fno-strict-aliasing -pipe -fstack-protector -I/usr/local/include'
    ccversion='', gccversion='4.2.1 20070719  [FreeBSD]', gccosandvers=''
    intsize=4, longsize=4, ptrsize=4, doublesize=8, byteorder=1234
    d_longlong=define, longlongsize=8, d_longdbl=define, longdblsize=12
    ivtype='long', ivsize=4, nvtype='double', nvsize=8, Off_t='off_t', lseeksize=8
    alignbytes=4, prototype=define
  Linker and Libraries:
    ld='ccache cc', ldflags ='-Wl,-E  -fstack-protector -L/usr/local/lib'
    libpth=/usr/lib /usr/local/lib
    libs=-lgdbm -lm -lcrypt -lutil -lc
    perllibs=-lm -lcrypt -lutil -lc
    libc=, so=so, useshrplib=false, libperl=libperl.a
    gnulibc_version=''
  Dynamic Linking:
    dlsrc=dl_dlopen.xs, dlext=so, d_dlsymun=undef, ccdlflags=' '
    cccdlflags='-DPIC -fPIC', lddlflags='-shared  -L/usr/local/lib -fstack-protector'


Characteristics of this binary (from libperl): 
  Compile-time options: PERL_DONT_CREATE_GVSV PERL_MALLOC_WRAP PERL_USE_DEVEL
                        USE_LARGE_FILES USE_PERLIO USE_PERL_ATOF
  Built under freebsd
  Compiled at Jan 25 2011 22:50:03
  %ENV:
    PERL5LIB="/usr/local/src/CPAN/build/Math-Random-MT-Auto-6.22-R50KGC/blib/arch:/usr/local/src/CPAN/build/Math-Random-MT-Auto-6.22-R50KGC/blib/lib:/usr/local/src/CPAN/build/CPAN-Local-0.005-iVIjjR/blib/arch:/usr/local/src/CPAN/build/CPAN-Local-0.005-iVIjjR/blib/lib:/usr/local/src/CPAN/build/MooseX-Role-Loggable-0.009-1fmuXN/blib/arch:/usr/local/src/CPAN/build/MooseX-Role-Loggable-0.009-1fmuXN/blib/lib"
    PERL5OPT=""
    PERL5_CPANPLUS_IS_RUNNING="66662"
    PERL5_CPAN_IS_RUNNING="66662"
    PERL5_CPAN_IS_RUNNING_IN_RECURSION="66615,66662"
    PERL_BATCH="yes"
    PERL_CPAN_REPORTER_CONFIG="/var/tmp/cpansmoker-1023/N1l41QuDNj_config.ini"
    PERL_EXTUTILS_AUTOINSTALL="--defaultdeps"
    PERL_HTML_DISPLAY_CLASS="HTML::Display::Mozilla"
  @INC:
    /usr/local/src/CPAN/build/Math-Random-MT-Auto-6.22-R50KGC/blib/arch
    /usr/local/src/CPAN/build/Math-Random-MT-Auto-6.22-R50KGC/blib/lib
    /usr/local/src/CPAN/build/CPAN-Local-0.005-iVIjjR/blib/arch
    /usr/local/src/CPAN/build/CPAN-Local-0.005-iVIjjR/blib/lib
    /usr/local/src/CPAN/build/MooseX-Role-Loggable-0.009-1fmuXN/blib/arch
    /usr/local/src/CPAN/build/MooseX-Role-Loggable-0.009-1fmuXN/blib/lib
    /usr/perl5.12.3/lib/site_perl/5.12.3/i386-freebsd
    /usr/perl5.12.3/lib/site_perl/5.12.3
    /usr/perl5.12.3/lib/5.12.3/i386-freebsd
    /usr/perl5.12.3/lib/5.12.3
    .