Report for CPAN-Local-0.005

Back
From: metabase:user:314402c4-2aae-11df-837a-5e0a49663a4f
Subject: PASS CPAN-Local-0.005 v5.12.3 FreeBSD
Date: 2012-09-04T14:56:14Z

This distribution has been tested as part of the CPAN Testers
project, supporting the Perl programming language.  See
http://wiki.cpantesters.org/ for more information or email
questions to cpan-testers-discuss@perl.org


--
Dear Peter Shangov,

This is a computer-generated report for CPAN-Local-0.005
on perl 5.12.3, created by CPAN-Reporter-1.2006.

Thank you for uploading your work to CPAN.  Congratulations!
All tests were successful.

Sections of this report:

    * Tester comments
    * Program output
    * Prerequisites
    * Environment and other context

------------------------------
TESTER COMMENTS
------------------------------

Additional comments from tester:

none provided

------------------------------
PROGRAM OUTPUT
------------------------------

Output from '/usr/bin/make test':

PERL_DL_NONLAZY=1 /usr/perl5.12.3/bin/perl5.12.3 "-MExtUtils::Command::MM" "-e" "test_harness(0, 'blib/lib', 'blib/arch')" t/*.t
t/00-compile.t .......... ok
t/distribution.t ........ ok
t/indices.t ............. ok
t/inject.t .............. ok
t/release-eol.t ......... skipped: these tests are for release candidate testing
t/release-no-tabs.t ..... skipped: these tests are for release candidate testing
t/release-pod-syntax.t .. skipped: these tests are for release candidate testing
All tests successful.
Files=7, Tests=52, 15 wallclock secs ( 0.04 usr  0.02 sys + 11.45 cusr  1.30 csys = 12.82 CPU)
Result: PASS

------------------------------
PREREQUISITES
------------------------------

Prerequisite modules loaded:

requires:

    Module                                  Need  Have    
    --------------------------------------- ----- --------
    Carp                                    0     1.26    
    Class::Load                             0     0.20    
    Config::MVP::Assembler                  0     2.200002
    Config::MVP::Assembler::WithBundles     0     2.200002
    Config::MVP::Reader::Finder             0     2.200002
    Config::MVP::Reader::INI                0     2.101461
    CPAN::DistnameInfo                      0     0.12    
    CPAN::Index::API                        0     0.001   
    CPAN::Index::API::File::PackagesDetails 0     0.001   
    CPAN::Index::API::Object::Package       0     0.001   
    CPAN::Inject                            0     1.13    
    Digest::MD5                             0     2.51    
    Dist::Metadata                          0     0.923   
    File::Copy                              0     2.18    
    File::Path                              0     2.08_01 
    File::Temp                              0     0.22    
    List::MoreUtils                         0     0.33    
    Log::Dispatchouli                       0     2.005   
    LWP::Simple                             0     6.00    
    Moose                                   0     2.0602  
    Moose::Meta::Class                      0     2.0602  
    Moose::Role                             0     2.0602  
    MooseX::App::Cmd                        0     0.07    
    MooseX::App::Cmd::Command               0     0       
    MooseX::Role::Loggable                  0.009 0.009   
    namespace::clean                        0     0.23    
    Path::Class                             0     0.26    
    Perl::Version                           0     1.010   
    strict                                  0     1.04    
    String::RewritePrefix                   0     0.006   
    Try::Tiny                               0     0.11    
    URI                                     0     1.60    
    URI::file                               0     4.21    
    warnings                                0     1.09    

build_requires:

    Module                                  Need  Have    
    --------------------------------------- ----- --------
    CPAN::Faker::HTTPD                      0     0.001   
    File::Find                              0     1.15    
    Module::Faker::Dist                     0     0.010   
    Test::More                              0     0.98    
    Test::Most                              0     0.25    

configure_requires:

    Module                                  Need  Have    
    --------------------------------------- ----- --------
    ExtUtils::MakeMaker                     6.30  6.62    


------------------------------
ENVIRONMENT AND OTHER CONTEXT
------------------------------

Environment variables:

    DBIC_NO_WARN_BAD_PERL = 1
    PATH = /usr/local/bin:/usr/X11R6/bin:/usr/X11/bin:/usr/perl5.8.0/bin:/usr/bin:/bin:/usr/local/sbin:/usr/sbin:/sbin:/usr/local/pilot/bin:/home/cpansand/bin/freebsd8.0:/home/cpansand/bin/sh:/home/cpansand/bin:/usr/X386/bin:/usr/games:/home/cpansand/devel:/usr/home/e/eserte/work/srezic-misc/scripts
    PERL5LIB = /usr/local/src/CPAN/build/MooseX-Role-Loggable-0.009-1fmuXN/blib/arch:/usr/local/src/CPAN/build/MooseX-Role-Loggable-0.009-1fmuXN/blib/lib
    PERL5OPT = 
    PERL5_CPANPLUS_IS_RUNNING = 66662
    PERL5_CPAN_IS_RUNNING = 66662
    PERL5_CPAN_IS_RUNNING_IN_RECURSION = 66615,66662
    PERL_BATCH = yes
    PERL_CPAN_REPORTER_CONFIG = /var/tmp/cpansmoker-1023/N1l41QuDNj_config.ini
    PERL_EXTUTILS_AUTOINSTALL = --defaultdeps
    PERL_HTML_DISPLAY_CLASS = HTML::Display::Mozilla
    SHELL = /usr/local/bin/zsh
    TERM = screen
    TMPDIR = /var/tmp/cpansmoker-1023

Perl special variables (and OS-specific diagnostics, for MSWin32):

    $^X = /usr/perl5.12.3/bin/perl5.12.3
    $UID/$EUID = 1023 / 1023
    $GID = 1023 1023
    $EGID = 1023 1023

Perl module toolchain versions installed:

    Module              Have    
    ------------------- --------
    CPAN                1.9800  
    CPAN::Meta          2.120921
    Cwd                 3.33    
    ExtUtils::CBuilder  0.280205
    ExtUtils::Command   1.17    
    ExtUtils::Install   1.55    
    ExtUtils::MakeMaker 6.62    
    ExtUtils::Manifest  1.60    
    ExtUtils::ParseXS   3.15    
    File::Spec          3.33    
    JSON                2.53    
    JSON::PP            2.27200 
    Module::Build       0.4002  
    Module::Signature   0.68    
    Parse::CPAN::Meta   1.4403  
    Test::Harness       3.23    
    Test::More          0.98    
    YAML                0.81    
    YAML::Syck          1.20    
    version             0.96    


--

Summary of my perl5 (revision 5 version 12 subversion 3) configuration:
   
  Platform:
    osname=freebsd, osvers=8.0-release, archname=i386-freebsd
    uname='freebsd biokovo.herceg.de 8.0-release freebsd 8.0-release #0: sat nov 21 15:48:17 utc 2009 root@almeida.cse.buffalo.edu:usrobjusrsrcsysgeneric i386 '
    config_args='-Dprefix=/usr/perl5.12.3 -Dusemymalloc=n -D cc=ccache cc -Dgccansipedantic -Duse64bit -de -D hintfile=myfreebsd'
    hint=recommended, useposix=true, d_sigaction=define
    useithreads=undef, usemultiplicity=undef
    useperlio=define, d_sfio=undef, uselargefiles=define, usesocks=undef
    use64bitint=undef, use64bitall=undef, uselongdouble=undef
    usemymalloc=n, bincompat5005=undef
  Compiler:
    cc='ccache cc', ccflags ='-DHAS_FPSETMASK -DHAS_FLOATINGPOINT_H -fno-strict-aliasing -pipe -fstack-protector -I/usr/local/include',
    optimize='-O2 -mtune=athlon64 -pipe',
    cppflags='-DHAS_FPSETMASK -DHAS_FLOATINGPOINT_H -fno-strict-aliasing -pipe -fstack-protector -I/usr/local/include'
    ccversion='', gccversion='4.2.1 20070719  [FreeBSD]', gccosandvers=''
    intsize=4, longsize=4, ptrsize=4, doublesize=8, byteorder=1234
    d_longlong=define, longlongsize=8, d_longdbl=define, longdblsize=12
    ivtype='long', ivsize=4, nvtype='double', nvsize=8, Off_t='off_t', lseeksize=8
    alignbytes=4, prototype=define
  Linker and Libraries:
    ld='ccache cc', ldflags ='-Wl,-E  -fstack-protector -L/usr/local/lib'
    libpth=/usr/lib /usr/local/lib
    libs=-lgdbm -lm -lcrypt -lutil -lc
    perllibs=-lm -lcrypt -lutil -lc
    libc=, so=so, useshrplib=false, libperl=libperl.a
    gnulibc_version=''
  Dynamic Linking:
    dlsrc=dl_dlopen.xs, dlext=so, d_dlsymun=undef, ccdlflags=' '
    cccdlflags='-DPIC -fPIC', lddlflags='-shared  -L/usr/local/lib -fstack-protector'


Characteristics of this binary (from libperl): 
  Compile-time options: PERL_DONT_CREATE_GVSV PERL_MALLOC_WRAP PERL_USE_DEVEL
                        USE_LARGE_FILES USE_PERLIO USE_PERL_ATOF
  Built under freebsd
  Compiled at Jan 25 2011 22:50:03
  %ENV:
    PERL5LIB="/usr/local/src/CPAN/build/MooseX-Role-Loggable-0.009-1fmuXN/blib/arch:/usr/local/src/CPAN/build/MooseX-Role-Loggable-0.009-1fmuXN/blib/lib"
    PERL5OPT=""
    PERL5_CPANPLUS_IS_RUNNING="66662"
    PERL5_CPAN_IS_RUNNING="66662"
    PERL5_CPAN_IS_RUNNING_IN_RECURSION="66615,66662"
    PERL_BATCH="yes"
    PERL_CPAN_REPORTER_CONFIG="/var/tmp/cpansmoker-1023/N1l41QuDNj_config.ini"
    PERL_EXTUTILS_AUTOINSTALL="--defaultdeps"
    PERL_HTML_DISPLAY_CLASS="HTML::Display::Mozilla"
  @INC:
    /usr/local/src/CPAN/build/MooseX-Role-Loggable-0.009-1fmuXN/blib/arch
    /usr/local/src/CPAN/build/MooseX-Role-Loggable-0.009-1fmuXN/blib/lib
    /usr/perl5.12.3/lib/site_perl/5.12.3/i386-freebsd
    /usr/perl5.12.3/lib/site_perl/5.12.3
    /usr/perl5.12.3/lib/5.12.3/i386-freebsd
    /usr/perl5.12.3/lib/5.12.3
    .