Report for List-Uniqnum-0.05

Back
From: metabase:user:589a6d46-78d2-1014-ae62-c147ed95383b
Subject: PASS List-Uniqnum-0.05 5.30.0 
Date: 2020-02-11T14:11:07Z

This distribution has been tested as part of the CPAN Testers
project, supporting the Perl programming language.  See
http://wiki.cpantesters.org/ for more information or email
questions to cpan-testers-discuss@perl.org


--
Dear SISYPHUS,

This is a computer-generated report for List-Uniqnum-0.05
on perl 5.30.0, created by App::cpanminus::reporter 0.17 (1.7044).

Thank you for uploading your work to CPAN.  Congratulations!
All tests were successful.

Sections of this report:

    * Tester comments
    * Program output
    * Prerequisites
    * Environment and other context

------------------------------
TESTER COMMENTS
------------------------------

Additional comments from tester:

none provided

------------------------------
PROGRAM OUTPUT
------------------------------

Output from '':

Building and testing List-Uniqnum-0.05
cp Uniqnum.pm blib\lib\List\Uniqnum.pm
Running Mkbootstrap for Uniqnum ()
"C:\usr\local\apps\berrybrew\perls\system\perl\bin\perl.exe" -MExtUtils::Command -e chmod -- 644 "Uniqnum.bs"
"C:\usr\local\apps\berrybrew\perls\system\perl\bin\perl.exe" -MExtUtils::Command::MM -e cp_nonempty -- Uniqnum.bs blib\arch\auto\List\Uniqnum\Uniqnum.bs 644
"C:\usr\local\apps\berrybrew\perls\system\perl\bin\perl.exe" "C:\usr\local\apps\berrybrew\perls\system\perl\lib\ExtUtils/xsubpp"  -typemap C:\usr\local\apps\berrybrew\perls\system\perl\lib\ExtUtils\typemap  Uniqnum.xs > Uniqnum.xsc
"C:\usr\local\apps\berrybrew\perls\system\perl\bin\perl.exe" -MExtUtils::Command -e mv -- Uniqnum.xsc Uniqnum.c
gcc -c   -s -O2 -DWIN32 -DWIN64 -DCONSERVATIVE -D__USE_MINGW_ANSI_STDIO -DPERL_TEXTMODE_SCRIPTS -DPERL_IMPLICIT_CONTEXT -DPERL_IMPLICIT_SYS -DUSE_PERLIO -fwrapv -fno-strict-aliasing -mms-bitfields -s -O2   -DVERSION=\"0.05\" -DXS_VERSION=\"0.05\"  "-IC:\usr\local\apps\berrybrew\perls\system\perl\lib\CORE"  -DNVSIZE_EQUAL_IVSIZE -DUSED_NV_BYTES=8 Uniqnum.c
"C:\usr\local\apps\berrybrew\perls\system\perl\bin\perl.exe" -MExtUtils::Mksymlists \
     -e "Mksymlists('NAME'=>\"List::Uniqnum\", 'DLBASE' => 'Uniqnum', 'DL_FUNCS' => {  }, 'FUNCLIST' => [], 'IMPORTS' => {  }, 'DL_VARS' => []);"
g++.exe Uniqnum.def -o blib\arch\auto\List\Uniqnum\Uniqnum.xs.dll -mdll -s -L"C:\usr\local\apps\berrybrew\perls\system\perl\lib\CORE" -L"C:\usr\local\apps\berrybrew\perls\system\c\lib" Uniqnum.o   "C:\usr\local\apps\berrybrew\perls\system\perl\lib\CORE\libperl530.a" -lmoldname -lkernel32 -luser32 -lgdi32 -lwinspool -lcomdlg32 -ladvapi32 -lshell32 -lole32 -loleaut32 -lnetapi32 -luuid -lws2_32 -lmpr -lwinmm -lversion -lodbc32 -lodbccp32 -lcomctl32 -Wl,--enable-auto-image-base
"C:\usr\local\apps\berrybrew\perls\system\perl\bin\perl.exe" -MExtUtils::Command -e chmod -- 755 blib\arch\auto\List\Uniqnum\Uniqnum.xs.dll
"C:\usr\local\apps\berrybrew\perls\system\perl\bin\perl.exe" -MExtUtils::Command::MM -e cp_nonempty -- Uniqnum.bs blib\arch\auto\List\Uniqnum\Uniqnum.bs 644
"C:\usr\local\apps\berrybrew\perls\system\perl\bin\perl.exe" "-MExtUtils::Command::MM" "-MTest::Harness" "-e" "undef *Test::Harness::Switches; test_harness(0, 'blib\lib', 'blib\arch')" t/*.t
t/00load.t ......... ok
t/01uniqnum.t ...... ok
t/02old_uniqnum.t .. ok
All tests successful.
Files=3, Tests=30,  1 wallclock secs ( 0.02 usr +  0.02 sys =  0.03 CPU)
Result: PASS

------------------------------
PREREQUISITES
------------------------------

Prerequisite modules loaded:

    No requirements found

------------------------------
ENVIRONMENT AND OTHER CONTEXT
------------------------------

Environment variables:

    COMSPEC = C:\Windows\system32\cmd.exe
    NUMBER_OF_PROCESSORS = 8
    PATH = C:\Windows\SYSTEM32;C:\Windows\SYSTEM32\WBEM;C:\Windows\SYSTEM32\WINDOWSPOWERSHELL\V1.0\;C:\Windows\SYSTEM32\OPENSSH\;C:\Cadence\SPB_17.4\TOOLS\BIN;C:\Cadence\SPB_17.4\TOOLS\LIBUTIL\BIN;C:\Cadence\SPB_17.4\TOOLS\FET\BIN;C:\Cadence\SPB_17.4\TOOLS\PSPICE;C:\Cadence\SPB_17.4\TOOLS\PSPICE\LIBRARY;C:\Cadence\SPB_17.4\TOOLS\CAPTURE;C:\Cadence\SPB_17.4\TOOLS\SPECCTRA\BIN;C:\Cadence\SPB_17.4\OPENACCESS\BIN\WIN32\OPT;C:\PROGRAM FILES\PUTTY\;C:\USR\LOCAL\SCRIPTS;C:\USR\LOCAL\APPS\BERRYBREW\BIN;C:\USR\LOCAL\APPS\BERRYBREW\PERLS\SYSTEM\C\BIN;C:\USR\LOCAL\APPS\BERRYBREW\PERLS\SYSTEM\PERL\BIN;C:\USR\LOCAL\APPS\BERRYBREW\PERLS\SYSTEM\PERL\SITE\BIN;C:\USR\LOCAL\BIN;C:\USR\BIN;C:\USR\LOCAL\APPS\NOTEPAD++;C:\PROGRAM FILES\TORTOISESVN\BIN;C:\SPEA\DLL;C:\Program Files\CrashPlan\jre\bin\server\;C:\Program Files\Intel\WiFi\bin\;C:\Program Files\Common Files\Intel\WirelessCommon\;C:\AtosC2.331\DLL;C:\Windows;C:\Program Files (x86)\WinSCP;c:\users\peter.jones\AppData\Local\Programs\Python\Launcher;
    PROCESSOR_IDENTIFIER = Intel64 Family 6 Model 142 Stepping 10, GenuineIntel
    TEMP = C:\Users\PETER~1.JON\AppData\Local\Temp

Perl special variables (and OS-specific diagnostics, for MSWin32):

    EGID = 0
    EUID = 0
    EXECUTABLE_NAME = C:\usr\local\apps\berrybrew\perls\system\perl\bin\perl.exe
    GID = 0
    UID = 0
    Win32::FsType = NTFS
    Win32::GetOSName = Win10
    Win32::GetOSVersion = , 10, 0, 18362, 2, 0, 0, 256, 1
    Win32::IsAdminUser = 0

Perl module toolchain versions installed:

    Module              Have    
    ------------------- --------
    CPAN                2.26    
    CPAN::Meta          2.150010
    Cwd                 3.78    
    ExtUtils::CBuilder  0.280231
    ExtUtils::Command   7.36    
    ExtUtils::Install   2.14    
    ExtUtils::MakeMaker 7.36    
    ExtUtils::Manifest  1.72    
    ExtUtils::ParseXS   3.40    
    File::Spec          3.78    
    JSON                4.02    
    JSON::PP            4.02    
    Module::Build       0.4229  
    Module::Signature   0.83    
    Parse::CPAN::Meta   2.150010
    Test::Harness       3.42    
    Test::More          1.302164
    YAML                1.29    
    YAML::Syck          n/a     
    version             0.9924  


--

Summary of my perl5 (revision 5 version 30 subversion 0) configuration:
   
  Platform:
    osname=MSWin32
    osvers=10.0.17763.529
    archname=MSWin32-x64-multi-thread
    uname='Win32 strawberry-perl 5.30.0.1 #1 Thu May 23 12:20:46 2019 x64'
    config_args='undef'
    hint=recommended
    useposix=true
    d_sigaction=undef
    useithreads=define
    usemultiplicity=define
    use64bitint=define
    use64bitall=undef
    uselongdouble=undef
    usemymalloc=n
    default_inc_excludes_dot=define
    bincompat5005=undef
  Compiler:
    cc='gcc'
    ccflags =' -s -O2 -DWIN32 -DWIN64 -DCONSERVATIVE -D__USE_MINGW_ANSI_STDIO -DPERL_TEXTMODE_SCRIPTS -DPERL_IMPLICIT_CONTEXT -DPERL_IMPLICIT_SYS -DUSE_PERLIO -fwrapv -fno-strict-aliasing -mms-bitfields'
    optimize='-s -O2'
    cppflags='-DWIN32'
    ccversion=''
    gccversion='8.3.0'
    gccosandvers=''
    intsize=4
    longsize=4
    ptrsize=8
    doublesize=8
    byteorder=12345678
    doublekind=3
    d_longlong=define
    longlongsize=8
    d_longdbl=define
    longdblsize=16
    longdblkind=3
    ivtype='long long'
    ivsize=8
    nvtype='double'
    nvsize=8
    Off_t='long long'
    lseeksize=8
    alignbytes=8
    prototype=define
  Linker and Libraries:
    ld='g++.exe'
    ldflags ='-s -L"C:\usr\local\apps\berrybrew\perls\system\perl\lib\CORE" -L"C:\usr\local\apps\berrybrew\perls\system\c\lib"'
    libpth=C:\usr\local\apps\berrybrew\perls\system\c\lib C:\usr\local\apps\berrybrew\perls\system\c\x86_64-w64-mingw32\lib C:\usr\local\apps\berrybrew\perls\system\c\lib\gcc\x86_64-w64-mingw32\8.3.0
    libs= -lmoldname -lkernel32 -luser32 -lgdi32 -lwinspool -lcomdlg32 -ladvapi32 -lshell32 -lole32 -loleaut32 -lnetapi32 -luuid -lws2_32 -lmpr -lwinmm -lversion -lodbc32 -lodbccp32 -lcomctl32
    perllibs= -lmoldname -lkernel32 -luser32 -lgdi32 -lwinspool -lcomdlg32 -ladvapi32 -lshell32 -lole32 -loleaut32 -lnetapi32 -luuid -lws2_32 -lmpr -lwinmm -lversion -lodbc32 -lodbccp32 -lcomctl32
    libc=
    so=dll
    useshrplib=true
    libperl=libperl530.a
    gnulibc_version=''
  Dynamic Linking:
    dlsrc=dl_win32.xs
    dlext=xs.dll
    d_dlsymun=undef
    ccdlflags=' '
    cccdlflags=' '
    lddlflags='-mdll -s -L"C:\usr\local\apps\berrybrew\perls\system\perl\lib\CORE" -L"C:\usr\local\apps\berrybrew\perls\system\c\lib"'


Characteristics of this binary (from libperl): 
  Compile-time options:
    HAS_TIMES
    HAVE_INTERP_INTERN
    MULTIPLICITY
    PERLIO_LAYERS
    PERL_COPY_ON_WRITE
    PERL_DONT_CREATE_GVSV
    PERL_IMPLICIT_CONTEXT
    PERL_IMPLICIT_SYS
    PERL_MALLOC_WRAP
    PERL_OP_PARENT
    PERL_PRESERVE_IVUV
    USE_64_BIT_INT
    USE_ITHREADS
    USE_LARGE_FILES
    USE_LOCALE
    USE_LOCALE_COLLATE
    USE_LOCALE_CTYPE
    USE_LOCALE_NUMERIC
    USE_LOCALE_TIME
    USE_PERLIO
    USE_PERL_ATOF
  Built under MSWin32
  Compiled at May 23 2019 12:26:54
  @INC:
    C:/usr/local/apps/berrybrew/perls/system/perl/site/lib/MSWin32-x64-multi-thread
    C:/usr/local/apps/berrybrew/perls/system/perl/site/lib
    C:/usr/local/apps/berrybrew/perls/system/perl/vendor/lib
    C:/usr/local/apps/berrybrew/perls/system/perl/lib