Report for Workflow-1.48

Back
From: metabase:user:320bfe00-2aae-11df-837a-5e0a49663a4f
Subject: PASS Workflow-1.48 5.31.5 GNU/Linux
Date: 2019-09-22T21:54:24Z

This distribution has been tested as part of the CPAN Testers
project, supporting the Perl programming language.  See
http://wiki.cpantesters.org/ for more information or email
questions to cpan-testers-discuss@perl.org


--
Dear jonasbn,

This is a computer-generated report for Workflow-1.48
on perl 5.31.5, created by CPAN-Reporter-1.2018.

Thank you for uploading your work to CPAN.  Congratulations!
All tests were successful.

Sections of this report:

    * Tester comments
    * Program output
    * Prerequisites
    * Environment and other context

------------------------------
TESTER COMMENTS
------------------------------

Additional comments from tester:

this report is from an automated smoke testing program
and was not reviewed by a human for accuracy

------------------------------
PROGRAM OUTPUT
------------------------------

Output from '/usr/bin/make test':

PERL_DL_NONLAZY=1 "/tmp/basesmoker-reloperl-idL5/bin/perl" "-MExtUtils::Command::MM" "-MTest::Harness" "-e" "undef *Test::Harness::Switches; test_harness(0, 'blib/lib', 'blib/arch')" t/*.t
t/00-compile.t ..................... ok
Log4perl: Seems like no initialization happened. Forgot to call init()?
t/05_condition_nested.t ............ ok
t/action.t ......................... ok
t/action_field.t ................... ok
t/action_mailer.t .................. ok
t/action_null.t .................... ok
t/action_validate.t ................ ok
t/add_config_bug.t ................. ok
t/author-critic.t .................. skipped: these tests are for testing by the author
t/author-pod-coverage.t ............ skipped: these tests are for testing by the author
t/author-pod-syntax.t .............. skipped: these tests are for testing by the author
t/base.t ........................... ok
t/cached_conditions.t .............. ok
t/condition.t ...................... ok
t/condition_evaluate.t ............. ok
t/config.t ......................... ok
t/context-persists.t ............... ok
t/context.t ........................ ok
t/exception.t ...................... ok
t/factory.t ........................ ok
t/factory_callback_config.t ........ ok
t/factory_subclass.t ............... ok
t/history.t ........................ ok
t/persister.t ...................... ok
t/persister_dbi.t .................. ok
t/persister_dbi_extra_data.t ....... ok
t/persister_dbi_sqlite.t ........... ok
t/persister_file.t ................. ok
t/persister_random_id.t ............ ok
t/persister_spops.t ................ skipped: SPOPS not installed
t/persister_uuid.t ................. ok
t/release-cpan-changes.t ........... skipped: these tests are for release candidate testing
t/release-kwalitee.t ............... skipped: these tests are for release candidate testing
t/release-meta-json.t .............. skipped: these tests are for release candidate testing
t/state.t .......................... ok
t/state_perl.t ..................... ok
t/validator.t ...................... ok
t/validator_has_required_field.t ... ok
t/validator_in_enumerated_type.t ... ok
Unable to assert DateTime or similar object at t/validator_matches_date_format.t line 25.
t/validator_matches_date_format.t .. ok
t/workflow.t ....................... ok
All tests successful.
Files=41, Tests=451, 20 wallclock secs ( 0.07 usr  0.21 sys + 11.23 cusr  3.16 csys = 14.67 CPU)
Result: PASS

------------------------------
PREREQUISITES
------------------------------

Prerequisite modules loaded:

requires:

    Module                     Need  Have    
    -------------------------- ----- --------
    Carp                       0     1.50    
    Class::Accessor            0.18  0.51    
    Class::Factory             1.00  1.06    
    Class::Observable          1.04  1.04    
    Data::Dumper               0     2.174   
    Data::UUID                 0     1.224   
    DateTime                   0.15  1.51    
    DateTime::Format::Strptime 1.00  1.76    
    DBI                        0     1.642   
    Exception::Class           1.10  1.44    
    File::Slurp                0     9999.28 
    Log::Dispatch              2.00  2.68    
    Log::Log4perl              0.34  1.49    
    perl                       5.006 5.031005
    Safe                       0     2.40    
    XML::Simple                2.00  2.25    

build_requires:

    Module                     Need  Have    
    -------------------------- ----- --------
    DBD::Mock                  0.10  1.49    
    File::Spec                 0     3.78    
    IO::Handle                 0     1.41    
    IPC::Open3                 0     1.20    
    List::MoreUtils            0     0.428   
    Module::Build              0.30  0.4229  
    Pod::Coverage::TrustPod    0     0.100005
    Test::Exception            0     0.43    
    Test::Kwalitee             1.21  1.28    
    Test::More                 0.88  1.302168
    Test::Pod                  1.41  1.52    
    Test::Pod::Coverage        1.08  1.10    

configure_requires:

    Module                     Need  Have    
    -------------------------- ----- --------
    ExtUtils::MakeMaker        0     7.38    
    Module::Build              0.30  0.4229  

opt_requires:

    Module                     Need  Have    
    -------------------------- ----- --------
  ! SPOPS                      0     n/a     


------------------------------
ENVIRONMENT AND OTHER CONTEXT
------------------------------

Environment variables:

    AUTOMATED_TESTING = 1
    LANG = en_US.UTF-8
    PATH = /home/sand/bin:/usr/local/bin:/usr/bin:/bin:/usr/games:/usr/local/perl/bin:/usr/X11/bin:/sbin:/usr/sbin
    PERL5LIB = 
    PERL5OPT = 
    PERL5_CPANPLUS_IS_RUNNING = 7759
    PERL5_CPAN_IS_RUNNING = 7759
    PERL_CANARY_STABILITY_NOPROMPT = 1
    PERL_MM_USE_DEFAULT = 1
    PERL_USE_UNSAFE_INC = 1
    SHELL = /usr/bin/zsh
    TERM = screen

Perl special variables (and OS-specific diagnostics, for MSWin32):

    $^X = /tmp/basesmoker-reloperl-idL5/bin/perl
    $UID/$EUID = 1005 / 1005
    $GID = 1005 1005
    $EGID = 1005 1005

Perl module toolchain versions installed:

    Module              Have    
    ------------------- --------
    CPAN                2.27    
    CPAN::Meta          2.150010
    Cwd                 3.78    
    ExtUtils::CBuilder  0.280232
    ExtUtils::Command   7.38    
    ExtUtils::Install   2.14    
    ExtUtils::MakeMaker 7.38    
    ExtUtils::Manifest  1.72    
    ExtUtils::ParseXS   3.40    
    File::Spec          3.78    
    JSON                4.02    
    JSON::PP            4.04    
    Module::Build       0.4229  
    Module::Signature   0.83    
    Parse::CPAN::Meta   2.150010
    Test::Harness       3.42    
    Test::More          1.302168
    YAML                1.29    
    YAML::Syck          1.31    
    version             0.9924  


--

Summary of my perl5 (revision 5 version 31 subversion 5) configuration:
  Commit id: 3e14cc163c638e063c3e2a746616e50ecf58e23e
  Platform:
    osname=linux
    osvers=4.18.0-2-amd64
    archname=x86_64-linux-ld
    uname='linux k93msid 4.18.0-2-amd64 #1 smp debian 4.18.10-2 (2018-10-07) x86_64 gnulinux '
    config_args='-Dprefix=/home/sand/src/perl/repoperls/installed-perls/host/k93msid/v5.31.4-5-g3e14cc163c/af11 -Dmyhostname=k93msid -Dinstallusrbinperl=n -Uversiononly -Dusedevel -des -Ui_db -Dlibswanted=cl pthread socket inet nsl gdbm dbm malloc dl ld sun m crypt sec util c cposix posix ucb BSD gdbm_compat -Uuseithreads -Duselongdouble -DEBUGGING=-g'
    hint=recommended
    useposix=true
    d_sigaction=define
    useithreads=undef
    usemultiplicity=undef
    use64bitint=define
    use64bitall=define
    uselongdouble=define
    usemymalloc=n
    default_inc_excludes_dot=define
    bincompat5005=undef
  Compiler:
    cc='cc'
    ccflags ='-fwrapv -fno-strict-aliasing -pipe -fstack-protector-strong -I/usr/local/include -D_LARGEFILE_SOURCE -D_FILE_OFFSET_BITS=64 -D_FORTIFY_SOURCE=2'
    optimize='-O2 -g'
    cppflags='-fwrapv -fno-strict-aliasing -pipe -fstack-protector-strong -I/usr/local/include'
    ccversion=''
    gccversion='8.2.0'
    gccosandvers=''
    intsize=4
    longsize=8
    ptrsize=8
    doublesize=8
    byteorder=12345678
    doublekind=3
    d_longlong=define
    longlongsize=8
    d_longdbl=define
    longdblsize=16
    longdblkind=3
    ivtype='long'
    ivsize=8
    nvtype='long double'
    nvsize=16
    Off_t='off_t'
    lseeksize=8
    alignbytes=16
    prototype=define
  Linker and Libraries:
    ld='cc'
    ldflags =' -fstack-protector-strong -L/usr/local/lib'
    libpth=/usr/local/lib /usr/lib/gcc/x86_64-linux-gnu/8/include-fixed /usr/include/x86_64-linux-gnu /usr/lib /lib/x86_64-linux-gnu /lib/../lib /usr/lib/x86_64-linux-gnu /usr/lib/../lib /lib
    libs=-lpthread -lnsl -ldl -lm -lcrypt -lutil -lc
    perllibs=-lpthread -lnsl -ldl -lm -lcrypt -lutil -lc
    libc=libc-2.27.so
    so=so
    useshrplib=false
    libperl=libperl.a
    gnulibc_version='2.27'
  Dynamic Linking:
    dlsrc=dl_dlopen.xs
    dlext=so
    d_dlsymun=undef
    ccdlflags='-Wl,-E'
    cccdlflags='-fPIC'
    lddlflags='-shared -O2 -g -L/usr/local/lib -fstack-protector-strong'


Characteristics of this binary (from libperl): 
  Compile-time options:
    HAS_TIMES
    PERLIO_LAYERS
    PERL_COPY_ON_WRITE
    PERL_DONT_CREATE_GVSV
    PERL_MALLOC_WRAP
    PERL_OP_PARENT
    PERL_PRESERVE_IVUV
    PERL_USE_DEVEL
    USE_64_BIT_ALL
    USE_64_BIT_INT
    USE_LARGE_FILES
    USE_LOCALE
    USE_LOCALE_COLLATE
    USE_LOCALE_CTYPE
    USE_LOCALE_NUMERIC
    USE_LOCALE_TIME
    USE_LONG_DOUBLE
    USE_PERLIO
    USE_PERL_ATOF
  Built under linux
  Compiled at Sep 20 2019 22:42:25
  %ENV:
    PERL5LIB=""
    PERL5OPT=""
    PERL5_CPANPLUS_IS_RUNNING="7759"
    PERL5_CPAN_IS_RUNNING="7759"
    PERL_CANARY_STABILITY_NOPROMPT="1"
    PERL_MM_USE_DEFAULT="1"
    PERL_USE_UNSAFE_INC="1"
  @INC:
    /home/sand/src/perl/repoperls/installed-perls/host/k93msid/v5.31.4-5-g3e14cc163c/af11/lib/site_perl/5.31.5/x86_64-linux-ld
    /home/sand/src/perl/repoperls/installed-perls/host/k93msid/v5.31.4-5-g3e14cc163c/af11/lib/site_perl/5.31.5
    /home/sand/src/perl/repoperls/installed-perls/host/k93msid/v5.31.4-5-g3e14cc163c/af11/lib/5.31.5/x86_64-linux-ld
    /home/sand/src/perl/repoperls/installed-perls/host/k93msid/v5.31.4-5-g3e14cc163c/af11/lib/5.31.5
    .