Report for Tk-804.029

Back
From: metabase:user:30ae4450-2aae-11df-837a-5e0a49663a4f
Subject: PASS Tk-804.029 5.12.1 
Date: 2010-07-22T23:05:46Z

This distribution has been tested as part of the CPAN Testers
project, supporting the Perl programming language.  See
http://wiki.cpantesters.org/ for more information or email
questions to cpan-testers-discuss@perl.org


--
Dear Slaven Rezic,

This is a computer-generated report for Tk-804.029
on perl 5.12.1, created by CPAN-Reporter-1.1711.

Thank you for uploading your work to CPAN.  Congratulations!
All tests were successful.

Sections of this report:

    * Tester comments
    * Program output
    * Prerequisites
    * Environment and other context

------------------------------
TESTER COMMENTS
------------------------------

Additional comments from tester:

none provided

------------------------------
PROGRAM OUTPUT
------------------------------

Output from 'E:\strawberry5121b\c\bin\dmake.EXE test':

cd pTk && dmake DEFINE="" 
E:\strawberry5121b\perl\bin\perl.exe "-It" "-MTkTest" "-MExtUtils::Command::MM" "-e" "check_display_harness; test_harness(0, 'blib\lib', 'blib\arch')" t\00wmcheck.t t\JP.t t\KR.t t\Require.t t\Tkxs.t t\Trace.t t\X.t t\adjuster.t t\after.t t\async.t t\autoload.t t\balloon.t t\bind.t t\browseentry-grabtest.t t\browseentry-subclassing.t t\browseentry.t t\browseentry2.t t\button-tcl.t t\button.t t\canvas-grid.t t\canvas.t t\canvas2.t t\coloreditor.t t\create.t t\cursor.t t\dash.t t\dialogbox.t t\dirtree.t t\entry.t t\errordialog.t t\exefiles.t t\fbox.t t\fileevent.t t\fileevent2.t t\fileselect.t t\font.t t\fork.t t\geomgr.t t\iso8859-1.t t\leak.t t\list.t t\listbox.t t\listvar.t t\magic.t t\mega.t t\msgbox.t t\mwm.t t\objglue.t t\optmenu.t t\photo.t t\pixmap.t t\progbar.t t\property.t t\regexp.t t\rotext.t t\slaves.t t\table.t t\text.t t\text2.t t\textundo.t t\trace1.t t\unicode.t t\widget.t t\wm-tcl.t t\wm-time.t t\wm.t t\zzHList.t t\zzPhoto.t t\zzScrolled.t t\zzText.t t\zzTixGrid.t
# 
# Tk platform:    MSWin32
# X11 server:     Windows 5.1 2600 Win32
# XFT:            no
t\00wmcheck.t ................ ok
t\adjuster.t ................. ok
t\after.t .................... ok
t\async.t .................... skipped: signal USR2 is not available on this system
t\autoload.t ................. ok
t\balloon.t .................. ok
t\bind.t ..................... ok
t\browseentry-grabtest.t ..... ok
t\browseentry-subclassing.t .. ok
t\browseentry.t .............. ok
t\browseentry2.t ............. ok
t\button-tcl.t ............... ok
t\button.t ................... ok
t\canvas-grid.t .............. ok
t\canvas.t ................... ok
t\canvas2.t .................. ok
t\coloreditor.t .............. ok
t\create.t ................... ok
t\cursor.t ................... ok
t\dash.t ..................... ok
t\dialogbox.t ................ ok
t\dirtree.t .................. ok
t\entry.t .................... ok
XS_Tk__Callback_Call error:Intentional error.

XS_Tk__Callback_Call error:Intentional error.

Background Error: window ".dialog" was deleted before its visibility changed at E:\strawberry5121b\cpan\build\Tk-804.029-EjKPT3\blib\lib/Tk/Widget.pm line 1000.
Background Error: window ".dialog" was deleted before its visibility changed at E:\strawberry5121b\cpan\build\Tk-804.029-EjKPT3\blib\lib/Tk/Widget.pm line 1000.
t\errordialog.t .............. ok
t\exefiles.t ................. skipped: not on Windows (because of fork, waitpid...)
t\fbox.t ..................... ok
t\fileevent.t ................ ok
t\fileevent2.t ............... ok
t\fileselect.t ............... ok
Font {Courier New} 8 still in cache.
t\font.t ..................... ok
t\fork.t ..................... skipped: No real fork on Windows-like systems
t\geomgr.t ................... ok
t\iso8859-1.t ................ ok
t\JP.t ....................... ok
t\KR.t ....................... ok
t\leak.t ..................... skipped: need Devel::Leak
t\list.t ..................... ok
t\listbox.t .................. ok
t\listvar.t .................. ok
t\magic.t .................... ok
t\mega.t ..................... ok
t\msgbox.t ................... ok
t\mwm.t ...................... skipped: Tk::Mwm not built on MSWin32
t\objglue.t .................. ok
t\optmenu.t .................. ok
t\photo.t .................... ok
t\pixmap.t ................... ok
t\progbar.t .................. ok
t\property.t ................. skipped: property only work on X11
t\regexp.t ................... ok
t\Require.t .................. ok
t\rotext.t ................... ok
t\slaves.t ................... ok
t\table.t .................... ok
Stack moved 1070a94 => 1070a98
t\text.t ..................... ok
untie attempted while 3 inner references still exist at t\text2.t line 60.
untie attempted while 10 inner references still exist at t\text2.t line 72.
t\text2.t .................... ok
t\textundo.t ................. ok
t\Tkxs.t ..................... ok
t\Trace.t .................... ok
t\trace1.t ................... ok
t\unicode.t .................. ok
t\widget.t ................... ok
t\wm-tcl.t ................... ok
# Start update 2
# . update 0.078 2
# .label update 0.094 1
# Start Popup 2
# .toplevel Popup 0.032 2
# .toplevel.label Popup 0.032 1
# Start withdraw 0
# Start Popup Again 2
# .toplevel Popup Again 0.015 2
# .toplevel.label Popup Again 0.015 1
# Start destroy 0
t\wm-time.t .................. ok
t\wm.t ....................... ok
t\X.t ........................ ok
t\zzHList.t .................. ok
t\zzPhoto.t .................. ok
t\zzScrolled.t ............... ok
t\zzText.t ................... ok
t\zzTixGrid.t ................ ok
All tests successful.

Test Summary Report
-------------------
t\after.t                  (Wstat: 0 Tests: 6 Failed: 0)
  TODO passed:   1-2, 4, 6
t\listbox.t                (Wstat: 0 Tests: 537 Failed: 0)
  TODO passed:   320-322, 328
t\text.t                   (Wstat: 0 Tests: 415 Failed: 0)
  TODO passed:   121
t\zzScrolled.t             (Wstat: 0 Tests: 94 Failed: 0)
  TODO passed:   52, 66, 80, 94
Files=71, Tests=4226, 606 wallclock secs ( 2.61 usr +  0.44 sys =  3.05 CPU)
Result: PASS
E:\strawberry5121b\perl\bin\perl.exe "-I../t" "-MTkTest" "-MExtUtils::Command::MM" "-e" "check_display_harness; test_harness(0, '..\blib\lib', '..\blib\arch')" t/*.t
t/basic.t .. ok
t/crash.t .. ok
All tests successful.
Files=2, Tests=6,  3 wallclock secs ( 0.13 usr +  0.09 sys =  0.22 CPU)
Result: PASS
E:\strawberry5121b\perl\bin\perl.exe "-I../t" "-MTkTest" "-MExtUtils::Command::MM" "-e" "check_display_harness; test_harness(0, '..\blib\lib', '..\blib\arch')" t/*.t
t/more.t .. ok
t/Read.t .. ok
All tests successful.
Files=2, Tests=46,  4 wallclock secs ( 0.13 usr +  0.05 sys =  0.17 CPU)
Result: PASS
E:\strawberry5121b\perl\bin\perl.exe "-I../t" "-MTkTest" "-MExtUtils::Command::MM" "-e" "check_display_harness; test_harness(0, '..\blib\lib', '..\blib\arch')" t/*.t
t/basic.t .. ok
All tests successful.
Files=1, Tests=1,  0 wallclock secs ( 0.16 usr +  0.02 sys =  0.17 CPU)
Result: PASS
dmake.EXE:  Warning: -- Target [pTk\libpTk.a] was made but the time stamp has not been updated.

------------------------------
PREREQUISITES
------------------------------

Prerequisite modules loaded:

requires:

    Module              Need Have
    ------------------- ---- ----
    Encode              0    2.39
    Test::More          0    0.94

configure_requires:

    Module              Need Have
    ------------------- ---- ----
    ExtUtils::MakeMaker 0    6.56


------------------------------
ENVIRONMENT AND OTHER CONTEXT
------------------------------

Environment variables:

    COMSPEC = C:\WINDOWS\system32\cmd.exe
    INCLUDE = G:\Prg\Microsoft Visual Studio\VC98\atl\include;G:\Prg\Microsoft Visual Studio\VC98\mfc\include;G:\Prg\Microsoft Visual Studio\VC98\include;c:\perl\ext\include\
    LIB = G:\Prg\Microsoft Visual Studio\VC98\mfc\lib;G:\Prg\Microsoft Visual Studio\VC98\lib;c:\perl\ext\lib\
    NUMBER_OF_PROCESSORS = 1
    PATH = C:\Program Files\Far;C:\PHP\;D:\Perl561\bin\;C:\Perl\site\bin;C:\Perl\bin;c:\program files\imagemagick-6.2.5-q16;C:\WINDOWS\system32;C:\WINDOWS;C:\WINDOWS\System32\Wbem;c:\util\;C:\vanilla-perl\perl\bin;C:\vanilla-perl\dmake\bin;C:\vanilla-perl\mingw\bin;C:\Program Files\Common Files\GTK\2.0\bin;C:\strawberry\c\bin\;C:\strawberry\perl\bin;D:\Prg\TortoiseGit\bin;C:\Program Files\TortoiseSVN\bin;D:\Program Files\Subversion\bin;d:\Program Files\Mercurial;d:\Prg\Git\cmd;C:\strawberry\c\bin;C:\strawberry512RC0\c\bin;C:\strawberry512RC0\perl\bin;C:\strawberry512RC0\perl\site\bin;C:\strawberry512RC\c\bin;C:\strawberry512RC\perl\site\bin;C:\strawberry512RC\perl\bin;E:\strawberry5121b\c\bin;E:\strawberry5121b\perl\site\bin;E:\strawberry5121b\perl\bin;G:\Prg\Microsoft Visual Studio\Common\Tools\WinNT;G:\Prg\Microsoft Visual Studio\Common\MSDev98\Bin;G:\Prg\Microsoft Visual Studio\Common\Tools;G:\Prg\Microsoft Visual Studio\VC98\bin;c:\php\;C:\Prg\svk\bin;;
    PERL5LIB = 
    PERL5OPT = 
    PERL5_CPANPLUS_IS_RUNNING = 3052
    PERL5_CPAN_IS_RUNNING = 3052
    PROCESSOR_IDENTIFIER = x86 Family 15 Model 2 Stepping 4, GenuineIntel
    TEMP = C:\DOCUME~1\Sasha\LOCALS~1\Temp
    TERM = dumb

Perl special variables (and OS-specific diagnostics, for MSWin32):

    $^X = E:\strawberry5121b\perl\bin\perl.exe
    $UID/$EUID = 0 / 0
    $GID = 0
    $EGID = 0
    Win32::GetOSName = WinXP/.Net
    Win32::GetOSVersion = Service Pack 2, 5, 1, 2600, 2, 2, 0, 256, 1
    Win32::FsType = NTFS
    Win32::IsAdminUser = 1

Perl module toolchain versions installed:

    Module              Have   
    ------------------- -------
    CPAN                1.94_58
    Cwd                 3.31   
    ExtUtils::CBuilder  0.2703 
    ExtUtils::Command   1.16   
    ExtUtils::Install   1.55   
    ExtUtils::MakeMaker 6.56   
    ExtUtils::Manifest  1.58   
    ExtUtils::ParseXS   2.2206 
    File::Spec          3.31   
    Module::Build       0.3607 
    Module::Signature   0.64   
    Test::Harness       3.21   
    Test::More          0.94   
    YAML                0.71   
    YAML::Syck          1.10   
    version             0.82   


--

Summary of my perl5 (revision 5 version 12 subversion 1) configuration:
   
  Platform:
    osname=MSWin32, osvers=5.1, archname=MSWin32-x86-multi-thread
    uname='Win32 strawberryperl 5.12.1.0.beta_2 #1 Wed Jul 14 08:53:35 2010 i386'
    config_args='undef'
    hint=recommended, useposix=true, d_sigaction=undef
    useithreads=define, usemultiplicity=define
    useperlio=define, d_sfio=undef, uselargefiles=define, usesocks=undef
    use64bitint=undef, use64bitall=undef, uselongdouble=undef
    usemymalloc=n, bincompat5005=undef
  Compiler:
    cc='gcc', ccflags =' -s -O2 -DWIN32 -DHAVE_DES_FCRYPT  -DUSE_SITECUSTOMIZE -DPERL_IMPLICIT_CONTEXT -DPERL_IMPLICIT_SYS -fno-strict-aliasing -mms-bitfields -DPERL_MSVCRT_READFIX',
    optimize='-s -O2',
    cppflags='-DWIN32'
    ccversion='', gccversion='4.4.3', gccosandvers=''
    intsize=4, longsize=4, ptrsize=4, doublesize=8, byteorder=1234
    d_longlong=undef, longlongsize=8, d_longdbl=define, longdblsize=12
    ivtype='long', ivsize=4, nvtype='double', nvsize=8, Off_t='long long', lseeksize=8
    alignbytes=8, prototype=define
  Linker and Libraries:
    ld='g++', ldflags ='-s -L"E:\strawberry5121b\perl\lib\CORE" -L"E:\strawberry5121b\c\lib"'
    libpth=E:\strawberry5121b\c\lib E:\strawberry5121b\c\i686-w64-mingw32\lib
    libs=-lmoldname -lkernel32 -luser32 -lgdi32 -lwinspool -lcomdlg32 -ladvapi32 -lshell32 -lole32 -loleaut32 -lnetapi32 -luuid -lws2_32 -lmpr -lwinmm -lversion -lodbc32 -lodbccp32 -lcomctl32
    perllibs=-lmoldname -lkernel32 -luser32 -lgdi32 -lwinspool -lcomdlg32 -ladvapi32 -lshell32 -lole32 -loleaut32 -lnetapi32 -luuid -lws2_32 -lmpr -lwinmm -lversion -lodbc32 -lodbccp32 -lcomctl32
    libc=, so=dll, useshrplib=true, libperl=libperl512.a
    gnulibc_version=''
  Dynamic Linking:
    dlsrc=dl_win32.xs, dlext=dll, d_dlsymun=undef, ccdlflags=' '
    cccdlflags=' ', lddlflags='-mdll -s -L"E:\strawberry5121b\perl\lib\CORE" -L"E:\strawberry5121b\c\lib"'


Characteristics of this binary (from libperl): 
  Compile-time options: MULTIPLICITY PERL_DONT_CREATE_GVSV
                        PERL_IMPLICIT_CONTEXT PERL_IMPLICIT_SYS
                        PERL_MALLOC_WRAP PL_OP_SLAB_ALLOC USE_ITHREADS
                        USE_LARGE_FILES USE_PERLIO USE_PERL_ATOF
                        USE_SITECUSTOMIZE
  Built under MSWin32
  Compiled at Jul 14 2010 10:46:03
  %ENV:
    PERL5_CPANPLUS_IS_RUNNING="3052"
    PERL5_CPAN_IS_RUNNING="3052"
  @INC:
    E:/strawberry5121b/perl/site/lib
    E:/strawberry5121b/perl/vendor/lib
    E:/strawberry5121b/perl/lib
    .