Report for SOAP-Lite-0.716

Back
From: metabase:user:31d414ea-2aae-11df-837a-5e0a49663a4f
Subject: PASS SOAP-Lite-0.716 v5.18.0 GNU/Linux
Date: 2013-06-20T13:36:50Z

This distribution has been tested as part of the CPAN Testers
project, supporting the Perl programming language.  See
http://wiki.cpantesters.org/ for more information or email
questions to cpan-testers-discuss@perl.org


--
Dear Fred Moyer,

This is a computer-generated report for SOAP-Lite-0.716
on perl 5.18.0, created by CPAN-Reporter-1.2010.

Thank you for uploading your work to CPAN.  Congratulations!
All tests were successful.

Sections of this report:

    * Tester comments
    * Program output
    * Prerequisites
    * Environment and other context

------------------------------
TESTER COMMENTS
------------------------------

Additional comments from tester:

this report is from an automated smoke testing program
and was not reviewed by a human for accuracy

------------------------------
PROGRAM OUTPUT
------------------------------

Output from '/usr/bin/make test':

PERL_DL_NONLAZY=1 /home/david/cpantesting/perl-5.18.0/bin/perl "-MExtUtils::Command::MM" "-e" "test_harness(0, 'blib/lib', 'blib/arch')" t/08-schema.t t/012-cloneable.t t/06-modules.t t/04-attach.t t/02-payload.t t/010-serializer.t t/01-core.t t/03-server.t t/014_UNIVERSAL_use.t t/013-array-deserialization.t t/015_UNIVERSAL_can.t t/098_pod.t t/099_pod_coverage.t t/096_characters.t t/097_kwalitee.t t/07-xmlrpc_payload.t t/05-customxml.t t/SOAP/Serializer.t t/SOAP/Data.t t/SOAP/Transport/POP3.t t/SOAP/Transport/HTTP.t t/SOAP/Transport/IO.t t/SOAP/Transport/LOCAL.t t/SOAP/Transport/MAILTO.t t/SOAP/Transport/HTTP/CGI.t t/SOAP/Lite/Packager.t t/SOAP/Lite/Deserializer/XMLSchemaSOAP1_2.t t/SOAP/Lite/Deserializer/XMLSchema1999.t t/SOAP/Lite/Deserializer/XMLSchemaSOAP1_1.t t/SOAP/Lite/Deserializer/XMLSchema2001.t t/SOAP/Schema/WSDL.t t/XML/Parser/Lite.t t/XMLRPC/Lite.t
t/01-core.t .................................. ok
t/010-serializer.t ........................... ok
t/012-cloneable.t ............................ ok
t/013-array-deserialization.t ................ ok
t/014_UNIVERSAL_use.t ........................ ok
t/015_UNIVERSAL_can.t ........................ ok
t/02-payload.t ............................... ok
t/03-server.t ................................ ok
t/04-attach.t ................................ skipped: Could not find MIME::Parser - is MIME::Tools installed? Aborting.
t/05-customxml.t ............................. ok
t/06-modules.t ............................... ok
t/07-xmlrpc_payload.t ........................ ok
t/08-schema.t ................................ ok
t/096_characters.t ........................... skipped: (no reason given)
t/097_kwalitee.t ............................. skipped: (no reason given)
t/098_pod.t .................................. skipped: (no reason given)
t/099_pod_coverage.t ......................... skipped: (no reason given)
t/SOAP/Data.t ................................ ok
t/SOAP/Lite/Deserializer/XMLSchema1999.t ..... ok
t/SOAP/Lite/Deserializer/XMLSchema2001.t ..... ok
t/SOAP/Lite/Deserializer/XMLSchemaSOAP1_1.t .. ok
t/SOAP/Lite/Deserializer/XMLSchemaSOAP1_2.t .. ok
t/SOAP/Lite/Packager.t ....................... ok
t/SOAP/Schema/WSDL.t ......................... ok
t/SOAP/Serializer.t .......................... ok
t/SOAP/Transport/HTTP.t ...................... ok
t/SOAP/Transport/HTTP/CGI.t .................. ok
t/SOAP/Transport/IO.t ........................ ok
t/SOAP/Transport/LOCAL.t ..................... ok
t/SOAP/Transport/MAILTO.t .................... ok
t/SOAP/Transport/POP3.t ...................... ok
t/XML/Parser/Lite.t .......................... ok
t/XMLRPC/Lite.t .............................. ok
All tests successful.

Test Summary Report
-------------------
t/02-payload.t                             (Wstat: 0 Tests: 133 Failed: 0)
  TODO passed:   37
Files=33, Tests=872,  7 wallclock secs ( 0.12 usr  0.15 sys +  1.54 cusr  0.37 csys =  2.18 CPU)
Result: PASS

------------------------------
PREREQUISITES
------------------------------

Prerequisite modules loaded:

requires:

    Module              Need  Have    
    ------------------- ----- --------
    Class::Inspector    0     1.28    
    Compress::Zlib      0     2.060   
    constant            0     1.27    
    Crypt::SSLeay       0     0.64    
    HTTP::Daemon        0     6.01    
    IO::File            0     1.16    
    IO::Socket::SSL     0     1.89    
    LWP::UserAgent      0     6.05    
    MIME::Base64        0     3.13    
    perl                5.006 5.018000
    Scalar::Util        0     1.27    
    Task::Weaken        0     1.04    
    Test::More          0     0.98    
    URI                 0     1.60    
    XML::Parser         2.23  2.41    

build_requires:

    Module              Need  Have    
    ------------------- ----- --------
    ExtUtils::MakeMaker 0     6.66    

configure_requires:

    Module              Need  Have    
    ------------------- ----- --------
    ExtUtils::MakeMaker 0     6.66    


------------------------------
ENVIRONMENT AND OTHER CONTEXT
------------------------------

Environment variables:

    AUTOMATED_TESTING = 1
    PATH = /usr/local/bin:/usr/bin:/bin:/usr/games
    PERL = 5.18.0
    PERL5LIB = 
    PERL5OPT = 
    PERL5_CPANPLUS_IS_RUNNING = 5258
    PERL5_CPAN_IS_RUNNING = 5258
    PERLVER = 5.18.0
    PERL_INLINE_DIRECTORY = /home/david/.Inline-5.18.0
    PERL_MM_USE_DEFAULT = 1
    SHELL = /bin/bash
    TERM = screen

Perl special variables (and OS-specific diagnostics, for MSWin32):

    $^X = /home/david/cpantesting/perl-5.18.0/bin/perl
    $UID/$EUID = 1000 / 1000
    $GID = 1000 1000
    $EGID = 1000 1000

Perl module toolchain versions installed:

    Module              Have    
    ------------------- --------
    CPAN                2.00    
    CPAN::Meta          2.120921
    Cwd                 3.40    
    ExtUtils::CBuilder  0.280210
    ExtUtils::Command   1.17    
    ExtUtils::Install   1.59    
    ExtUtils::MakeMaker 6.66    
    ExtUtils::Manifest  1.63    
    ExtUtils::ParseXS   3.18    
    File::Spec          3.40    
    JSON                2.57    
    JSON::PP            2.27202 
    Module::Build       0.4005  
    Module::Signature   n/a     
    Parse::CPAN::Meta   1.4404  
    Test::Harness       3.26    
    Test::More          0.98    
    YAML                0.84    
    YAML::Syck          n/a     
    version             0.9902  


--

Summary of my perl5 (revision 5 version 18 subversion 0) configuration:
   
  Platform:
    osname=linux, osvers=3.2.0-4-amd64, archname=x86_64-linux-thread-multi
    uname='linux pigsty.barnyard.co.uk 3.2.0-4-amd64 #1 smp debian 3.2.35-2 x86_64 gnulinux '
    config_args='-de -Dprefix=/home/david/cpantesting/perl-5.18.0 -Dusethreads -Duse64bitall'
    hint=recommended, useposix=true, d_sigaction=define
    useithreads=define, usemultiplicity=define
    useperlio=define, d_sfio=undef, uselargefiles=define, usesocks=undef
    use64bitint=define, use64bitall=define, uselongdouble=undef
    usemymalloc=n, bincompat5005=undef
  Compiler:
    cc='cc', ccflags ='-D_REENTRANT -D_GNU_SOURCE -fno-strict-aliasing -pipe -fstack-protector -I/usr/local/include -D_LARGEFILE_SOURCE -D_FILE_OFFSET_BITS=64',
    optimize='-O2',
    cppflags='-D_REENTRANT -D_GNU_SOURCE -fno-strict-aliasing -pipe -fstack-protector -I/usr/local/include'
    ccversion='', gccversion='4.1.2 20061115 (prerelease) (Debian 4.1.1-21)', gccosandvers=''
    intsize=4, longsize=8, ptrsize=8, doublesize=8, byteorder=12345678
    d_longlong=define, longlongsize=8, d_longdbl=define, longdblsize=16
    ivtype='long', ivsize=8, nvtype='double', nvsize=8, Off_t='off_t', lseeksize=8
    alignbytes=8, prototype=define
  Linker and Libraries:
    ld='cc', ldflags =' -fstack-protector -L/usr/local/lib'
    libpth=/usr/local/lib /lib /usr/lib /lib64 /usr/lib64
    libs=-lnsl -lgdbm -ldb -ldl -lm -lcrypt -lutil -lpthread -lc -lgdbm_compat
    perllibs=-lnsl -ldl -lm -lcrypt -lutil -lpthread -lc
    libc=/lib/libc-2.3.6.so, so=so, useshrplib=false, libperl=libperl.a
    gnulibc_version='2.3.6'
  Dynamic Linking:
    dlsrc=dl_dlopen.xs, dlext=so, d_dlsymun=undef, ccdlflags='-Wl,-E'
    cccdlflags='-fPIC', lddlflags='-shared -O2 -L/usr/local/lib -fstack-protector'


Characteristics of this binary (from libperl): 
  Compile-time options: HAS_TIMES MULTIPLICITY PERLIO_LAYERS
                        PERL_DONT_CREATE_GVSV
                        PERL_HASH_FUNC_ONE_AT_A_TIME_HARD
                        PERL_IMPLICIT_CONTEXT PERL_MALLOC_WRAP
                        PERL_PRESERVE_IVUV PERL_SAWAMPERSAND USE_64_BIT_ALL
                        USE_64_BIT_INT USE_ITHREADS USE_LARGE_FILES
                        USE_LOCALE USE_LOCALE_COLLATE USE_LOCALE_CTYPE
                        USE_LOCALE_NUMERIC USE_PERLIO USE_PERL_ATOF
                        USE_REENTRANT_API
  Built under linux
  Compiled at May 20 2013 18:28:55
  %ENV:
    PERL="5.18.0"
    PERL5LIB=""
    PERL5OPT=""
    PERL5_CPANPLUS_IS_RUNNING="5258"
    PERL5_CPAN_IS_RUNNING="5258"
    PERLVER="5.18.0"
    PERL_INLINE_DIRECTORY="/home/david/.Inline-5.18.0"
    PERL_MM_USE_DEFAULT="1"
  @INC:
    /home/david/cpantesting/perl-5.18.0/lib/site_perl/5.18.0/x86_64-linux-thread-multi
    /home/david/cpantesting/perl-5.18.0/lib/site_perl/5.18.0
    /home/david/cpantesting/perl-5.18.0/lib/5.18.0/x86_64-linux-thread-multi
    /home/david/cpantesting/perl-5.18.0/lib/5.18.0
    .