Report for POSIX-1003-0.99_01

Back
From: metabase:user:314402c4-2aae-11df-837a-5e0a49663a4f
Subject: PASS POSIX-1003-0.99_01 v5.10.1 GNU/Linux
Date: 2015-01-31T08:44:34Z

This distribution has been tested as part of the CPAN Testers
project, supporting the Perl programming language.  See
http://wiki.cpantesters.org/ for more information or email
questions to cpan-testers-discuss@perl.org


--
Dear Mark Overmeer,

This is a computer-generated report for POSIX-1003-0.99_01
on perl 5.10.1, created by CPAN-Reporter-1.2011.

Thank you for uploading your work to CPAN.  Congratulations!
All tests were successful.

Sections of this report:

    * Tester comments
    * Program output
    * Prerequisites
    * Environment and other context

------------------------------
TESTER COMMENTS
------------------------------

Additional comments from tester:

none provided

------------------------------
PROGRAM OUTPUT
------------------------------

Output from '/usr/bin/make test':

Skip blib/lib/POSIX/1003/Limit.pm (unchanged)
Skip blib/lib/POSIX/1003/Errno.pm (unchanged)
Skip blib/lib/POSIX/1003/Locale.pm (unchanged)
Skip blib/lib/POSIX/1003/Events.pm (unchanged)
Skip blib/lib/POSIX/1003/Limit.pod (unchanged)
cp lib/POSIX/1003/Sysconf.pod blib/lib/POSIX/1003/Sysconf.pod
Skip blib/lib/POSIX/1003/FdIO.pm (unchanged)
Skip blib/lib/POSIX/SigAction.pod (unchanged)
Skip blib/lib/POSIX/1003/Time.pm (unchanged)
Skip blib/lib/POSIX/1003/FdIO.pod (unchanged)
Skip blib/lib/POSIX/1003/Socket.pod (unchanged)
Skip blib/lib/POSIX/1003/User.pm (unchanged)
Skip blib/lib/POSIX/1003/Locale.pod (unchanged)
Skip blib/lib/POSIX/1003/Termios.pm (unchanged)
Skip blib/lib/POSIX/1003/OS.pm (unchanged)
Skip blib/lib/POSIX/1003/Socket.pm (unchanged)
Skip blib/lib/POSIX/1003/Errno.pod (unchanged)
Skip blib/lib/POSIX/1003/Time.pod (unchanged)
Skip blib/lib/POSIX/1003/Pathconf.pm (unchanged)
Skip blib/lib/POSIX/1003/Proc.pm (unchanged)
cp lib/POSIX/1003/Symbols.pm blib/lib/POSIX/1003/Symbols.pm
Skip blib/lib/POSIX/1003/Confstr.pod (unchanged)
Skip blib/lib/POSIX/1003/Module.pm (unchanged)
Skip blib/lib/POSIX/1003/Properties.pod (unchanged)
Skip blib/lib/POSIX/1003/Math.pm (unchanged)
Skip blib/lib/POSIX/SigSet.pm (unchanged)
Skip blib/lib/POSIX/Overview.pod (unchanged)
Skip blib/lib/POSIX/1003/Events.pod (unchanged)
Skip blib/lib/POSIX/SigAction.pm (unchanged)
Skip blib/lib/POSIX/1003/FS.pod (unchanged)
Skip blib/lib/POSIX/1003/Module.pod (unchanged)
Skip blib/lib/POSIX/1003/FS.pm (unchanged)
Skip blib/lib/POSIX/1003/Signals.pm (unchanged)
Skip blib/lib/POSIX/1003/User.pod (unchanged)
Skip blib/lib/POSIX/1003.pm (unchanged)
Skip blib/lib/POSIX/1003/Sysconf.pm (unchanged)
Skip blib/lib/POSIX/1003/Proc.pod (unchanged)
Skip blib/lib/POSIX/1003/OS.pod (unchanged)
Skip blib/lib/POSIX/1003/Fcntl.pod (unchanged)
Skip blib/lib/POSIX/1003/Confstr.pm (unchanged)
Skip blib/lib/POSIX/1003/Math.pod (unchanged)
Skip blib/lib/POSIX/1003/Signals.pod (unchanged)
Skip blib/lib/POSIX/1003/Pathconf.pod (unchanged)
Skip blib/lib/POSIX/1003/Termios.pod (unchanged)
Skip blib/lib/POSIX/1003/Properties.pm (unchanged)
Skip blib/lib/POSIX/1003/Fcntl.pm (unchanged)
Skip blib/lib/POSIX/1003.pod (unchanged)
Skip blib/lib/POSIX/SigSet.pod (unchanged)
Running Mkbootstrap for POSIX::1003 ()
chmod 644 "1003.bs"
*** collect all defined symbols
"/bbbike/perl-5.10.1/bin/perl5.10.1" symbols.PL
*** adding values examples to manuals
"/bbbike/perl-5.10.1/bin/perl5.10.1" manuals.PL lib/POSIX/1003.pod lib/POSIX/1003/Confstr.pod lib/POSIX/1003/Errno.pod lib/POSIX/1003/Events.pod lib/POSIX/1003/FS.pod lib/POSIX/1003/Fcntl.pod lib/POSIX/1003/FdIO.pod lib/POSIX/1003/Limit.pod lib/POSIX/1003/Locale.pod lib/POSIX/1003/Math.pod lib/POSIX/1003/Module.pod lib/POSIX/1003/OS.pod lib/POSIX/1003/Pathconf.pod lib/POSIX/1003/Proc.pod lib/POSIX/1003/Properties.pod lib/POSIX/1003/Signals.pod lib/POSIX/1003/Socket.pod lib/POSIX/1003/Sysconf.pod lib/POSIX/1003/Termios.pod lib/POSIX/1003/Time.pod lib/POSIX/1003/User.pod lib/POSIX/Overview.pod lib/POSIX/SigAction.pod lib/POSIX/SigSet.pod
module confstr       has   65 constants,   0 are undefined
module errno         has  134 constants,   0 are undefined
module poll          has   11 constants,   0 are undefined
module fsys_stat     has   20 constants,   0 are undefined
module fsys_acc      has    8 constants,   0 are undefined
module fsys_perm     has   20 constants,   0 are undefined
module fsys_glob     has   17 constants,   0 are undefined
module fcntl         has   42 constants,   0 are undefined
module fdio          has   33 constants,   0 are undefined
module ulimit        has    4 constants,   1 are undefined
module rlimit        has   21 constants,   3 are undefined
module locale        has    8 constants,   0 are undefined
module math          has   46 constants,   0 are undefined
module os            has    1 constants,   0 are undefined
module pathconf      has   21 constants,   6 are undefined
module proc          has    4 constants,   0 are undefined
module property      has  102 constants,   0 are undefined
module signals       has   36 constants,   0 are undefined
module sigactions    has    8 constants,   0 are undefined
module sighandlers   has    6 constants,   0 are undefined
module socket_so     has   39 constants,   0 are undefined
module socket_sol    has   11 constants,   0 are undefined
module socket        has   88 constants,   0 are undefined
module socket_af     has   41 constants,   0 are undefined
module socket_pf     has   41 constants,   0 are undefined
module sysconf       has  216 constants,  78 are undefined
module termios       has   60 constants,   0 are undefined
module time          has    1 constants,   0 are undefined
        Σ 28 tables have 1104 constants,  88 are undefined
PERL_DL_NONLAZY=1 "/bbbike/perl-5.10.1/bin/perl5.10.1" "-MExtUtils::Command::MM" "-MTest::Harness" "-e" "undef *Test::Harness::Switches; test_harness(0, 'blib/lib', 'blib/arch')" t/*.t
POSIX version 1.17
Test::More version 1.001009
XSLoader version 0.10
t/01use.t ......... ok
t/20math.t ........ ok
t/21fdio.t ........ ok
t/22fs.t .......... ok
t/23locale.t ...... ok
t/24os.t .......... ok
t/25proc.t ........ ok
t/26time.t ........ ok
t/27signals.t ..... ok
t/28user.t ........ ok
t/29errno.t ....... ok
t/30sigaction.t ... ok
t/31termios.t ..... ok
t/32fcntl.t ....... ok
t/60sysconf.t ..... ok
t/61confstr.t ..... ok
t/62pathconf.t .... ok
t/63properties.t .. ok
t/64ulimit.t ...... ok
t/65rlimit.t ...... ok
t/70lazy.t ........ ok
All tests successful.
Files=21, Tests=250,  4 wallclock secs ( 0.07 usr  0.07 sys +  0.34 cusr  0.18 csys =  0.66 CPU)
Result: PASS

------------------------------
PREREQUISITES
------------------------------

Prerequisite modules loaded:

requires:

    Module              Need Have    
    ------------------- ---- --------
    File::Spec          0    3.47    
    POSIX               0    1.17    
    Test::More          0.47 1.001009
    XSLoader            0    0.10    

build_requires:

    Module              Need Have    
    ------------------- ---- --------
    ExtUtils::MakeMaker 0    7.04    

configure_requires:

    Module              Need Have    
    ------------------- ---- --------
    ExtUtils::MakeMaker 0    7.04    


------------------------------
ENVIRONMENT AND OTHER CONTEXT
------------------------------

Environment variables:

    DBIC_NO_WARN_BAD_PERL = 1
    LANG = C
    LC_ALL = de_DE.UTF-8
    PATH = /usr/local/bin:/usr/bin:/bin:/usr/local/sbin:/usr/sbin:/sbin:/home/eserte/bin/linux-gnu:/home/eserte/bin/sh:/home/eserte/bin:/usr/games:/home/eserte/devel:/home/eserte/src/srezic-misc/scripts
    PERL5LIB = 
    PERL5OPT = 
    PERL5_CPANPLUS_IS_RUNNING = 27474
    PERL5_CPAN_IS_RUNNING = 27474
    PERL5_CPAN_IS_RUNNING_IN_RECURSION = 27397,27474
    PERLDOC = -MPod::Perldoc::ToTextOverstrike
    PERL_BATCH = yes
    PERL_CPAN_REPORTER_CONFIG = /var/tmp/cpansmoker-1001/NrKkCOoGZE_config.ini
    PERL_EXTUTILS_AUTOINSTALL = --defaultdeps
    PERL_HTML_DISPLAY_CLASS = HTML::Display::Mozilla
    PERL_PARALLEL_SMOKER = yes
    SHELL = /bin/zsh
    TERM = screen
    TMPDIR = /var/tmp/cpansmoker-1001

Perl special variables (and OS-specific diagnostics, for MSWin32):

    $^X = /bbbike/perl-5.10.1/bin/perl5.10.1
    $UID/$EUID = 1001 / 1001
    $GID = 1001 109 1001
    $EGID = 1001 109 1001

Perl module toolchain versions installed:

    Module              Have    
    ------------------- --------
    CPAN                2.05    
    CPAN::Meta          2.142690
    Cwd                 3.47    
    ExtUtils::CBuilder  0.280219
    ExtUtils::Command   1.16    
    ExtUtils::Install   2.04    
    ExtUtils::MakeMaker 7.04    
    ExtUtils::Manifest  1.68    
    ExtUtils::ParseXS   3.24    
    File::Spec          3.47    
    JSON                2.90    
    JSON::PP            2.27203 
    Module::Build       0.4211  
    Module::Signature   0.73    
    Parse::CPAN::Meta   1.4414  
    Test::Harness       3.35    
    Test::More          1.001009
    YAML                1.13    
    YAML::Syck          1.29    
    version             0.9911  


--

Summary of my perl5 (revision 5 version 10 subversion 1) configuration:
   
  Platform:
    osname=linux, osvers=3.2.0-4-amd64, archname=x86_64-linux
    uname='linux eserte 3.2.0-4-amd64 #1 smp debian 3.2.60-1+deb7u3 x86_64 gnulinux '
    config_args='-ds -e -Dprefix=/opt/perl-5.10.1'
    hint=recommended, useposix=true, d_sigaction=define
    useithreads=undef, usemultiplicity=undef
    useperlio=define, d_sfio=undef, uselargefiles=define, usesocks=undef
    use64bitint=define, use64bitall=define, uselongdouble=undef
    usemymalloc=n, bincompat5005=undef
  Compiler:
    cc='cc', ccflags ='-fno-strict-aliasing -pipe -fstack-protector -I/usr/local/include -D_LARGEFILE_SOURCE -D_FILE_OFFSET_BITS=64',
    optimize='-O2',
    cppflags='-fno-strict-aliasing -pipe -fstack-protector -I/usr/local/include'
    ccversion='', gccversion='4.7.2', gccosandvers=''
    intsize=4, longsize=8, ptrsize=8, doublesize=8, byteorder=12345678
    d_longlong=define, longlongsize=8, d_longdbl=define, longdblsize=16
    ivtype='long', ivsize=8, nvtype='double', nvsize=8, Off_t='off_t', lseeksize=8
    alignbytes=8, prototype=define
  Linker and Libraries:
    ld='cc', ldflags =' -fstack-protector -L/usr/local/lib'
    libpth=/usr/local/lib /lib/x86_64-linux-gnu /lib/../lib /usr/lib/x86_64-linux-gnu /usr/lib/../lib /lib /usr/lib
    libs=-lnsl -ldb -ldl -lm -lcrypt -lutil -lc
    perllibs=-lnsl -ldl -lm -lcrypt -lutil -lc
    libc=libc-2.13.so, so=so, useshrplib=false, libperl=libperl.a
    gnulibc_version='2.13'
  Dynamic Linking:
    dlsrc=dl_dlopen.xs, dlext=so, d_dlsymun=undef, ccdlflags='-Wl,-E'
    cccdlflags='-fPIC', lddlflags='-shared -O2 -L/usr/local/lib -fstack-protector'


Characteristics of this binary (from libperl): 
  Compile-time options: PERL_DONT_CREATE_GVSV PERL_MALLOC_WRAP USE_64_BIT_ALL
                        USE_64_BIT_INT USE_LARGE_FILES USE_PERLIO
  Built under linux
  Compiled at Aug 18 2014 20:38:33
  %ENV:
    PERL5LIB=""
    PERL5OPT=""
    PERL5_CPANPLUS_IS_RUNNING="27474"
    PERL5_CPAN_IS_RUNNING="27474"
    PERL5_CPAN_IS_RUNNING_IN_RECURSION="27397,27474"
    PERLDOC="-MPod::Perldoc::ToTextOverstrike"
    PERL_BATCH="yes"
    PERL_CPAN_REPORTER_CONFIG="/var/tmp/cpansmoker-1001/NrKkCOoGZE_config.ini"
    PERL_EXTUTILS_AUTOINSTALL="--defaultdeps"
    PERL_HTML_DISPLAY_CLASS="HTML::Display::Mozilla"
    PERL_PARALLEL_SMOKER="yes"
  @INC:
    /opt/perl-5.10.1/lib/5.10.1/x86_64-linux
    /opt/perl-5.10.1/lib/5.10.1
    /opt/perl-5.10.1/lib/site_perl/5.10.1/x86_64-linux
    /opt/perl-5.10.1/lib/site_perl/5.10.1
    .