Report for Text-Caml-0.10

Back
From: metabase:user:320bfe00-2aae-11df-837a-5e0a49663a4f
Subject: PASS Text-Caml-0.10 v5.17.1 GNU/Linux
Date: 2012-09-04T15:08:13Z

This distribution has been tested as part of the CPAN Testers
project, supporting the Perl programming language.  See
http://wiki.cpantesters.org/ for more information or email
questions to cpan-testers-discuss@perl.org


--
Dear Viacheslav Tykhanovskyi,

This is a computer-generated report for Text-Caml-0.10
on perl 5.17.1, created by CPAN-Reporter-1.2006.

Thank you for uploading your work to CPAN.  Congratulations!
All tests were successful.

Sections of this report:

    * Tester comments
    * Program output
    * Prerequisites
    * Environment and other context

------------------------------
TESTER COMMENTS
------------------------------

Additional comments from tester:

this report is from an automated smoke testing program
and was not reviewed by a human for accuracy

------------------------------
PROGRAM OUTPUT
------------------------------

Output from '/usr/bin/make test':

PERL_DL_NONLAZY=1 /mnt/k75/homesand/src/perl/repoperls/installed-perls/perl/v5.17.1/165a/bin/perl "-MExtUtils::Command::MM" "-e" "test_harness(0, 'blib/lib', 'blib/arch')" t/*.t t/*/*.t
Unescaped left brace in regex is deprecated, passed through in regex; marked by <-- HERE in m/{{ <-- HERE / at /tmp/loop_over_bdir-gWdG4f/Text-Caml-0.10-U5RIGP/blib/lib/Text/Caml.pm line 14.
Unescaped left brace in regex is deprecated, passed through in regex; marked by <-- HERE in m/((?^x:(?:\n [ ]*)?))?\G (?^x:{{ <-- HERE ) / at /tmp/loop_over_bdir-gWdG4f/Text-Caml-0.10-U5RIGP/blib/lib/Text/Caml.pm line 63.
Unescaped left brace in regex is deprecated, passed through in regex; marked by <-- HERE in m/\G (.*?) (?=(?^x:{{ <-- HERE )\{?)/ at /tmp/loop_over_bdir-gWdG4f/Text-Caml-0.10-U5RIGP/blib/lib/Text/Caml.pm line 144.
t/comments.t ........... ok
Unescaped left brace in regex is deprecated, passed through in regex; marked by <-- HERE in m/{{ <-- HERE / at /tmp/loop_over_bdir-gWdG4f/Text-Caml-0.10-U5RIGP/blib/lib/Text/Caml.pm line 14.
Unescaped left brace in regex is deprecated, passed through in regex; marked by <-- HERE in m/((?^x:(?:\n [ ]*)?))?\G (?^x:{{ <-- HERE ) / at /tmp/loop_over_bdir-gWdG4f/Text-Caml-0.10-U5RIGP/blib/lib/Text/Caml.pm line 63.
Unescaped left brace in regex is deprecated, passed through in regex; marked by <-- HERE in m/\G (.*?) (?=(?^x:{{ <-- HERE )\{?)/ at /tmp/loop_over_bdir-gWdG4f/Text-Caml-0.10-U5RIGP/blib/lib/Text/Caml.pm line 144.
t/file.t ............... ok
Unescaped left brace in regex is deprecated, passed through in regex; marked by <-- HERE in m/{{ <-- HERE / at /tmp/loop_over_bdir-gWdG4f/Text-Caml-0.10-U5RIGP/blib/lib/Text/Caml.pm line 14.
Unescaped left brace in regex is deprecated, passed through in regex; marked by <-- HERE in m/((?^x:(?:\n [ ]*)?))?\G (?^x:{{ <-- HERE ) / at /tmp/loop_over_bdir-gWdG4f/Text-Caml-0.10-U5RIGP/blib/lib/Text/Caml.pm line 63.
Unescaped left brace in regex is deprecated, passed through in regex; marked by <-- HERE in m/\G (.*?) (?=(?^x:{{ <-- HERE )\{?)/ at /tmp/loop_over_bdir-gWdG4f/Text-Caml-0.10-U5RIGP/blib/lib/Text/Caml.pm line 144.
Unescaped left brace in regex is deprecated, passed through in regex; marked by <-- HERE in m/\G (.*?) ((?^x:(?:\n [ ]*)?))? (?^x:{{ <-- HERE ) \/ in_ca (?^x:}}) ((?^x:(?:[ ]* \n)?))?/ at /tmp/loop_over_bdir-gWdG4f/Text-Caml-0.10-U5RIGP/blib/lib/Text/Caml.pm line 85.
t/full.t ............... ok
Unescaped left brace in regex is deprecated, passed through in regex; marked by <-- HERE in m/{{ <-- HERE / at /tmp/loop_over_bdir-gWdG4f/Text-Caml-0.10-U5RIGP/blib/lib/Text/Caml.pm line 14.
Unescaped left brace in regex is deprecated, passed through in regex; marked by <-- HERE in m/((?^x:(?:\n [ ]*)?))?\G (?^x:{{ <-- HERE ) / at /tmp/loop_over_bdir-gWdG4f/Text-Caml-0.10-U5RIGP/blib/lib/Text/Caml.pm line 63.
Unescaped left brace in regex is deprecated, passed through in regex; marked by <-- HERE in m/\G (.*?) ((?^x:(?:\n [ ]*)?))? (?^x:{{ <-- HERE ) \/ repo (?^x:}}) ((?^x:(?:[ ]* \n)?))?/ at /tmp/loop_over_bdir-gWdG4f/Text-Caml-0.10-U5RIGP/blib/lib/Text/Caml.pm line 85.
Unescaped left brace in regex is deprecated, passed through in regex; marked by <-- HERE in m/ \G (.*?) ((?^x:(?:\n [ ]*)?))? (?^x:{{ <-- HERE ) \/ repo (?^x:}}) ((?^x:(?:[ ]* \n)?))?/ at /tmp/loop_over_bdir-gWdG4f/Text-Caml-0.10-U5RIGP/blib/lib/Text/Caml.pm line 103.
Unescaped left brace in regex is deprecated, passed through in regex; marked by <-- HERE in m/\G (.*?) (?=(?^x:{{ <-- HERE )\{?)/ at /tmp/loop_over_bdir-gWdG4f/Text-Caml-0.10-U5RIGP/blib/lib/Text/Caml.pm line 144.
Unescaped left brace in regex is deprecated, passed through in regex; marked by <-- HERE in m/ \G (.*?) ((?^x:(?:\n [ ]*)?))? (?^x:{{ <-- HERE ) \/ text (?^x:}}) ((?^x:(?:[ ]* \n)?))?/ at /tmp/loop_over_bdir-gWdG4f/Text-Caml-0.10-U5RIGP/blib/lib/Text/Caml.pm line 103.
Unescaped left brace in regex is deprecated, passed through in regex; marked by <-- HERE in m/ \G (.*?) ((?^x:(?:\n [ ]*)?))? (?^x:{{ <-- HERE ) \/ text.body (?^x:}}) ((?^x:(?:[ ]* \n)?))?/ at /tmp/loop_over_bdir-gWdG4f/Text-Caml-0.10-U5RIGP/blib/lib/Text/Caml.pm line 103.
t/inverted-sections.t .. ok
Unescaped left brace in regex is deprecated, passed through in regex; marked by <-- HERE in m/{{ <-- HERE / at /tmp/loop_over_bdir-gWdG4f/Text-Caml-0.10-U5RIGP/blib/lib/Text/Caml.pm line 14.
Unescaped left brace in regex is deprecated, passed through in regex; marked by <-- HERE in m/((?^x:(?:\n [ ]*)?))?\G (?^x:{{ <-- HERE ) / at /tmp/loop_over_bdir-gWdG4f/Text-Caml-0.10-U5RIGP/blib/lib/Text/Caml.pm line 63.
Unescaped left brace in regex is deprecated, passed through in regex; marked by <-- HERE in m/\G (.*?) (?=(?^x:{{ <-- HERE )\{?)/ at /tmp/loop_over_bdir-gWdG4f/Text-Caml-0.10-U5RIGP/blib/lib/Text/Caml.pm line 144.
Unescaped left brace in regex is deprecated, passed through in regex; marked by <-- HERE in m/\G (.*?) ((?^x:(?:\n [ ]*)?))? (?^x:{{ <-- HERE ) \/ lamda (?^x:}}) ((?^x:(?:[ ]* \n)?))?/ at /tmp/loop_over_bdir-gWdG4f/Text-Caml-0.10-U5RIGP/blib/lib/Text/Caml.pm line 85.
Unescaped left brace in regex is deprecated, passed through in regex; marked by <-- HERE in m/\G (.*?) ((?^x:(?:\n [ ]*)?))? (?^x:{{ <-- HERE ) \/ wrapped (?^x:}}) ((?^x:(?:[ ]* \n)?))?/ at /tmp/loop_over_bdir-gWdG4f/Text-Caml-0.10-U5RIGP/blib/lib/Text/Caml.pm line 85.
Unescaped left brace in regex is deprecated, passed through in regex; marked by <-- HERE in m/\G (.*?) ((?^x:(?:\n [ ]*)?))? (?^x:{{ <-- HERE ) \/ list (?^x:}}) ((?^x:(?:[ ]* \n)?))?/ at /tmp/loop_over_bdir-gWdG4f/Text-Caml-0.10-U5RIGP/blib/lib/Text/Caml.pm line 85.
Unescaped left brace in regex is deprecated, passed through in regex; marked by <-- HERE in m/\G (.*?) ((?^x:(?:\n [ ]*)?))? (?^x:{{ <-- HERE ) \/ wrapper (?^x:}}) ((?^x:(?:[ ]* \n)?))?/ at /tmp/loop_over_bdir-gWdG4f/Text-Caml-0.10-U5RIGP/blib/lib/Text/Caml.pm line 85.
t/lambdas.t ............ ok
Unescaped left brace in regex is deprecated, passed through in regex; marked by <-- HERE in m/{{ <-- HERE / at /tmp/loop_over_bdir-gWdG4f/Text-Caml-0.10-U5RIGP/blib/lib/Text/Caml.pm line 14.
Unescaped left brace in regex is deprecated, passed through in regex; marked by <-- HERE in m/((?^x:(?:\n [ ]*)?))?\G (?^x:{{ <-- HERE ) / at /tmp/loop_over_bdir-gWdG4f/Text-Caml-0.10-U5RIGP/blib/lib/Text/Caml.pm line 63.
Unescaped left brace in regex is deprecated, passed through in regex; marked by <-- HERE in m/\G (.*?) (?=(?^x:{{ <-- HERE )\{?)/ at /tmp/loop_over_bdir-gWdG4f/Text-Caml-0.10-U5RIGP/blib/lib/Text/Caml.pm line 144.
t/partials.t ........... ok
t/pod.t ................ ok
Unescaped left brace in regex is deprecated, passed through in regex; marked by <-- HERE in m/{{ <-- HERE / at /tmp/loop_over_bdir-gWdG4f/Text-Caml-0.10-U5RIGP/blib/lib/Text/Caml.pm line 14.
t/pod_coverage.t ....... ok
Unescaped left brace in regex is deprecated, passed through in regex; marked by <-- HERE in m/{{ <-- HERE / at /tmp/loop_over_bdir-gWdG4f/Text-Caml-0.10-U5RIGP/blib/lib/Text/Caml.pm line 14.
Unescaped left brace in regex is deprecated, passed through in regex; marked by <-- HERE in m/((?^x:(?:\n [ ]*)?))?\G (?^x:{{ <-- HERE ) / at /tmp/loop_over_bdir-gWdG4f/Text-Caml-0.10-U5RIGP/blib/lib/Text/Caml.pm line 63.
Unescaped left brace in regex is deprecated, passed through in regex; marked by <-- HERE in m/\G (.*?) ((?^x:(?:\n [ ]*)?))? (?^x:{{ <-- HERE ) \/ section (?^x:}}) ((?^x:(?:[ ]* \n)?))?/ at /tmp/loop_over_bdir-gWdG4f/Text-Caml-0.10-U5RIGP/blib/lib/Text/Caml.pm line 85.
Unescaped left brace in regex is deprecated, passed through in regex; marked by <-- HERE in m/\G (.*?) (?=(?^x:{{ <-- HERE )\{?)/ at /tmp/loop_over_bdir-gWdG4f/Text-Caml-0.10-U5RIGP/blib/lib/Text/Caml.pm line 144.
t/scope.t .............. ok
Unescaped left brace in regex is deprecated, passed through in regex; marked by <-- HERE in m/{{ <-- HERE / at /tmp/loop_over_bdir-gWdG4f/Text-Caml-0.10-U5RIGP/blib/lib/Text/Caml.pm line 14.
Unescaped left brace in regex is deprecated, passed through in regex; marked by <-- HERE in m/((?^x:(?:\n [ ]*)?))?\G (?^x:{{ <-- HERE ) / at /tmp/loop_over_bdir-gWdG4f/Text-Caml-0.10-U5RIGP/blib/lib/Text/Caml.pm line 63.
Unescaped left brace in regex is deprecated, passed through in regex; marked by <-- HERE in m/\G (.*?) ((?^x:(?:\n [ ]*)?))? (?^x:{{ <-- HERE ) \/ bool (?^x:}}) ((?^x:(?:[ ]* \n)?))?/ at /tmp/loop_over_bdir-gWdG4f/Text-Caml-0.10-U5RIGP/blib/lib/Text/Caml.pm line 85.
Unescaped left brace in regex is deprecated, passed through in regex; marked by <-- HERE in m/\G (.*?) (?=(?^x:{{ <-- HERE )\{?)/ at /tmp/loop_over_bdir-gWdG4f/Text-Caml-0.10-U5RIGP/blib/lib/Text/Caml.pm line 144.
Unescaped left brace in regex is deprecated, passed through in regex; marked by <-- HERE in m/\G (.*?) ((?^x:(?:\n [ ]*)?))? (?^x:{{ <-- HERE ) \/ bool.method (?^x:}}) ((?^x:(?:[ ]* \n)?))?/ at /tmp/loop_over_bdir-gWdG4f/Text-Caml-0.10-U5RIGP/blib/lib/Text/Caml.pm line 85.
Unescaped left brace in regex is deprecated, passed through in regex; marked by <-- HERE in m/\G (.*?) ((?^x:(?:\n [ ]*)?))? (?^x:{{ <-- HERE ) \/ bool (?^x:}}) ((?^x:(?:[ ]* \n)?))?/ at /tmp/loop_over_bdir-gWdG4f/Text-Caml-0.10-U5RIGP/blib/lib/Text/Caml.pm line 85.
Unescaped left brace in regex is deprecated, passed through in regex; marked by <-- HERE in m/\G (.*?) ((?^x:(?:\n [ ]*)?))? (?^x:{{ <-- HERE ) \/ method (?^x:}}) ((?^x:(?:[ ]* \n)?))?/ at /tmp/loop_over_bdir-gWdG4f/Text-Caml-0.10-U5RIGP/blib/lib/Text/Caml.pm line 85.
Unescaped left brace in regex is deprecated, passed through in regex; marked by <-- HERE in m/\G (.*?) ((?^x:(?:\n [ ]*)?))? (?^x:{{ <-- HERE ) \/ bool (?^x:}}) ((?^x:(?:[ ]* \n)?))?/ at /tmp/loop_over_bdir-gWdG4f/Text-Caml-0.10-U5RIGP/blib/lib/Text/Caml.pm line 85.
Unescaped left brace in regex is deprecated, passed through in regex; marked by <-- HERE in m/\G (.*?) ((?^x:(?:\n [ ]*)?))? (?^x:{{ <-- HERE ) \/ list (?^x:}}) ((?^x:(?:[ ]* \n)?))?/ at /tmp/loop_over_bdir-gWdG4f/Text-Caml-0.10-U5RIGP/blib/lib/Text/Caml.pm line 85.
Unescaped left brace in regex is deprecated, passed through in regex; marked by <-- HERE in m/\G (.*?) ((?^x:(?:\n [ ]*)?))? (?^x:{{ <-- HERE ) \/ foo.list (?^x:}}) ((?^x:(?:[ ]* \n)?))?/ at /tmp/loop_over_bdir-gWdG4f/Text-Caml-0.10-U5RIGP/blib/lib/Text/Caml.pm line 85.
Unescaped left brace in regex is deprecated, passed through in regex; marked by <-- HERE in m/\G (.*?) ((?^x:(?:\n [ ]*)?))? (?^x:{{ <-- HERE ) \/ list (?^x:}}) ((?^x:(?:[ ]* \n)?))?/ at /tmp/loop_over_bdir-gWdG4f/Text-Caml-0.10-U5RIGP/blib/lib/Text/Caml.pm line 85.
Unescaped left brace in regex is deprecated, passed through in regex; marked by <-- HERE in m/\G (.*?) ((?^x:(?:\n [ ]*)?))? (?^x:{{ <-- HERE ) \/ _even (?^x:}}) ((?^x:(?:[ ]* \n)?))?/ at /tmp/loop_over_bdir-gWdG4f/Text-Caml-0.10-U5RIGP/blib/lib/Text/Caml.pm line 85.
Unescaped left brace in regex is deprecated, passed through in regex; marked by <-- HERE in m/\G (.*?) ((?^x:(?:\n [ ]*)?))? (?^x:{{ <-- HERE ) \/ list (?^x:}}) ((?^x:(?:[ ]* \n)?))?/ at /tmp/loop_over_bdir-gWdG4f/Text-Caml-0.10-U5RIGP/blib/lib/Text/Caml.pm line 85.
Unescaped left brace in regex is deprecated, passed through in regex; marked by <-- HERE in m/\G (.*?) ((?^x:(?:\n [ ]*)?))? (?^x:{{ <-- HERE ) \/ _odd (?^x:}}) ((?^x:(?:[ ]* \n)?))?/ at /tmp/loop_over_bdir-gWdG4f/Text-Caml-0.10-U5RIGP/blib/lib/Text/Caml.pm line 85.
Unescaped left brace in regex is deprecated, passed through in regex; marked by <-- HERE in m/\G (.*?) ((?^x:(?:\n [ ]*)?))? (?^x:{{ <-- HERE ) \/ list (?^x:}}) ((?^x:(?:[ ]* \n)?))?/ at /tmp/loop_over_bdir-gWdG4f/Text-Caml-0.10-U5RIGP/blib/lib/Text/Caml.pm line 85.
Unescaped left brace in regex is deprecated, passed through in regex; marked by <-- HERE in m/ \G (.*?) ((?^x:(?:\n [ ]*)?))? (?^x:{{ <-- HERE ) \/ _first (?^x:}}) ((?^x:(?:[ ]* \n)?))?/ at /tmp/loop_over_bdir-gWdG4f/Text-Caml-0.10-U5RIGP/blib/lib/Text/Caml.pm line 103.
Unescaped left brace in regex is deprecated, passed through in regex; marked by <-- HERE in m/ \G (.*?) ((?^x:(?:\n [ ]*)?))? (?^x:{{ <-- HERE ) \/ _last (?^x:}}) ((?^x:(?:[ ]* \n)?))?/ at /tmp/loop_over_bdir-gWdG4f/Text-Caml-0.10-U5RIGP/blib/lib/Text/Caml.pm line 103.
Unescaped left brace in regex is deprecated, passed through in regex; marked by <-- HERE in m/\G (.*?) ((?^x:(?:\n [ ]*)?))? (?^x:{{ <-- HERE ) \/ . (?^x:}}) ((?^x:(?:[ ]* \n)?))?/ at /tmp/loop_over_bdir-gWdG4f/Text-Caml-0.10-U5RIGP/blib/lib/Text/Caml.pm line 85.
Unescaped left brace in regex is deprecated, passed through in regex; marked by <-- HERE in m/\G (.*?) ((?^x:(?:\n [ ]*)?))? (?^x:{{ <-- HERE ) \/ list (?^x:}}) ((?^x:(?:[ ]* \n)?))?/ at /tmp/loop_over_bdir-gWdG4f/Text-Caml-0.10-U5RIGP/blib/lib/Text/Caml.pm line 85.
Unescaped left brace in regex is deprecated, passed through in regex; marked by <-- HERE in m/\G (.*?) ((?^x:(?:\n [ ]*)?))? (?^x:{{ <-- HERE ) \/ s (?^x:}}) ((?^x:(?:[ ]* \n)?))?/ at /tmp/loop_over_bdir-gWdG4f/Text-Caml-0.10-U5RIGP/blib/lib/Text/Caml.pm line 85.
t/sections.t ........... ok
Unescaped left brace in regex is deprecated, passed through in regex; marked by <-- HERE in m/{{ <-- HERE / at /tmp/loop_over_bdir-gWdG4f/Text-Caml-0.10-U5RIGP/blib/lib/Text/Caml.pm line 14.
Unescaped left brace in regex is deprecated, passed through in regex; marked by <-- HERE in m/((?^x:(?:\n [ ]*)?))?\G (?^x:{{ <-- HERE ) / at /tmp/loop_over_bdir-gWdG4f/Text-Caml-0.10-U5RIGP/blib/lib/Text/Caml.pm line 63.
Unescaped left brace in regex is deprecated, passed through in regex; marked by <-- HERE in m/\G (.*?) ((?^x:(?:\n [ ]*)?))? (?^x:{{ <-- HERE ) \/ bool (?^x:}}) ((?^x:(?:[ ]* \n)?))?/ at /tmp/loop_over_bdir-gWdG4f/Text-Caml-0.10-U5RIGP/blib/lib/Text/Caml.pm line 85.
t/spacing.t ............ ok
Unescaped left brace in regex is deprecated, passed through in regex; marked by <-- HERE in m/{{ <-- HERE / at /tmp/loop_over_bdir-gWdG4f/Text-Caml-0.10-U5RIGP/blib/lib/Text/Caml.pm line 14.
Unescaped left brace in regex is deprecated, passed through in regex; marked by <-- HERE in m/((?^x:(?:\n [ ]*)?))?\G (?^x:{{ <-- HERE ) / at /tmp/loop_over_bdir-gWdG4f/Text-Caml-0.10-U5RIGP/blib/lib/Text/Caml.pm line 63.
Unescaped left brace in regex is deprecated, passed through in regex; marked by <-- HERE in m/\G (.*?) (?=(?^x:{{ <-- HERE )\{?)/ at /tmp/loop_over_bdir-gWdG4f/Text-Caml-0.10-U5RIGP/blib/lib/Text/Caml.pm line 144.
t/variables-coderef.t .. ok
Unescaped left brace in regex is deprecated, passed through in regex; marked by <-- HERE in m/{{ <-- HERE / at /tmp/loop_over_bdir-gWdG4f/Text-Caml-0.10-U5RIGP/blib/lib/Text/Caml.pm line 14.
Unescaped left brace in regex is deprecated, passed through in regex; marked by <-- HERE in m/((?^x:(?:\n [ ]*)?))?\G (?^x:{{ <-- HERE ) / at /tmp/loop_over_bdir-gWdG4f/Text-Caml-0.10-U5RIGP/blib/lib/Text/Caml.pm line 63.
Unescaped left brace in regex is deprecated, passed through in regex; marked by <-- HERE in m/\G (.*?) (?=(?^x:{{ <-- HERE )\{?)/ at /tmp/loop_over_bdir-gWdG4f/Text-Caml-0.10-U5RIGP/blib/lib/Text/Caml.pm line 144.
t/variables.t .......... ok
All tests successful.
Files=13, Tests=74,  0 wallclock secs ( 0.05 usr  0.02 sys +  0.35 cusr  0.04 csys =  0.46 CPU)
Result: PASS

------------------------------
PREREQUISITES
------------------------------

Prerequisite modules loaded:

requires:

    Module              Need Have   
    ------------------- ---- -------
    Carp                0    1.26   
    File::Spec          0    3.39_02
    Scalar::Util        0    1.25   
    Test::More          0    0.98_03

build_requires:

    Module              Need Have   
    ------------------- ---- -------
    ExtUtils::MakeMaker 0    6.63_02


------------------------------
ENVIRONMENT AND OTHER CONTEXT
------------------------------

Environment variables:

    AUTOMATED_TESTING = 1
    LANG = en_US.UTF-8
    LANGUAGE = en_US:en
    PATH = /home/sand/bin:/usr/local/bin:/usr/bin:/bin:/usr/bin/X11:/usr/games:/usr/local/perl/bin:/usr/X11/bin:/sbin:/usr/sbin
    PERL5LIB = 
    PERL5OPT = 
    PERL5_CPANPLUS_IS_RUNNING = 5809
    PERL5_CPAN_IS_RUNNING = 5809
    PERL_MM_USE_DEFAULT = 1
    SHELL = /usr/bin/zsh
    TERM = screen

Perl special variables (and OS-specific diagnostics, for MSWin32):

    $^X = /mnt/k75/homesand/src/perl/repoperls/installed-perls/perl/v5.17.1/165a/bin/perl
    $UID/$EUID = 1005 / 1005
    $GID = 1005 1005
    $EGID = 1005 1005

Perl module toolchain versions installed:

    Module              Have    
    ------------------- --------
    CPAN                1.9800  
    CPAN::Meta          2.120921
    Cwd                 3.39_02 
    ExtUtils::CBuilder  0.280208
    ExtUtils::Command   1.17    
    ExtUtils::Install   1.58    
    ExtUtils::MakeMaker 6.63_02 
    ExtUtils::Manifest  1.61    
    ExtUtils::ParseXS   3.17    
    File::Spec          3.39_02 
    JSON                2.53    
    JSON::PP            2.27200 
    Module::Build       0.4003  
    Module::Signature   0.68    
    Parse::CPAN::Meta   1.4404  
    Test::Harness       3.25    
    Test::More          0.98_03 
    YAML                0.84    
    YAML::Syck          1.21_01 
    version             0.99    


--

Summary of my perl5 (revision 5 version 17 subversion 1) configuration:
  Commit id: 955b6aceb036f78400e6c2dc1e5d12a6c747a3de
  Platform:
    osname=linux, osvers=3.2.0-3-amd64, archname=x86_64-linux
    uname='linux k83 3.2.0-3-amd64 #1 smp mon jul 23 02:45:17 utc 2012 x86_64 gnulinux '
    config_args='-Dprefix=/home/src/perl/repoperls/installed-perls/perl/v5.17.1/165a -Dmyhostname=k83 -Dinstallusrbinperl=n -Uversiononly -Dusedevel -des -Ui_db -Uuseithreads -Uuselongdouble -DDEBUGGING=-g'
    hint=recommended, useposix=true, d_sigaction=define
    useithreads=undef, usemultiplicity=undef
    useperlio=define, d_sfio=undef, uselargefiles=define, usesocks=undef
    use64bitint=define, use64bitall=define, uselongdouble=undef
    usemymalloc=n, bincompat5005=undef
  Compiler:
    cc='cc', ccflags ='-fno-strict-aliasing -pipe -fstack-protector -I/usr/local/include -D_LARGEFILE_SOURCE -D_FILE_OFFSET_BITS=64',
    optimize='-O2 -g',
    cppflags='-fno-strict-aliasing -pipe -fstack-protector -I/usr/local/include'
    ccversion='', gccversion='4.7.1', gccosandvers=''
    intsize=4, longsize=8, ptrsize=8, doublesize=8, byteorder=12345678
    d_longlong=define, longlongsize=8, d_longdbl=define, longdblsize=16
    ivtype='long', ivsize=8, nvtype='double', nvsize=8, Off_t='off_t', lseeksize=8
    alignbytes=8, prototype=define
  Linker and Libraries:
    ld='cc', ldflags =' -fstack-protector -L/usr/local/lib'
    libpth=/usr/local/lib /lib/x86_64-linux-gnu /lib/../lib /usr/lib/x86_64-linux-gnu /usr/lib/../lib /lib /usr/lib
    libs=-lnsl -ldb -ldl -lm -lcrypt -lutil -lc
    perllibs=-lnsl -ldl -lm -lcrypt -lutil -lc
    libc=, so=so, useshrplib=false, libperl=libperl.a
    gnulibc_version='2.13'
  Dynamic Linking:
    dlsrc=dl_dlopen.xs, dlext=so, d_dlsymun=undef, ccdlflags='-Wl,-E'
    cccdlflags='-fPIC', lddlflags='-shared -O2 -g -L/usr/local/lib -fstack-protector'


Characteristics of this binary (from libperl): 
  Compile-time options: HAS_TIMES PERLIO_LAYERS PERL_DONT_CREATE_GVSV
                        PERL_MALLOC_WRAP PERL_PRESERVE_IVUV PERL_USE_DEVEL
                        USE_64_BIT_ALL USE_64_BIT_INT USE_LARGE_FILES
                        USE_LOCALE USE_LOCALE_COLLATE USE_LOCALE_CTYPE
                        USE_LOCALE_NUMERIC USE_PERLIO USE_PERL_ATOF
  Built under linux
  Compiled at Aug 14 2012 06:09:29
  %ENV:
    PERL5LIB=""
    PERL5OPT=""
    PERL5_CPANPLUS_IS_RUNNING="5809"
    PERL5_CPAN_IS_RUNNING="5809"
    PERL_MM_USE_DEFAULT="1"
  @INC:
    /home/src/perl/repoperls/installed-perls/perl/v5.17.1/165a/lib/site_perl/5.17.1/x86_64-linux
    /home/src/perl/repoperls/installed-perls/perl/v5.17.1/165a/lib/site_perl/5.17.1
    /home/src/perl/repoperls/installed-perls/perl/v5.17.1/165a/lib/5.17.1/x86_64-linux
    /home/src/perl/repoperls/installed-perls/perl/v5.17.1/165a/lib/5.17.1
    .