Back
From: metabase:user:314402c4-2aae-11df-837a-5e0a49663a4f
Subject: PASS Data-ShortNameProvider-1.000 v5.21.10 GNU/Linux
Date: 2015-04-17T16:19:08Z
This distribution has been tested as part of the CPAN Testers
project, supporting the Perl programming language. See
http://wiki.cpantesters.org/ for more information or email
questions to cpan-testers-discuss@perl.org
--
Dear Philippe Bruhat (BooK),
This is a computer-generated report for Data-ShortNameProvider-1.000
on perl 5.21.10, created by CPAN-Reporter-1.2014.
Thank you for uploading your work to CPAN. Congratulations!
All tests were successful.
Sections of this report:
* Tester comments
* Program output
* Prerequisites
* Environment and other context
------------------------------
TESTER COMMENTS
------------------------------
Additional comments from tester:
none provided
------------------------------
PROGRAM OUTPUT
------------------------------
Output from '/usr/bin/make test':
PERL_DL_NONLAZY=1 "/bbbike/perl-5.21.10/bin/perl5.21.10" "-MExtUtils::Command::MM" "-MTest::Harness" "-e" "undef *Test::Harness::Switches; test_harness(0, 'blib/lib', 'blib/arch')" t/*.t
#
#
# Generated by Dist::Zilla::Plugin::ReportVersions::Tiny v1.10
# perl: 5.021010 (wanted any version) on linux from /bbbike/perl-5.21.10/bin/perl5.21.10
#
# Carp => 1.36 (want any version)
# ExtUtils::MakeMaker => 7.04 (want any version)
# Module::Runtime => 0.014 (want any version)
# Moo => 2.000001 (want any version)
# Moo::Role => 2.000001 (want any version)
# POSIX => 1.52 (want any version)
# Sub::Quote => 2.000001 (want any version)
# Test::More => 1.001014 (want 0.88)
# Time::Local => 1.2300 (want any version)
# namespace::clean => 0.25 (want any version)
# strict => 1.09 (want any version)
# warnings => 1.31 (want any version)
#
# Thanks for using my code. I hope it works for you.
# If not, please try and include this output in the bug report.
# That will help me reproduce the issue and solve your problem.
#
t/000-report-versions-tiny.t .. ok
t/release-distmeta.t .......... skipped: these tests are for release candidate testing
t/release-pod-coverage.t ...... skipped: these tests are for release candidate testing
t/release-pod-syntax.t ........ skipped: these tests are for release candidate testing
# (?^:^ta(0|[1-9][0-9]*)_([0-9][0-9])(0[1-9]|1[012])(0[1-9]|[12][0-9]|3[01])__(.*)$)
# (?^:^wwo(0|[1-9][0-9]*)_([0-9][0-9])(0[1-9]|1[012])(0[1-9]|[12][0-9]|3[01])__(.*)$)
# (?^:^udt(0|[1-9][0-9]*)_([0-9][0-9])(0[1-9]|1[012])(0[1-9]|[12][0-9]|3[01])__(.*)$)
# (?^:^ntke(0|[1-9][0-9]*)_([0-9][0-9])(0[1-9]|1[012])(0[1-9]|[12][0-9]|3[01])__(.*)$)
t/style_basic.t ............... ok
All tests successful.
Files=5, Tests=77, 0 wallclock secs ( 0.04 usr 0.03 sys + 0.31 cusr 0.06 csys = 0.44 CPU)
Result: PASS
------------------------------
PREREQUISITES
------------------------------
Prerequisite modules loaded:
requires:
Module Need Have
------------------- ---- --------
Carp 0 1.36
Module::Runtime 0 0.014
Moo 0 2.000001
Moo::Role 0 2.000001
namespace::clean 0 0.25
POSIX 0 1.52
Sub::Quote 0 2.000001
Time::Local 0 1.2300
build_requires:
Module Need Have
------------------- ---- --------
ExtUtils::MakeMaker 0 7.04
strict 0 1.09
Test::More 0.88 1.001014
warnings 0 1.31
configure_requires:
Module Need Have
------------------- ---- --------
ExtUtils::MakeMaker 0 7.04
------------------------------
ENVIRONMENT AND OTHER CONTEXT
------------------------------
Environment variables:
DBIC_NO_WARN_BAD_PERL = 1
LANG = C
LC_ALL = de_DE.UTF-8
PATH = /usr/local/bin:/usr/bin:/bin:/usr/local/sbin:/usr/sbin:/sbin:/home/eserte/bin/linux-gnu:/home/eserte/bin/sh:/home/eserte/bin:/usr/games:/home/eserte/devel:/home/eserte/src/srezic-misc/scripts
PERL5LIB =
PERL5OPT =
PERL5_CPANPLUS_IS_RUNNING = 19273
PERL5_CPAN_IS_RUNNING = 19273
PERL5_CPAN_IS_RUNNING_IN_RECURSION = 19212,19273
PERLDOC = -MPod::Perldoc::ToTextOverstrike
PERL_BATCH = yes
PERL_CPAN_REPORTER_CONFIG = /var/tmp/cpansmoker-1001/JTEbdwFmFF_config.ini
PERL_EXTUTILS_AUTOINSTALL = --defaultdeps
PERL_HTML_DISPLAY_CLASS = HTML::Display::Mozilla
PERL_PARALLEL_SMOKER = yes
SHELL = /bin/zsh
TERM = screen
TMPDIR = /var/tmp/cpansmoker-1001
Perl special variables (and OS-specific diagnostics, for MSWin32):
$^X = /bbbike/perl-5.21.10/bin/perl5.21.10
$UID/$EUID = 1001 / 1001
$GID = 1001 109 1001
$EGID = 1001 109 1001
Perl module toolchain versions installed:
Module Have
------------------- --------
CPAN 2.10
CPAN::Meta 2.150001
Cwd 3.55
ExtUtils::CBuilder 0.280220
ExtUtils::Command 1.20
ExtUtils::Install 2.04
ExtUtils::MakeMaker 7.04
ExtUtils::Manifest 1.70
ExtUtils::ParseXS 3.27
File::Spec 3.55
JSON 2.90
JSON::PP 2.27300
Module::Build 0.4211
Module::Signature 0.73
Parse::CPAN::Meta 1.4414
Test::Harness 3.35
Test::More 1.001014
YAML 1.14
YAML::Syck 1.29
version 0.9912
--
Summary of my perl5 (revision 5 version 21 subversion 10) configuration:
Platform:
osname=linux, osvers=3.2.0-4-amd64, archname=x86_64-linux
uname='linux eserte 3.2.0-4-amd64 #1 smp debian 3.2.65-1+deb7u2 x86_64 gnulinux '
config_args='-ds -e -Dprefix=/opt/perl-5.21.10 -Dusedevel -Dusemallocwrap=no'
hint=recommended, useposix=true, d_sigaction=define
useithreads=undef, usemultiplicity=undef
use64bitint=define, use64bitall=define, uselongdouble=undef
usemymalloc=n, bincompat5005=undef
Compiler:
cc='cc', ccflags ='-fwrapv -fno-strict-aliasing -pipe -fstack-protector -I/usr/local/include -D_LARGEFILE_SOURCE -D_FILE_OFFSET_BITS=64 -D_FORTIFY_SOURCE=2',
optimize='-O2',
cppflags='-fwrapv -fno-strict-aliasing -pipe -fstack-protector -I/usr/local/include'
ccversion='', gccversion='4.7.2', gccosandvers=''
intsize=4, longsize=8, ptrsize=8, doublesize=8, byteorder=12345678, doublekind=3
d_longlong=define, longlongsize=8, d_longdbl=define, longdblsize=16, longdblkind=3
ivtype='long', ivsize=8, nvtype='double', nvsize=8, Off_t='off_t', lseeksize=8
alignbytes=8, prototype=define
Linker and Libraries:
ld='cc', ldflags =' -fstack-protector -L/usr/local/lib'
libpth=/usr/local/lib /usr/lib/gcc/x86_64-linux-gnu/4.7/include-fixed /usr/include/x86_64-linux-gnu /usr/lib /lib/x86_64-linux-gnu /lib/../lib /usr/lib/x86_64-linux-gnu /usr/lib/../lib /lib
libs=-lpthread -lnsl -ldb -ldl -lm -lcrypt -lutil -lc
perllibs=-lpthread -lnsl -ldl -lm -lcrypt -lutil -lc
libc=libc-2.13.so, so=so, useshrplib=false, libperl=libperl.a
gnulibc_version='2.13'
Dynamic Linking:
dlsrc=dl_dlopen.xs, dlext=so, d_dlsymun=undef, ccdlflags='-Wl,-E'
cccdlflags='-fPIC', lddlflags='-shared -O2 -L/usr/local/lib -fstack-protector'
Characteristics of this binary (from libperl):
Compile-time options: HAS_TIMES PERLIO_LAYERS PERL_DONT_CREATE_GVSV
PERL_HASH_FUNC_ONE_AT_A_TIME_HARD
PERL_NEW_COPY_ON_WRITE PERL_PRESERVE_IVUV
PERL_USE_DEVEL USE_64_BIT_ALL USE_64_BIT_INT
USE_LARGE_FILES USE_LOCALE USE_LOCALE_COLLATE
USE_LOCALE_CTYPE USE_LOCALE_NUMERIC USE_LOCALE_TIME
USE_PERLIO USE_PERL_ATOF
Built under linux
Compiled at Mar 20 2015 18:59:18
%ENV:
PERL5LIB=""
PERL5OPT=""
PERL5_CPANPLUS_IS_RUNNING="19273"
PERL5_CPAN_IS_RUNNING="19273"
PERL5_CPAN_IS_RUNNING_IN_RECURSION="19212,19273"
PERLDOC="-MPod::Perldoc::ToTextOverstrike"
PERL_BATCH="yes"
PERL_CPAN_REPORTER_CONFIG="/var/tmp/cpansmoker-1001/JTEbdwFmFF_config.ini"
PERL_EXTUTILS_AUTOINSTALL="--defaultdeps"
PERL_HTML_DISPLAY_CLASS="HTML::Display::Mozilla"
PERL_PARALLEL_SMOKER="yes"
@INC:
/opt/perl-5.21.10/lib/site_perl/5.21.10/x86_64-linux
/opt/perl-5.21.10/lib/site_perl/5.21.10
/opt/perl-5.21.10/lib/5.21.10/x86_64-linux
/opt/perl-5.21.10/lib/5.21.10
.