Back
From: metabase:user:30f4dfbe-2aae-11df-837a-5e0a49663a4f
Subject: PASS Syntax-Feature-QwComments-v1.14.0 v5.14.2 GNU/Linux
Date: 2017-08-07T07:23:20Z
This distribution has been tested as part of the CPAN Testers
project, supporting the Perl programming language. See
http://wiki.cpantesters.org/ for more information or email
questions to cpan-testers-discuss@perl.org
--
Dear ikegami,
This is a computer-generated report for Syntax-Feature-QwComments-v1.14.0
on perl 5.14.2, created by CPAN-Reporter-1.2018.
Thank you for uploading your work to CPAN. Congratulations!
All tests were successful.
Sections of this report:
* Tester comments
* Program output
* Prerequisites
* Environment and other context
------------------------------
TESTER COMMENTS
------------------------------
Additional comments from tester:
this report is from an automated smoke testing program
and was not reviewed by a human for accuracy
------------------------------
PROGRAM OUTPUT
------------------------------
Output from './Build test':
# Testing Syntax::Feature::QwComments v1.14.0
# Using Perl 5.014002
t/00_load.t ............. ok
t/01_basic.t ............ ok
t/02_pragma_a.t ......... ok
t/02_pragma_b.t ......... ok
t/03_line_numbers.t ..... ok
t/04_errors.t ........... ok
t/05_unicode.t .......... ok
t/devel-pod-coverage.t .. skipped: Pod coverage is only tested when DEVEL_TESTS=1
t/pod.t ................. ok
All tests successful.
Files=9, Tests=66, 0 wallclock secs ( 0.06 usr 0.02 sys + 0.50 cusr 0.12 csys = 0.70 CPU)
Result: PASS
------------------------------
PREREQUISITES
------------------------------
Prerequisite modules loaded:
requires:
Module Need Have
-------------------------- ------ --------
Devel::CallParser 0 0.002
Lexical::Sub 0 0.009
perl 5.014 5.014002
syntax 0.004 0.004
version 0 0.88
XSLoader 0 0.22
build_requires:
Module Need Have
-------------------------- ------ --------
ExtUtils::CBuilder 0 0.280220
Test::More 0 1.001014
configure_requires:
Module Need Have
-------------------------- ------ --------
Module::Build 0.3614 0.4211
Software::License::CC0_1_0 0 0.103010
------------------------------
ENVIRONMENT AND OTHER CONTEXT
------------------------------
Environment variables:
AUTOMATED_TESTING = 1
HARNESS_OPTIONS = j2
LANG = en_GB.UTF-8
LANGUAGE = en_GB:en
PATH = /home/njh/perl5/perlbrew/bin:/home/njh/perl5/perlbrew/perls/perl-5.14.2/bin:/home/njh/perl5/perlbrew/bin:/usr/bin:/bin
PERL5LIB = /home/njh/.cpan/build/Syntax-Feature-Loop-v1.8.0-14/blib/arch:/home/njh/.cpan/build/Syntax-Feature-Loop-v1.8.0-14/blib/lib:/home/njh/.cpan/build/syntax-0.004-0/blib/arch:/home/njh/.cpan/build/syntax-0.004-0/blib/lib:/home/njh/.cpan/build/Lexical-Var-0.009-0/blib/arch:/home/njh/.cpan/build/Lexical-Var-0.009-0/blib/lib:/home/njh/.cpan/build/Devel-CallParser-0.002-0/blib/arch:/home/njh/.cpan/build/Devel-CallParser-0.002-0/blib/lib:/home/njh/.cpan/build/Devel-CallChecker-0.008-0/blib/arch:/home/njh/.cpan/build/Devel-CallChecker-0.008-0/blib/lib:/home/njh/.cpan/build/DynaLoader-Functions-0.003-0/blib/arch:/home/njh/.cpan/build/DynaLoader-Functions-0.003-0/blib/lib
PERL5OPT =
PERL5_CPANPLUS_IS_RUNNING = 8611
PERL5_CPAN_IS_RUNNING = 8611
PERLBREW_BASHRC_VERSION = 0.75
PERLBREW_HOME = /home/njh/.perlbrew
PERLBREW_LIB =
PERLBREW_MANPATH = /home/njh/perl5/perlbrew/perls/perl-5.14.2/man
PERLBREW_PATH = /home/njh/perl5/perlbrew/bin:/home/njh/perl5/perlbrew/perls/perl-5.14.2/bin
PERLBREW_PERL = perl-5.14.2
PERLBREW_ROOT = /home/njh/perl5/perlbrew
PERLBREW_VERSION = 0.75
PERL_LOCAL_LIB_ROOT =
SHELL = /bin/sh
Perl special variables (and OS-specific diagnostics, for MSWin32):
$^X = /home/njh/perl5/perlbrew/perls/perl-5.14.2/bin/perl
$UID/$EUID = 1000 / 1000
$GID = 1000 4 24 25 29 30 44 46 103 108 116 127 1000
$EGID = 1000 4 24 25 29 30 44 46 103 108 116 127 1000
Perl module toolchain versions installed:
Module Have
------------------- --------
CPAN 2.16
CPAN::Meta 2.150010
Cwd 3.47
ExtUtils::CBuilder 0.280220
ExtUtils::Command 7.22
ExtUtils::Install 1.56
ExtUtils::MakeMaker 7.22
ExtUtils::Manifest 1.70
ExtUtils::ParseXS 3.30
File::Spec 3.47
JSON 2.90
JSON::PP 2.27400
Module::Build 0.4211
Module::Signature n/a
Parse::CPAN::Meta 2.150010
Test::Harness 3.36
Test::More 1.001014
YAML 1.23
YAML::Syck 1.30
version 0.88
--
Summary of my perl5 (revision 5 version 14 subversion 2) configuration:
Platform:
osname=linux, osvers=3.16-3-amd64, archname=x86_64-linux-thread-multi
uname='linux compaq 3.16-3-amd64 #1 smp debian 3.16.5-1 (2014-10-10) x86_64 gnulinux '
config_args='-de -Dprefix=/home/njh/perl5/perlbrew/perls/perl-5.14.2 -Duseithreads -Dusemultiplicity -Dusedevel -Accflags= -Aeval:scriptdir=/home/njh/perl5/perlbrew/perls/perl-5.14.2/bin'
hint=recommended, useposix=true, d_sigaction=define
useithreads=define, usemultiplicity=define
useperlio=define, d_sfio=undef, uselargefiles=define, usesocks=undef
use64bitint=define, use64bitall=define, uselongdouble=undef
usemymalloc=n, bincompat5005=undef
Compiler:
cc='cc', ccflags ='-D_REENTRANT -D_GNU_SOURCE -fno-strict-aliasing -pipe -fstack-protector -I/usr/local/include -D_LARGEFILE_SOURCE -D_FILE_OFFSET_BITS=64',
optimize='-O2',
cppflags='-D_REENTRANT -D_GNU_SOURCE -fno-strict-aliasing -pipe -fstack-protector -I/usr/local/include'
ccversion='', gccversion='4.9.2', gccosandvers=''
intsize=4, longsize=8, ptrsize=8, doublesize=8, byteorder=12345678
d_longlong=define, longlongsize=8, d_longdbl=define, longdblsize=16
ivtype='long', ivsize=8, nvtype='double', nvsize=8, Off_t='off_t', lseeksize=8
alignbytes=8, prototype=define
Linker and Libraries:
ld='cc', ldflags =' -fstack-protector -L/usr/local/lib'
libpth=/usr/local/lib /lib/x86_64-linux-gnu /lib/../lib /usr/lib/x86_64-linux-gnu /usr/lib/../lib /lib /usr/lib
libs=-lnsl -lgdbm -ldb -ldl -lm -lcrypt -lutil -lpthread -lc -lgdbm_compat
perllibs=-lnsl -ldl -lm -lcrypt -lutil -lpthread -lc
libc=, so=so, useshrplib=false, libperl=libperl.a
gnulibc_version='2.19'
Dynamic Linking:
dlsrc=dl_dlopen.xs, dlext=so, d_dlsymun=undef, ccdlflags='-Wl,-E'
cccdlflags='-fPIC', lddlflags='-shared -O2 -L/usr/local/lib -fstack-protector'
Characteristics of this binary (from libperl):
Compile-time options: MULTIPLICITY PERL_DONT_CREATE_GVSV
PERL_IMPLICIT_CONTEXT PERL_MALLOC_WRAP
PERL_PRESERVE_IVUV PERL_USE_DEVEL USE_64_BIT_ALL
USE_64_BIT_INT USE_ITHREADS USE_LARGE_FILES
USE_PERLIO USE_PERL_ATOF USE_REENTRANT_API
Built under linux
Compiled at Nov 15 2014 02:47:28
%ENV:
PERL5LIB="/home/njh/.cpan/build/Syntax-Feature-Loop-v1.8.0-14/blib/arch:/home/njh/.cpan/build/Syntax-Feature-Loop-v1.8.0-14/blib/lib:/home/njh/.cpan/build/syntax-0.004-0/blib/arch:/home/njh/.cpan/build/syntax-0.004-0/blib/lib:/home/njh/.cpan/build/Lexical-Var-0.009-0/blib/arch:/home/njh/.cpan/build/Lexical-Var-0.009-0/blib/lib:/home/njh/.cpan/build/Devel-CallParser-0.002-0/blib/arch:/home/njh/.cpan/build/Devel-CallParser-0.002-0/blib/lib:/home/njh/.cpan/build/Devel-CallChecker-0.008-0/blib/arch:/home/njh/.cpan/build/Devel-CallChecker-0.008-0/blib/lib:/home/njh/.cpan/build/DynaLoader-Functions-0.003-0/blib/arch:/home/njh/.cpan/build/DynaLoader-Functions-0.003-0/blib/lib"
PERL5OPT=""
PERL5_CPANPLUS_IS_RUNNING="8611"
PERL5_CPAN_IS_RUNNING="8611"
PERLBREW_BASHRC_VERSION="0.75"
PERLBREW_HOME="/home/njh/.perlbrew"
PERLBREW_LIB=""
PERLBREW_MANPATH="/home/njh/perl5/perlbrew/perls/perl-5.14.2/man"
PERLBREW_PATH="/home/njh/perl5/perlbrew/bin:/home/njh/perl5/perlbrew/perls/perl-5.14.2/bin"
PERLBREW_PERL="perl-5.14.2"
PERLBREW_ROOT="/home/njh/perl5/perlbrew"
PERLBREW_VERSION="0.75"
PERL_LOCAL_LIB_ROOT=""
@INC:
/home/njh/.cpan/build/Syntax-Feature-Loop-v1.8.0-14/blib/arch
/home/njh/.cpan/build/Syntax-Feature-Loop-v1.8.0-14/blib/lib
/home/njh/.cpan/build/syntax-0.004-0/blib/arch
/home/njh/.cpan/build/syntax-0.004-0/blib/lib
/home/njh/.cpan/build/Lexical-Var-0.009-0/blib/arch
/home/njh/.cpan/build/Lexical-Var-0.009-0/blib/lib
/home/njh/.cpan/build/Devel-CallParser-0.002-0/blib/arch
/home/njh/.cpan/build/Devel-CallParser-0.002-0/blib/lib
/home/njh/.cpan/build/Devel-CallChecker-0.008-0/blib/arch
/home/njh/.cpan/build/Devel-CallChecker-0.008-0/blib/lib
/home/njh/.cpan/build/DynaLoader-Functions-0.003-0/blib/arch
/home/njh/.cpan/build/DynaLoader-Functions-0.003-0/blib/lib
/home/njh/perl5/perlbrew/perls/perl-5.14.2/lib/site_perl/5.14.2/x86_64-linux-thread-multi
/home/njh/perl5/perlbrew/perls/perl-5.14.2/lib/site_perl/5.14.2
/home/njh/perl5/perlbrew/perls/perl-5.14.2/lib/5.14.2/x86_64-linux-thread-multi
/home/njh/perl5/perlbrew/perls/perl-5.14.2/lib/5.14.2
.