Report for Passwd-Unix-Alt-0.5213

Back
From: metabase:user:30f0bd62-2aae-11df-837a-5e0a49663a4f
Subject: PASS Passwd-Unix-Alt-0.5213 v5.14.1 OpenBSD
Date: 2012-09-04T15:20:40Z

This distribution has been tested as part of the CPAN Testers
project, supporting the Perl programming language.  See
http://wiki.cpantesters.org/ for more information or email
questions to cpan-testers-discuss@perl.org


--
Dear Steven Haryanto,

This is a computer-generated report for Passwd-Unix-Alt-0.5213
on perl 5.14.1, created by CPAN-Reporter-1.2002.

Thank you for uploading your work to CPAN.  Congratulations!
All tests were successful.

Sections of this report:

    * Tester comments
    * Program output
    * Prerequisites
    * Environment and other context

------------------------------
TESTER COMMENTS
------------------------------

Additional comments from tester:

this report is from an automated smoke testing program
and was not reviewed by a human for accuracy

------------------------------
PROGRAM OUTPUT
------------------------------

Output from './Build test':

t/00-compile.t ............ ok
# tmp dir is /home/sts/cpansmoke/tmp/MYALuh59jz
t/01-basics.t ............. ok
# tmp dir is /home/sts/cpansmoke/tmp/twNscsfYmc
t/02-lock.t ............... ok
t/10-new.t ................ ok
t/11-uid-debian.t ......... ok
t/12-gid-debian.t ......... ok
t/13-shell-debian.t ....... ok
t/14-home-debian.t ........ ok
t/15-maxuid-debian.t ...... ok
t/16-maxgid-debian.t ...... ok
t/array_compare.t ......... ok
t/release-pod-coverage.t .. skipped: these tests are for release candidate testing
t/release-pod-syntax.t .... skipped: these tests are for release candidate testing
All tests successful.
Files=13, Tests=79,  1 wallclock secs ( 0.09 usr  0.07 sys +  1.18 cusr  0.23 csys =  1.57 CPU)
Result: PASS

------------------------------
PREREQUISITES
------------------------------

Prerequisite modules loaded:

requires:

    Module              Need   Have    
    ------------------- ------ --------
    Crypt::PasswdMD5    1.3    1.3     
    File::Flock         0      2008.01 
    File::Slurp         0      9999.19 
    Log::Any            0      0.14    
    perl                5.010  5.014001
    Sub::ScopeFinalizer 0      0.02    

build_requires:

    Module              Need   Have    
    ------------------- ------ --------
    File::chdir         0      0.1006  
    Module::Build       0.3601 0.3800  
    Test::More          0.96   0.98    

configure_requires:

    Module              Need   Have    
    ------------------- ------ --------
    Module::Build       0.3601 0.3800  


------------------------------
ENVIRONMENT AND OTHER CONTEXT
------------------------------

Environment variables:

    AUTOMATED_TESTING = 1
    PATH = /home/sts/bin:/bin:/sbin:/usr/bin:/usr/sbin:/usr/X11R6/bin:/usr/local/bin:/usr/local/sbin:/usr/games:.
    PERL5LIB = /home/sts/cpansmoke/perl-5.14.1/cpan/build/File-Flock-2008.01-Fg3hUr/blib/arch:/home/sts/cpansmoke/perl-5.14.1/cpan/build/File-Flock-2008.01-Fg3hUr/blib/lib:/home/sts/cpansmoke/perl-5.14.1/cpan/build/Log-Any-0.14-JdL0DV/blib/arch:/home/sts/cpansmoke/perl-5.14.1/cpan/build/Log-Any-0.14-JdL0DV/blib/lib:/home/sts/cpansmoke/perl-5.14.1/cpan/build/Crypt-PasswdMD5-1.3-F3KmYr/blib/arch:/home/sts/cpansmoke/perl-5.14.1/cpan/build/Crypt-PasswdMD5-1.3-F3KmYr/blib/lib:/home/sts/cpansmoke/perl-5.14.1/cpan/build/File-chdir-0.1006-XPa4_3/blib/arch:/home/sts/cpansmoke/perl-5.14.1/cpan/build/File-chdir-0.1006-XPa4_3/blib/lib:/home/sts/cpansmoke/perl-5.14.1/cpan/build/Sub-ScopeFinalizer-0.02-izOO6C/blib/arch:/home/sts/cpansmoke/perl-5.14.1/cpan/build/Sub-ScopeFinalizer-0.02-izOO6C/blib/lib
    PERL5OPT = 
    PERL5_CPANPLUS_IS_RUNNING = 8826
    PERL5_CPAN_IS_RUNNING = 8826
    PERL5_CPAN_IS_RUNNING_IN_RECURSION = 13104,8826
    PERL_CR_SMOKER_CURRENT = Passwd-Unix-Alt-0.5213
    PERL_EXTUTILS_AUTOINSTALL = --defaultdeps
    PERL_MM_USE_DEFAULT = 1
    SHELL = /usr/local/bin/bash
    TERM = screen
    TMPDIR = /home/sts/cpansmoke/tmp

Perl special variables (and OS-specific diagnostics, for MSWin32):

    $^X = /home/sts/cpansmoke/perl-5.14.1/bin/perl
    $UID/$EUID = 1000 / 1000
    $GID = 10 10 0
    $EGID = 10 10 0

Perl module toolchain versions installed:

    Module              Have    
    ------------------- --------
    CPAN                1.9800  
    CPAN::Meta          2.110440
    Cwd                 3.36    
    ExtUtils::CBuilder  0.280203
    ExtUtils::Command   1.17    
    ExtUtils::Install   1.56    
    ExtUtils::MakeMaker 6.57_05 
    ExtUtils::Manifest  1.58    
    ExtUtils::ParseXS   2.2210  
    File::Spec          3.33    
    JSON                2.53    
    JSON::PP            2.27105 
    Module::Build       0.3800  
    Module::Signature   n/a     
    Parse::CPAN::Meta   1.4401  
    Test::Harness       3.23    
    Test::More          0.98    
    YAML                0.73    
    YAML::Syck          n/a     
    version             0.88    


--

Summary of my perl5 (revision 5 version 14 subversion 1) configuration:
   
  Platform:
    osname=openbsd, osvers=4.9, archname=OpenBSD.i386-openbsd-thread-multi
    uname='openbsd cpansmoke3 4.9 generic.mp#794 i386 '
    config_args='-des -Dusethreads -Dprefix=/home/sts/cpansmoke/perl-5.14.1'
    hint=recommended, useposix=true, d_sigaction=define
    useithreads=define, usemultiplicity=define
    useperlio=define, d_sfio=undef, uselargefiles=define, usesocks=undef
    use64bitint=undef, use64bitall=undef, uselongdouble=undef
    usemymalloc=y, bincompat5005=undef
  Compiler:
    cc='cc', ccflags ='-pthread -fno-strict-aliasing -pipe -fstack-protector -I/usr/local/include',
    optimize='-O2',
    cppflags='-pthread -fno-strict-aliasing -pipe -fstack-protector -I/usr/local/include'
    ccversion='', gccversion='4.2.1 20070719 ', gccosandvers='openbsd4.9'
    intsize=4, longsize=4, ptrsize=4, doublesize=8, byteorder=1234
    d_longlong=define, longlongsize=8, d_longdbl=define, longdblsize=12
    ivtype='long', ivsize=4, nvtype='double', nvsize=8, Off_t='off_t', lseeksize=8
    alignbytes=4, prototype=define
  Linker and Libraries:
    ld='cc', ldflags ='-pthread -Wl,-E  -fstack-protector -L/usr/local/lib'
    libpth=/usr/local/lib /usr/lib
    libs=-lgdbm -lm -lutil -lc
    perllibs=-lm -lutil -lc
    libc=/usr/lib/libc.so.58.0, so=so, useshrplib=false, libperl=libperl.a
    gnulibc_version=''
  Dynamic Linking:
    dlsrc=dl_dlopen.xs, dlext=so, d_dlsymun=undef, ccdlflags=' '
    cccdlflags='-DPIC -fPIC ', lddlflags='-shared -fPIC  -L/usr/local/lib -fstack-protector'


Characteristics of this binary (from libperl): 
  Compile-time options: MULTIPLICITY MYMALLOC PERL_DONT_CREATE_GVSV
                        PERL_IMPLICIT_CONTEXT PERL_MALLOC_WRAP
                        PERL_PRESERVE_IVUV USE_ITHREADS USE_LARGE_FILES
                        USE_PERLIO USE_PERL_ATOF USE_REENTRANT_API
  Built under openbsd
  Compiled at Jun 29 2011 16:46:07
  %ENV:
    PERL5LIB="/home/sts/cpansmoke/perl-5.14.1/cpan/build/File-Flock-2008.01-Fg3hUr/blib/arch:/home/sts/cpansmoke/perl-5.14.1/cpan/build/File-Flock-2008.01-Fg3hUr/blib/lib:/home/sts/cpansmoke/perl-5.14.1/cpan/build/Log-Any-0.14-JdL0DV/blib/arch:/home/sts/cpansmoke/perl-5.14.1/cpan/build/Log-Any-0.14-JdL0DV/blib/lib:/home/sts/cpansmoke/perl-5.14.1/cpan/build/Crypt-PasswdMD5-1.3-F3KmYr/blib/arch:/home/sts/cpansmoke/perl-5.14.1/cpan/build/Crypt-PasswdMD5-1.3-F3KmYr/blib/lib:/home/sts/cpansmoke/perl-5.14.1/cpan/build/File-chdir-0.1006-XPa4_3/blib/arch:/home/sts/cpansmoke/perl-5.14.1/cpan/build/File-chdir-0.1006-XPa4_3/blib/lib:/home/sts/cpansmoke/perl-5.14.1/cpan/build/Sub-ScopeFinalizer-0.02-izOO6C/blib/arch:/home/sts/cpansmoke/perl-5.14.1/cpan/build/Sub-ScopeFinalizer-0.02-izOO6C/blib/lib"
    PERL5OPT=""
    PERL5_CPANPLUS_IS_RUNNING="8826"
    PERL5_CPAN_IS_RUNNING="8826"
    PERL5_CPAN_IS_RUNNING_IN_RECURSION="13104,8826"
    PERL_CR_SMOKER_CURRENT="Passwd-Unix-Alt-0.5213"
    PERL_EXTUTILS_AUTOINSTALL="--defaultdeps"
    PERL_MM_USE_DEFAULT="1"
  @INC:
    /home/sts/cpansmoke/perl-5.14.1/cpan/build/File-Flock-2008.01-Fg3hUr/blib/arch
    /home/sts/cpansmoke/perl-5.14.1/cpan/build/File-Flock-2008.01-Fg3hUr/blib/lib
    /home/sts/cpansmoke/perl-5.14.1/cpan/build/Log-Any-0.14-JdL0DV/blib/arch
    /home/sts/cpansmoke/perl-5.14.1/cpan/build/Log-Any-0.14-JdL0DV/blib/lib
    /home/sts/cpansmoke/perl-5.14.1/cpan/build/Crypt-PasswdMD5-1.3-F3KmYr/blib/arch
    /home/sts/cpansmoke/perl-5.14.1/cpan/build/Crypt-PasswdMD5-1.3-F3KmYr/blib/lib
    /home/sts/cpansmoke/perl-5.14.1/cpan/build/File-chdir-0.1006-XPa4_3/blib/arch
    /home/sts/cpansmoke/perl-5.14.1/cpan/build/File-chdir-0.1006-XPa4_3/blib/lib
    /home/sts/cpansmoke/perl-5.14.1/cpan/build/Sub-ScopeFinalizer-0.02-izOO6C/blib/arch
    /home/sts/cpansmoke/perl-5.14.1/cpan/build/Sub-ScopeFinalizer-0.02-izOO6C/blib/lib
    /home/sts/cpansmoke/perl-5.14.1/lib/site_perl/5.14.1/OpenBSD.i386-openbsd-thread-multi
    /home/sts/cpansmoke/perl-5.14.1/lib/site_perl/5.14.1
    /home/sts/cpansmoke/perl-5.14.1/lib/5.14.1/OpenBSD.i386-openbsd-thread-multi
    /home/sts/cpansmoke/perl-5.14.1/lib/5.14.1
    .