Back
From: metabase:user:320bfe00-2aae-11df-837a-5e0a49663a4f
Subject: PASS PAR-Packer-1.057 5.34.1 GNU/Linux
Date: 2022-11-29T11:59:26Z
This distribution has been tested as part of the CPAN Testers
project, supporting the Perl programming language. See
http://wiki.cpantesters.org/ for more information or email
questions to cpan-testers-discuss@perl.org
--
Dear Roderich Schupp,
This is a computer-generated report for PAR-Packer-1.057
on perl 5.34.1, created by CPAN-Reporter-1.2018.
Thank you for uploading your work to CPAN. Congratulations!
All tests were successful.
Sections of this report:
* Tester comments
* Program output
* Prerequisites
* Environment and other context
------------------------------
TESTER COMMENTS
------------------------------
Additional comments from tester:
this report is from an automated smoke testing program
and was not reviewed by a human for accuracy
------------------------------
PROGRAM OUTPUT
------------------------------
Output from '/usr/bin/make test':
make[1]: Entering directory '/tmp/loop_over_bdir-8537-5WQwKY/PAR-Packer-1.057-0/myldr'
Makefile:863: warning: overriding recipe for target '.c.o'
Makefile:341: warning: ignoring old recipe for target '.c.o'
make[1]: Leaving directory '/tmp/loop_over_bdir-8537-5WQwKY/PAR-Packer-1.057-0/myldr'
make[1]: Entering directory '/tmp/loop_over_bdir-8537-5WQwKY/PAR-Packer-1.057-0/myldr'
Makefile:863: warning: overriding recipe for target '.c.o'
Makefile:341: warning: ignoring old recipe for target '.c.o'
No tests defined for myldr extension.
make[1]: Leaving directory '/tmp/loop_over_bdir-8537-5WQwKY/PAR-Packer-1.057-0/myldr'
PERL_DL_NONLAZY=1 "/home/sand/src/perl/repoperls/installed-perls/host/k93stretch/v5.34.1/0cee/bin/perl" "-MExtUtils::Command::MM" "-MTest::Harness" "-e" "undef *Test::Harness::Switches; test_harness(0, 'blib/lib', 'blib/arch')" t/*.t
t/00-pod.t ............... skipped: Set environment variable PERL_TEST_POD=1 to test POD
t/10-parl-generation.t ... ok
/tmp/TN8d6HTKr_ syntax OK
t/20-pp.t ................ ok
# Please wait
t/30-current_exec.t ...... ok
t/40-packer_cd_option.t .. ok
t/80-doublecolon.t ....... ok
t/85-crt-glob.t .......... ok
t/85-myfile.t ............ ok
t/90-gh41.t .............. skipped: Tests only relevant on Windows
t/90-gh66.t .............. ok
t/90-rt101800.t .......... skipped: Archive::Unzip::Burst detected
t/90-rt103861.t .......... ok
t/90-rt104560.t .......... ok
t/90-rt104635.t .......... ok
t/90-rt122949.t .......... skipped: Tests only relevant on Windows
t/90-rt127064.t .......... skipped: Tests only relevant on Windows
t/90-rt129312.t .......... skipped: Archive::Unzip::Burst detected
# found core module Carp in /home/sand/src/perl/repoperls/installed-perls/host/k93stretch/v5.34.1/0cee/lib/5.34.1/Carp.pm
# found core module Exporter in /home/sand/src/perl/repoperls/installed-perls/host/k93stretch/v5.34.1/0cee/lib/5.34.1/Exporter.pm
# found core module File::Glob in /home/sand/src/perl/repoperls/installed-perls/host/k93stretch/v5.34.1/0cee/lib/5.34.1/x86_64-linux-ld/File/Glob.pm
# found core module List::Util in /home/sand/src/perl/repoperls/installed-perls/host/k93stretch/v5.34.1/0cee/lib/site_perl/5.34.1/x86_64-linux-ld/List/Util.pm
t/90-rt130685.t .......... ok
t/90-rt59710.t ........... ok
All tests successful.
Files=19, Tests=119, 107 wallclock secs ( 0.08 usr 0.02 sys + 62.84 cusr 14.54 csys = 77.48 CPU)
Result: PASS
------------------------------
PREREQUISITES
------------------------------
Prerequisite modules loaded:
requires:
Module Need Have
--------------------- -------- --------
Archive::Zip 1.02 1.68
Compress::Zlib 1.30 2.103
Digest::SHA 5.40 6.02
File::Temp 0.05 0.2311
Getopt::ArgvFile 1.07 1.11
IO::Compress::Gzip 0 2.103
Module::ScanDeps 1.21 1.31
PAR 1.016 1.017
PAR::Dist 0.22 0.51
perl 5.008009 5.034001
Text::ParseWords 0 3.30
build_requires:
Module Need Have
--------------------- -------- --------
ExtUtils::MakeMaker 0 7.64
IPC::Run3 0.048 0.048
Test::More 0 1.302190
configure_requires:
Module Need Have
--------------------- -------- --------
DynaLoader 0 1.50
ExtUtils::CBuilder 0 0.280236
ExtUtils::Embed 0 1.35
File::Basename 0 2.85
File::Glob 0 1.33
File::Spec::Functions 0 3.80
opt_requires:
Module Need Have
--------------------- -------- --------
Digest 0 1.20
Module::Signature 0 0.88
Tk 0 804.036
Tk::ColoredButton 0 1.05
Tk::EntryCheck 0 0.04
Tk::Getopt 0 0.51
------------------------------
ENVIRONMENT AND OTHER CONTEXT
------------------------------
Environment variables:
AUTOMATED_TESTING = 1
LANG = en_US.UTF-8
LANGUAGE = en_US:en
PATH = /home/sand/bin:/usr/local/bin:/usr/bin:/bin:/usr/games:/usr/local/perl/bin:/usr/X11/bin:/sbin:/usr/sbin
PERL5LIB =
PERL5OPT =
PERL5_CPANPLUS_IS_RUNNING = 9139
PERL5_CPAN_IS_RUNNING = 9139
PERL_CANARY_STABILITY_NOPROMPT = 1
PERL_MM_USE_DEFAULT = 1
PERL_USE_UNSAFE_INC = 1
SHELL = /usr/bin/zsh
TERM = screen
Perl special variables (and OS-specific diagnostics, for MSWin32):
$^X = /home/sand/src/perl/repoperls/installed-perls/host/k93stretch/v5.34.1/0cee/bin/perl
$UID/$EUID = 1005 / 1005
$GID = 1005 1005
$EGID = 1005 1005
Perl module toolchain versions installed:
Module Have
------------------- --------
CPAN 2.34
CPAN::Meta 2.150010
Cwd 3.80
ExtUtils::CBuilder 0.280236
ExtUtils::Command 7.64
ExtUtils::Install 2.20
ExtUtils::MakeMaker 7.64
ExtUtils::Manifest 1.73
ExtUtils::ParseXS 3.44
File::Spec 3.80
JSON 4.05
JSON::PP 4.07
Module::Build 0.4231
Module::Signature 0.88
Parse::CPAN::Meta 2.150010
Test::Harness 3.43
Test::More 1.302190
YAML 1.30
YAML::Syck 1.34
version 0.9929
--
Summary of my perl5 (revision 5 version 34 subversion 1) configuration:
Commit id: 1181cf72936404b890ef41362f533fe2c2626f9b
Platform:
osname=linux
osvers=4.9.0-18-amd64
archname=x86_64-linux-ld
uname='linux k93stretch 4.9.0-18-amd64 #1 smp debian 4.9.303-1 (2022-03-07) x86_64 gnulinux '
config_args='-Dprefix=/home/sand/src/perl/repoperls/installed-perls/host/k93stretch/v5.34.1/0cee -Dmyhostname=k93stretch -Dinstallusrbinperl=n -Uversiononly -Dusedevel -des -Ui_db -Dlibswanted=cl pthread socket inet nsl gdbm dbm malloc dl ld sun m crypt sec util c cposix posix ucb BSD gdbm_compat -Uuseithreads -Duselongdouble -DEBUGGING=-g'
hint=recommended
useposix=true
d_sigaction=define
useithreads=undef
usemultiplicity=undef
use64bitint=define
use64bitall=define
uselongdouble=define
usemymalloc=n
default_inc_excludes_dot=define
Compiler:
cc='cc'
ccflags ='-fwrapv -fno-strict-aliasing -pipe -fstack-protector-strong -I/usr/local/include -D_LARGEFILE_SOURCE -D_FILE_OFFSET_BITS=64 -D_FORTIFY_SOURCE=2'
optimize='-O2 -g'
cppflags='-fwrapv -fno-strict-aliasing -pipe -fstack-protector-strong -I/usr/local/include'
ccversion=''
gccversion='6.3.0 20170516'
gccosandvers=''
intsize=4
longsize=8
ptrsize=8
doublesize=8
byteorder=12345678
doublekind=3
d_longlong=define
longlongsize=8
d_longdbl=define
longdblsize=16
longdblkind=3
ivtype='long'
ivsize=8
nvtype='long double'
nvsize=16
Off_t='off_t'
lseeksize=8
alignbytes=16
prototype=define
Linker and Libraries:
ld='cc'
ldflags =' -fstack-protector-strong -L/usr/local/lib'
libpth=/usr/local/lib /usr/lib/x86_64-linux-gnu /usr/lib /lib/x86_64-linux-gnu /lib
libs=-lpthread -lnsl -ldl -lm -lcrypt -lutil -lc
perllibs=-lpthread -lnsl -ldl -lm -lcrypt -lutil -lc
libc=libc-2.24.so
so=so
useshrplib=false
libperl=libperl.a
gnulibc_version='2.24'
Dynamic Linking:
dlsrc=dl_dlopen.xs
dlext=so
d_dlsymun=undef
ccdlflags='-Wl,-E'
cccdlflags='-fPIC'
lddlflags='-shared -O2 -g -L/usr/local/lib -fstack-protector-strong'
Characteristics of this binary (from libperl):
Compile-time options:
HAS_TIMES
PERLIO_LAYERS
PERL_COPY_ON_WRITE
PERL_DONT_CREATE_GVSV
PERL_MALLOC_WRAP
PERL_OP_PARENT
PERL_PRESERVE_IVUV
PERL_USE_DEVEL
USE_64_BIT_ALL
USE_64_BIT_INT
USE_LARGE_FILES
USE_LOCALE
USE_LOCALE_COLLATE
USE_LOCALE_CTYPE
USE_LOCALE_NUMERIC
USE_LOCALE_TIME
USE_LONG_DOUBLE
USE_PERLIO
USE_PERL_ATOF
Built under linux
Compiled at Apr 5 2022 02:40:20
%ENV:
PERL5LIB=""
PERL5OPT=""
PERL5_CPANPLUS_IS_RUNNING="9139"
PERL5_CPAN_IS_RUNNING="9139"
PERL_CANARY_STABILITY_NOPROMPT="1"
PERL_MM_USE_DEFAULT="1"
PERL_USE_UNSAFE_INC="1"
@INC:
/home/sand/src/perl/repoperls/installed-perls/host/k93stretch/v5.34.1/0cee/lib/site_perl/5.34.1/x86_64-linux-ld
/home/sand/src/perl/repoperls/installed-perls/host/k93stretch/v5.34.1/0cee/lib/site_perl/5.34.1
/home/sand/src/perl/repoperls/installed-perls/host/k93stretch/v5.34.1/0cee/lib/5.34.1/x86_64-linux-ld
/home/sand/src/perl/repoperls/installed-perls/host/k93stretch/v5.34.1/0cee/lib/5.34.1
.