Report for Attean-0.030

Back
From: metabase:user:b8a9e342-69cf-11e7-adca-3fbd147838bf
Subject: PASS Attean-0.030 5.35.6 FreeBSD
Date: 2021-10-28T06:11:30Z

This distribution has been tested as part of the CPAN Testers
project, supporting the Perl programming language.  See
http://wiki.cpantesters.org/ for more information or email
questions to cpan-testers-discuss@perl.org


--
Dear Gregory Todd Williams,

This is a computer-generated report for Attean-0.030
on perl 5.35.6, created by CPAN-Reporter-1.2018.

Thank you for uploading your work to CPAN.  Congratulations!
All tests were successful.

Sections of this report:

    * Tester comments
    * Program output
    * Prerequisites
    * Environment and other context

------------------------------
TESTER COMMENTS
------------------------------

Additional comments from tester:

this report is from an automated smoke testing program
and was not reviewed by a human for accuracy

------------------------------
PROGRAM OUTPUT
------------------------------

Output from '/usr/bin/make test':

PERL_DL_NONLAZY=1 "/usr/home/cpan/bin/perl-blead/bin/perl5.35.6" "-MExtUtils::Command::MM" "-MTest::Harness" "-e" "undef *Test::Harness::Switches; test_harness(0, 'inc', 'blib/lib', 'blib/arch')" t/*.t
t/00.load.t ....................... ok
t/algebra.t ....................... ok
t/binding-equality.t .............. ok
t/binding.t ....................... ok
t/convenience.t ................... ok
t/cost_planner.t .................. ok
t/export-functions.t .............. ok
t/expression.t .................... ok
t/http-negotiation.t .............. ok
t/idp_planner.t ................... ok
t/iter.t .......................... ok
t/join_rotating_planner.t ......... ok
t/model-quad.t .................... ok
t/model-triple.t .................. ok
t/naive_planner.t ................. ok
t/parser-nquads.t ................. ok
t/parser-ntriples.t ............... ok
t/parser-rdfxml.t ................. ok
t/parser-sparql.t ................. ok
t/parser-sparqljson.t ............. ok
t/parser-sparqltsv.t .............. ok
t/parser-sparqlxml.t .............. ok
t/parser-turtle.t ................. ok
t/parser.t ........................ ok
t/plan.t .......................... ok
t/plans.t ......................... ok
t/serializer-canonicalntriples.t .. ok
t/serializer-nquads.t ............. ok
t/serializer-ntriples.t ........... ok
t/serializer-rdfxml.t ............. ok
t/serializer-sparql.t ............. ok
t/serializer-sparqlcsv.t .......... ok
t/serializer-sparqlhtml.t ......... ok
t/serializer-sparqljson.t ......... ok
t/serializer-sparqltsv.t .......... ok
t/serializer-sparqlxml.t .......... ok
t/serializer-turtle.t ............. ok
t/serializer.t .................... ok
t/simple-eval.t ................... ok
t/simple.t ........................ ok
t/store-memory.t .................. ok
t/store-simple.t .................. ok
t/store-simpletriple.t ............ ok
t/term-map.t ...................... ok
t/term.t .......................... ok
t/treerewrite.t ................... ok
t/types-iri.t ..................... ok
All tests successful.
Files=47, Tests=900, 93 wallclock secs ( 0.51 usr  0.28 sys + 73.30 cusr 16.41 csys = 90.49 CPU)
Result: PASS

------------------------------
PREREQUISITES
------------------------------

Prerequisite modules loaded:

requires:

    Module                   Need     Have      
    ------------------------ -------- ----------
    Algorithm::Combinatorics 0        0.27      
    DateTime::Format::W3CDTF 0        0.08      
    Exporter::Tiny           1        1.002002  
    File::Slurp              0        9999.32   
    HTTP::Negotiate          0        6.01      
    IRI                      0.005    0.011     
    JSON                     0        4.03      
    List::MoreUtils          0        0.430     
    LWP::UserAgent           0        6.58      
    Math::Cartesian::Product 1.008    1.009     
    Module::Pluggable        0        5.2       
    Moo                      2.000002 2.005004  
    MooX::Log::Any           0        0.004004  
    namespace::clean         0        0.27      
    perl                     5.014    5.035006  
    PerlIO::Layers           0        0.012     
    Role::Tiny               2.000003 2.002004  
    Set::Scalar              0        1.29      
    Sub::Install             0        0.928     
    Sub::Util                1.4      1.60      
    Test::Modern             0.012    0.013     
    Test::Moose              0        2.2015    
    Test::Roo                0        1.004     
    Text::CSV                0        2.01      
    Text::Table              0        1.134     
    Try::Tiny                0        0.30      
    Type::Tiny               0        1.012004  
    URI::Escape              1.36     5.10      
    URI::NamespaceMap        0.12     1.10      
    UUID::Tiny               0        1.04      
    XML::SAX                 0        1.02      

build_requires:

    Module                   Need     Have      
    ------------------------ -------- ----------
    ExtUtils::MakeMaker      6.59     7.62      
    HTTP::Message::PSGI      0        0         
    Regexp::Common           0        2017060201
    Test::Exception          0        0.43      
    Test::LWP::UserAgent     0        0.034     
    Test::More               0.88     1.302188  
    Test::Requires           0        0.11      
    XML::Simple              0        2.25      

configure_requires:

    Module                   Need     Have      
    ------------------------ -------- ----------
    ExtUtils::MakeMaker      6.59     7.62      


------------------------------
ENVIRONMENT AND OTHER CONTEXT
------------------------------

Environment variables:

    AUTOMATED_TESTING = 1
    DATE_MANIP_TEST_DM5 = 1
    LANG = C.UTF-8
    LC_ALL = C
    NONINTERACTIVE_TESTING = 1
    PATH = /home/cpan/bin/perl-blead/bin:/home/cpan/bin:/sbin:/bin:/usr/sbin:/usr/bin:/usr/local/sbin:/usr/local/bin:/home/cpan/bin
    PERL5LIB = 
    PERL5OPT = 
    PERL5_CPANPLUS_IS_RUNNING = 28794
    PERL5_CPAN_IS_RUNNING = 28794
    PERL_MM_USE_DEFAULT = 1
    PERL_USE_UNSAFE_INC = 1
    PERL_VERSION = blead
    SHELL = /usr/local/bin/bash
    TERM = screen
    TMPDIR = /home/cpan/tmp

Perl special variables (and OS-specific diagnostics, for MSWin32):

    $^X = /usr/home/cpan/bin/perl-blead/bin/perl5.35.6
    $UID/$EUID = 1002 / 1002
    $GID = 1002 1002
    $EGID = 1002 1002

Perl module toolchain versions installed:

    Module              Have    
    ------------------- --------
    CPAN                2.28    
    CPAN::Meta          2.150010
    Cwd                 3.82    
    ExtUtils::CBuilder  0.280236
    ExtUtils::Command   7.62    
    ExtUtils::Install   2.20    
    ExtUtils::MakeMaker 7.62    
    ExtUtils::Manifest  1.73    
    ExtUtils::ParseXS   3.44    
    File::Spec          3.81    
    JSON                4.03    
    JSON::PP            4.06    
    Module::Build       0.4231  
    Module::Signature   n/a     
    Parse::CPAN::Meta   2.150010
    Test::Harness       3.43    
    Test::More          1.302188
    YAML                1.30    
    YAML::Syck          1.34    
    version             0.9929  


--

Summary of my perl5 (revision 5 version 35 subversion 6) configuration:
  Commit id: 7ab87c659307da75dc357c899b32dce31a1c6c02
  Platform:
    osname=freebsd
    osvers=14.0-current
    archname=amd64-freebsd-thread-multi
    uname='freebsd cjg-freebsd14 14.0-current freebsd 14.0-current #0 main-n250051-04c91ac48ad: thu oct 14 08:03:39 utc 2021 root@localhost.localdomain:usrobjusrsrcamd64.amd64sysgeneric amd64 '
    config_args='-des -Dprefix=~/bin/perl-blead -Dscriptdir=~/bin/perl-blead/bin -Dusedevel -Duse64bitall -Duseithreads'
    hint=recommended
    useposix=true
    d_sigaction=define
    useithreads=define
    usemultiplicity=define
    use64bitint=define
    use64bitall=define
    uselongdouble=undef
    usemymalloc=n
    default_inc_excludes_dot=define
  Compiler:
    cc='cc'
    ccflags ='-DHAS_FPSETMASK -DHAS_FLOATINGPOINT_H -fno-strict-aliasing -pipe -fstack-protector-strong -I/usr/local/include'
    optimize='-O2'
    cppflags='-DHAS_FPSETMASK -DHAS_FLOATINGPOINT_H -fno-strict-aliasing -pipe -fstack-protector-strong -I/usr/local/include'
    ccversion=''
    gccversion='FreeBSD Clang 12.0.1 (git@github.com:llvm/llvm-project.git llvmorg-12.0.1-0-gfed41342a82f)'
    gccosandvers=''
    intsize=4
    longsize=8
    ptrsize=8
    doublesize=8
    byteorder=12345678
    doublekind=3
    d_longlong=define
    longlongsize=8
    d_longdbl=define
    longdblsize=16
    longdblkind=3
    ivtype='long'
    ivsize=8
    nvtype='double'
    nvsize=8
    Off_t='off_t'
    lseeksize=8
    alignbytes=8
    prototype=define
  Linker and Libraries:
    ld='cc'
    ldflags ='-pthread -Wl,-E  -fstack-protector-strong -L/usr/local/lib'
    libpth=/usr/lib /usr/local/lib /usr/lib/clang/12.0.1/lib
    libs=-lpthread -ldl -lm -lcrypt -lutil
    perllibs=-lpthread -ldl -lm -lcrypt -lutil
    libc=
    so=so
    useshrplib=false
    libperl=libperl.a
    gnulibc_version=''
  Dynamic Linking:
    dlsrc=dl_dlopen.xs
    dlext=so
    d_dlsymun=undef
    ccdlflags=' '
    cccdlflags='-DPIC -fPIC'
    lddlflags='-shared  -L/usr/local/lib -fstack-protector-strong'


Characteristics of this binary (from libperl): 
  Compile-time options:
    HAS_TIMES
    MULTIPLICITY
    PERLIO_LAYERS
    PERL_COPY_ON_WRITE
    PERL_DONT_CREATE_GVSV
    PERL_MALLOC_WRAP
    PERL_OP_PARENT
    PERL_PRESERVE_IVUV
    PERL_USE_DEVEL
    USE_64_BIT_ALL
    USE_64_BIT_INT
    USE_ITHREADS
    USE_LARGE_FILES
    USE_LOCALE
    USE_LOCALE_COLLATE
    USE_LOCALE_CTYPE
    USE_LOCALE_NUMERIC
    USE_LOCALE_TIME
    USE_PERLIO
    USE_PERL_ATOF
    USE_REENTRANT_API
    USE_THREAD_SAFE_LOCALE
  Built under freebsd
  Compiled at Oct 27 2021 20:19:04
  %ENV:
    PERL5LIB=""
    PERL5OPT=""
    PERL5_CPANPLUS_IS_RUNNING="28794"
    PERL5_CPAN_IS_RUNNING="28794"
    PERL_MM_USE_DEFAULT="1"
    PERL_USE_UNSAFE_INC="1"
    PERL_VERSION="blead"
  @INC:
    /home/cpan/bin/perl-blead/lib/site_perl/5.35.6/amd64-freebsd-thread-multi
    /home/cpan/bin/perl-blead/lib/site_perl/5.35.6
    /home/cpan/bin/perl-blead/lib/5.35.6/amd64-freebsd-thread-multi
    /home/cpan/bin/perl-blead/lib/5.35.6
    .