Report for Coro-6.42

Back
From: metabase:user:7298ebcc-b357-11e4-8d18-8eca7e4756b9
Subject: PASS Coro-6.42 v5.21.9 GNU/Linux
Date: 2015-03-04T18:34:09Z

This distribution has been tested as part of the CPAN Testers
project, supporting the Perl programming language.  See
http://wiki.cpantesters.org/ for more information or email
questions to cpan-testers-discuss@perl.org


--
Dear MLEHMANN,

This is a computer-generated report for Coro-6.42
on perl 5.21.9, created by App::cpanminus::reporter 0.12 (1.7027).

Thank you for uploading your work to CPAN.  Congratulations!
All tests were successful.

Sections of this report:

    * Tester comments
    * Program output
    * Prerequisites
    * Environment and other context

------------------------------
TESTER COMMENTS
------------------------------

Additional comments from tester:

none provided

------------------------------
PROGRAM OUTPUT
------------------------------

Output from '':

Building and testing Coro-6.42
cp Coro/Debug.pm blib/lib/Coro/Debug.pm
cp Coro/Select.pm blib/lib/Coro/Select.pm
cp Coro/CoroAPI.h blib/lib/Coro/CoroAPI.h
cp Coro/SemaphoreSet.pm blib/lib/Coro/SemaphoreSet.pm
cp Coro/BDB.pm blib/lib/Coro/BDB.pm
cp Coro/RWLock.pm blib/lib/Coro/RWLock.pm
cp Coro.pm blib/lib/Coro.pm
cp Coro/AIO.pm blib/lib/Coro/AIO.pm
cp Coro/jit-x86-unix.pl blib/lib/Coro/jit-x86-unix.pl
cp Coro/Semaphore.pm blib/lib/Coro/Semaphore.pm
cp Coro/Timer.pm blib/lib/Coro/Timer.pm
cp Coro/Signal.pm blib/lib/Coro/Signal.pm
cp Coro/Specific.pm blib/lib/Coro/Specific.pm
cp Coro/State.pm blib/lib/Coro/State.pm
cp Coro/jit-amd64-unix.pl blib/lib/Coro/jit-amd64-unix.pl
cp Coro/Storable.pm blib/lib/Coro/Storable.pm
cp Coro/AnyEvent.pm blib/lib/Coro/AnyEvent.pm
cp Coro/Util.pm blib/lib/Coro/Util.pm
cp Coro/Socket.pm blib/lib/Coro/Socket.pm
cp Coro/LWP.pm blib/lib/Coro/LWP.pm
cp Coro/MakeMaker.pm blib/lib/Coro/MakeMaker.pm
cp Coro/Channel.pm blib/lib/Coro/Channel.pm
cp Coro/Handle.pm blib/lib/Coro/Handle.pm
make[1]: Entering directory `/home/mojolicious/.cpanm/work/1425493977.28705/Coro-6.42/Coro'
Skip ../blib/lib/Coro/BDB.pm (unchanged)
Skip ../blib/lib/Coro/State.pm (unchanged)
Skip ../blib/lib/Coro/jit-amd64-unix.pl (unchanged)
Skip ../blib/lib/Coro/AnyEvent.pm (unchanged)
Skip ../blib/lib/Coro/Handle.pm (unchanged)
Skip ../blib/lib/Coro/Util.pm (unchanged)
Skip ../blib/lib/Coro/Socket.pm (unchanged)
Skip ../blib/lib/Coro/Timer.pm (unchanged)
Skip ../blib/lib/Coro/Select.pm (unchanged)
Skip ../blib/lib/Coro/RWLock.pm (unchanged)
Skip ../blib/lib/Coro/MakeMaker.pm (unchanged)
Skip ../blib/lib/Coro/SemaphoreSet.pm (unchanged)
Skip ../blib/lib/Coro/Channel.pm (unchanged)
Skip ../blib/lib/Coro/LWP.pm (unchanged)
Skip ../blib/lib/Coro/AIO.pm (unchanged)
cp Intro.pod ../blib/lib/Coro/Intro.pod
Skip ../blib/lib/Coro/jit-x86-unix.pl (unchanged)
Skip ../blib/lib/Coro/Signal.pm (unchanged)
Skip ../blib/lib/Coro/Specific.pm (unchanged)
Skip ../blib/lib/Coro/Debug.pm (unchanged)
Skip ../blib/lib/Coro/Semaphore.pm (unchanged)
Skip ../blib/lib/Coro/Storable.pm (unchanged)
Running Mkbootstrap for Coro::State ()
chmod 644 State.bs
/home/mojolicious/perl5/perlbrew/perls/perl-5.20.1/bin/perl /home/mojolicious/perl5/perlbrew/perls/perl-5.20.1/lib/5.20.1/ExtUtils/xsubpp  -typemap /home/mojolicious/perl5/perlbrew/perls/perl-5.20.1/lib/5.20.1/ExtUtils/typemap -typemap typemap  State.xs > State.xsc && mv State.xsc State.c
Warning: Aliases 'is_zombie' and 'is_destroyed' have identical values in State.xs, line 3669
cc -c   -fwrapv -fno-strict-aliasing -pipe -fstack-protector -I/usr/local/include -D_LARGEFILE_SOURCE -D_FILE_OFFSET_BITS=64 -O2   -DVERSION=\"6.42\" -DXS_VERSION=\"6.42\" -fPIC "-I/home/mojolicious/perl5/perlbrew/perls/perl-5.20.1/lib/5.20.1/x86_64-linux/CORE"  -DCORO_ASM -DCORO_STACKSIZE=16384 -DCORO_GUARDPAGES=4 -DCORO_JIT=1 State.c
rm -f ../blib/arch/auto/Coro/State/State.so
cc  -shared -O2 -L/usr/local/lib -fstack-protector State.o  -o ../blib/arch/auto/Coro/State/State.so 	\
	     	\
	  
chmod 755 ../blib/arch/auto/Coro/State/State.so
/home/mojolicious/perl5/perlbrew/perls/perl-5.20.1/bin/perl -MExtUtils::Command::MM -e 'cp_nonempty' -- State.bs ../blib/arch/auto/Coro/State/State.bs 644
Manifying ../blib/man3/Coro::AIO.3
Manifying ../blib/man3/Coro::AnyEvent.3
Manifying ../blib/man3/Coro::BDB.3
Manifying ../blib/man3/Coro::Channel.3
Manifying ../blib/man3/Coro::Debug.3
Manifying ../blib/man3/Coro::Handle.3
Manifying ../blib/man3/Coro::Intro.3
Manifying ../blib/man3/Coro::LWP.3
Manifying ../blib/man3/Coro::MakeMaker.3
Manifying ../blib/man3/Coro::RWLock.3
Manifying ../blib/man3/Coro::Select.3
Manifying ../blib/man3/Coro::Semaphore.3
Manifying ../blib/man3/Coro::SemaphoreSet.3
Manifying ../blib/man3/Coro::Signal.3
Manifying ../blib/man3/Coro::Socket.3
Manifying ../blib/man3/Coro::Specific.3
Manifying ../blib/man3/Coro::State.3
Manifying ../blib/man3/Coro::Storable.3
Manifying ../blib/man3/Coro::Timer.3
Manifying ../blib/man3/Coro::Util.3
make[1]: Leaving directory `/home/mojolicious/.cpanm/work/1425493977.28705/Coro-6.42/Coro'
Manifying blib/man3/Coro.3
make[1]: Entering directory `/home/mojolicious/.cpanm/work/1425493977.28705/Coro-6.42/Coro'
Running Mkbootstrap for Coro::State ()
chmod 644 State.bs
make[1]: Leaving directory `/home/mojolicious/.cpanm/work/1425493977.28705/Coro-6.42/Coro'
PERL_DL_NONLAZY=1 /home/mojolicious/perl5/perlbrew/perls/perl-5.20.1/bin/perl "-MExtUtils::Command::MM" "-MTest::Harness" "-e" "undef *Test::Harness::Switches; test_harness(0, 'blib/lib', 'blib/arch')" t/*.t
t/00_basic.t .......... ok
t/01_process.t ........ ok
t/02_channel.t ........ ok
t/03_channel.t ........ ok
t/04_rwlock.t ......... ok
t/05_specific.t ....... ok
t/06_prio.t ........... ok
t/07_eval.t ........... ok
t/08_join.t ........... ok
t/10_bugs.t ........... ok
t/11_deadlock.t ....... ok
t/12_exit.t ........... ok
t/13_diewarn.t ........ ok
t/14_load.t ........... ok
t/15_semaphore.t ...... ok
t/16_signal.t ......... ok
t/17_rouse.t .......... ok
t/18_winder.t ......... ok
t/19_handle.t ......... ok
t/20_mutual_cancel.t .. ok
All tests successful.
Files=20, Tests=196,  1 wallclock secs ( 0.08 usr  0.02 sys +  0.45 cusr  0.07 csys =  0.62 CPU)
Result: PASS

------------------------------
PREREQUISITES
------------------------------

Prerequisite modules loaded:

runtime:

    Module              Need Have
    ------------------- ---- ----
  ! AnyEvent            5    n/a 
  ! common::sense       0    n/a 
  ! Guard               0.5  n/a 
    Scalar::Util        0    1.41
    Storable            2.15 2.53

build:

    Module              Need Have
    ------------------- ---- ----
    ExtUtils::MakeMaker 0    7.04

configure:

    Module              Need Have
    ------------------- ---- ----
    ExtUtils::MakeMaker 0    7.04


------------------------------
ENVIRONMENT AND OTHER CONTEXT
------------------------------

Environment variables:

    PATH = /home/mojolicious/perl5/perlbrew/bin:/home/mojolicious/perl5/perlbrew/perls/perl-5.20.1/bin:/usr/local/bin:/usr/bin:/bin:/usr/local/games:/usr/games
    PERLBREW_BASHRC_VERSION = 0.73
    PERLBREW_HOME = /home/mojolicious/.perlbrew
    PERLBREW_MANPATH = /home/mojolicious/perl5/perlbrew/perls/perl-5.20.1/man
    PERLBREW_PATH = /home/mojolicious/perl5/perlbrew/bin:/home/mojolicious/perl5/perlbrew/perls/perl-5.20.1/bin
    PERLBREW_PERL = perl-5.20.1
    PERLBREW_ROOT = /home/mojolicious/perl5/perlbrew
    PERLBREW_VERSION = 0.73
    SHELL = /bin/bash
    TERM = xterm

Perl special variables (and OS-specific diagnostics, for MSWin32):

    EGID = 1003 1003
    EUID = 1003
    EXECUTABLE_NAME = /home/mojolicious/perl5/perlbrew/perls/perl-5.21.9/bin/perl5.21.9
    GID = 1003 1003
    UID = 1003

Perl module toolchain versions installed:

    Module              Have        
    ------------------- ------------
    CPAN                2.05        
    CPAN::Meta          2.143240    
    Cwd                 3.54        
    ExtUtils::CBuilder  0.280221    
    ExtUtils::Command   1.20        
    ExtUtils::Install   2.04        
    ExtUtils::MakeMaker 7.04        
    ExtUtils::Manifest  1.70        
    ExtUtils::ParseXS   3.27        
    File::Spec          3.53        
    JSON                2.90        
    JSON::PP            2.27300     
    Module::Build       0.4211      
    Module::Signature   n/a         
    Parse::CPAN::Meta   1.4414      
    Test::Harness       3.35        
    Test::More          1.301001_098
    YAML                n/a         
    YAML::Syck          n/a         
    version             0.9909      


--

Summary of my perl5 (revision 5 version 21 subversion 9) configuration:
   
  Platform:
    osname=linux, osvers=3.13.0-042stab094.8, archname=x86_64-linux
    uname='linux lvps92-51-161-142.dedicated.hosteurope.de 3.13.0-042stab094.8 #1 smp tue dec 16 20:36:56 msk 2014 x86_64 x86_64 x86_64 gnulinux '
    config_args='-de -Dprefix=/home/mojolicious/perl5/perlbrew/perls/perl-5.21.9 -Dusedevel -Aeval:scriptdir=/home/mojolicious/perl5/perlbrew/perls/perl-5.21.9/bin'
    hint=recommended, useposix=true, d_sigaction=define
    useithreads=undef, usemultiplicity=undef
    use64bitint=define, use64bitall=define, uselongdouble=undef
    usemymalloc=n, bincompat5005=undef
  Compiler:
    cc='cc', ccflags ='-fwrapv -fno-strict-aliasing -pipe -fstack-protector -I/usr/local/include -D_LARGEFILE_SOURCE -D_FILE_OFFSET_BITS=64',
    optimize='-O2',
    cppflags='-fwrapv -fno-strict-aliasing -pipe -fstack-protector -I/usr/local/include'
    ccversion='', gccversion='4.8.2', gccosandvers=''
    intsize=4, longsize=8, ptrsize=8, doublesize=8, byteorder=12345678, doublekind=3
    d_longlong=define, longlongsize=8, d_longdbl=define, longdblsize=16, longdblkind=3
    ivtype='long', ivsize=8, nvtype='double', nvsize=8, Off_t='off_t', lseeksize=8
    alignbytes=8, prototype=define
  Linker and Libraries:
    ld='cc', ldflags =' -fstack-protector -L/usr/local/lib'
    libpth=/usr/local/lib /usr/lib/gcc/x86_64-linux-gnu/4.8/include-fixed /usr/include/x86_64-linux-gnu /usr/lib /lib/x86_64-linux-gnu /lib/../lib /usr/lib/x86_64-linux-gnu /usr/lib/../lib /lib
    libs=-lpthread -lnsl -ldl -lm -lcrypt -lutil -lc
    perllibs=-lpthread -lnsl -ldl -lm -lcrypt -lutil -lc
    libc=libc-2.19.so, so=so, useshrplib=false, libperl=libperl.a
    gnulibc_version='2.19'
  Dynamic Linking:
    dlsrc=dl_dlopen.xs, dlext=so, d_dlsymun=undef, ccdlflags='-Wl,-E'
    cccdlflags='-fPIC', lddlflags='-shared -O2 -L/usr/local/lib -fstack-protector'


Characteristics of this binary (from libperl): 
  Compile-time options: HAS_TIMES PERLIO_LAYERS PERL_DONT_CREATE_GVSV
                        PERL_HASH_FUNC_ONE_AT_A_TIME_HARD PERL_MALLOC_WRAP
                        PERL_NEW_COPY_ON_WRITE PERL_PRESERVE_IVUV
                        PERL_USE_DEVEL USE_64_BIT_ALL USE_64_BIT_INT
                        USE_LARGE_FILES USE_LOCALE USE_LOCALE_COLLATE
                        USE_LOCALE_CTYPE USE_LOCALE_NUMERIC USE_LOCALE_TIME
                        USE_PERLIO USE_PERL_ATOF
  Locally applied patches:
	Devel::PatchPerl 1.30
  Built under linux
  Compiled at Feb 21 2015 17:39:22
  %ENV:
    PERLBREW_BASHRC_VERSION="0.73"
    PERLBREW_HOME="/home/mojolicious/.perlbrew"
    PERLBREW_MANPATH="/home/mojolicious/perl5/perlbrew/perls/perl-5.20.1/man"
    PERLBREW_PATH="/home/mojolicious/perl5/perlbrew/bin:/home/mojolicious/perl5/perlbrew/perls/perl-5.20.1/bin"
    PERLBREW_PERL="perl-5.20.1"
    PERLBREW_ROOT="/home/mojolicious/perl5/perlbrew"
    PERLBREW_VERSION="0.73"
  @INC:
    /home/mojolicious/perl5/perlbrew/perls/perl-5.21.9/lib/site_perl/5.21.9/x86_64-linux
    /home/mojolicious/perl5/perlbrew/perls/perl-5.21.9/lib/site_perl/5.21.9
    /home/mojolicious/perl5/perlbrew/perls/perl-5.21.9/lib/5.21.9/x86_64-linux
    /home/mojolicious/perl5/perlbrew/perls/perl-5.21.9/lib/5.21.9
    .